BEGIN:VCALENDAR
VERSION:2.0
PRODID:-//Congregation Tifereth Israel - ECPv6.15.17.1//NONSGML v1.0//EN
CALSCALE:GREGORIAN
METHOD:PUBLISH
X-WR-CALNAME:Congregation Tifereth Israel
X-ORIGINAL-URL:https://ctionline.org
X-WR-CALDESC:Events for Congregation Tifereth Israel
REFRESH-INTERVAL;VALUE=DURATION:PT1H
X-Robots-Tag:noindex
X-PUBLISHED-TTL:PT1H
BEGIN:VTIMEZONE
TZID:America/New_York
BEGIN:DAYLIGHT
TZOFFSETFROM:-0500
TZOFFSETTO:-0400
TZNAME:EDT
DTSTART:20240310T070000
END:DAYLIGHT
BEGIN:STANDARD
TZOFFSETFROM:-0400
TZOFFSETTO:-0500
TZNAME:EST
DTSTART:20241103T060000
END:STANDARD
BEGIN:DAYLIGHT
TZOFFSETFROM:-0500
TZOFFSETTO:-0400
TZNAME:EDT
DTSTART:20250309T070000
END:DAYLIGHT
BEGIN:STANDARD
TZOFFSETFROM:-0400
TZOFFSETTO:-0500
TZNAME:EST
DTSTART:20251102T060000
END:STANDARD
BEGIN:DAYLIGHT
TZOFFSETFROM:-0500
TZOFFSETTO:-0400
TZNAME:EDT
DTSTART:20260308T070000
END:DAYLIGHT
BEGIN:STANDARD
TZOFFSETFROM:-0400
TZOFFSETTO:-0500
TZNAME:EST
DTSTART:20261101T060000
END:STANDARD
END:VTIMEZONE
BEGIN:VEVENT
DTSTART;TZID=America/New_York:20251012T160000
DTEND;TZID=America/New_York:20251012T190000
DTSTAMP:20260421T124021
CREATED:20250929T193959Z
LAST-MODIFIED:20250929T194002Z
UID:10008914-1760284800-1760295600@ctionline.org
SUMMARY:The Rabbi's Annual Open Sukkah
DESCRIPTION:🎉 Join Us for a Festive Sukkot Celebration! 🎉\nCelebrate the season of thanksgiving and hospitality with an afternoon of joy\, community\, and music! \n📅 Date: Sunday\, October 12th\, 2025\n⏰ Time: 4:00 PM to 7:00 PM\n📍 Location: 36 Oak Lane\, Glen Cove\, NY 11542 \n✨ What to Expect: \nDelicious drinks and snacks to enjoy.\nA lively music jam to lift your spirits.\nA warm and welcoming atmosphere to celebrate the bounty of life.\nHosted by Congregation Tifereth Israel\, this event is the perfect way to connect\, unwind\, and embrace the sacred season. \n📞 Contact Us: \nPhone: (516) 676-5080\nWebsite: www.ctionline.org\nEmail: office@ctionline.org\nBring your friends and family—we can’t wait to celebrate with you! 🎶🍂
URL:https://ctionline.org/event/the-rabbis-annual-open-sukkah/
LOCATION:Congregation Tifereth Israel\, 40 Hill Street\, Glen Cove\, NY\, 11542\, United States
END:VEVENT
BEGIN:VEVENT
DTSTART;TZID=America/New_York:20251012T093000
DTEND;TZID=America/New_York:20251012T150000
DTSTAMP:20260421T124021
CREATED:20250930T033955Z
LAST-MODIFIED:20250930T034029Z
UID:10008921-1760261400-1760281200@ctionline.org
SUMMARY:Limud Sukkah Hop
DESCRIPTION:Passcode: Minyan
URL:https://ctionline.org/event/limud-sukkah-hop/
LOCATION:Congregation Tifereth Israel\, 40 Hill Street\, Glen Cove\, NY\, 11542\, United States
CATEGORIES:Holidays
END:VEVENT
BEGIN:VEVENT
DTSTART;TZID=America/New_York:20251011T100000
DTEND;TZID=America/New_York:20251011T110000
DTSTAMP:20260421T124021
CREATED:20250930T033747Z
LAST-MODIFIED:20250930T033750Z
UID:10008920-1760176800-1760180400@ctionline.org
SUMMARY:Shabbat Services
DESCRIPTION:
URL:https://ctionline.org/event/shabbat-services-4/
LOCATION:Congregation Tifereth Israel\, 40 Hill Street\, Glen Cove\, NY\, 11542\, United States
CATEGORIES:Holidays
ORGANIZER;CN="CTI Office":MAILTO:office@ctionline.org
END:VEVENT
BEGIN:VEVENT
DTSTART;TZID=America/New_York:20251010T190000
DTEND;TZID=America/New_York:20251010T203000
DTSTAMP:20260421T124021
CREATED:20250403T221850Z
LAST-MODIFIED:20250930T033434Z
UID:10004120-1760122800-1760128200@ctionline.org
SUMMARY:Musical Shabbat Services
DESCRIPTION:
URL:https://ctionline.org/event/kabbalat-musical-shabbat-6/
LOCATION:Congregation Tifereth Israel\, 40 Hill Street\, Glen Cove\, NY\, 11542\, United States
CATEGORIES:Holidays
END:VEVENT
BEGIN:VEVENT
DTSTART;TZID=America/New_York:20251008T100000
DTEND;TZID=America/New_York:20251008T120000
DTSTAMP:20260421T124021
CREATED:20250902T165402Z
LAST-MODIFIED:20251001T193451Z
UID:10007227-1759917600-1759924800@ctionline.org
SUMMARY:Sukkot - Day 2
DESCRIPTION:Holiday ends: 7:06 pm
URL:https://ctionline.org/event/sukkot-day-2/
LOCATION:Congregation Tifereth Israel\, 40 Hill Street\, Glen Cove\, NY\, 11542\, United States
CATEGORIES:Holidays,Services
ATTACH;FMTTYPE=image/jpeg:https://ctionline.org/wp-content/uploads/2025/09/Sukkot-1.jpg
END:VEVENT
BEGIN:VEVENT
DTSTART;TZID=America/New_York:20251007T100000
DTEND;TZID=America/New_York:20251007T120000
DTSTAMP:20260421T124021
CREATED:20250902T165226Z
LAST-MODIFIED:20251001T193305Z
UID:10007226-1759831200-1759838400@ctionline.org
SUMMARY:Sukkot - Day 1
DESCRIPTION:Light Holiday Candles after 7:08 pm – from a pre-existing flame
URL:https://ctionline.org/event/sukkot-day-1/
LOCATION:Congregation Tifereth Israel\, 40 Hill Street\, Glen Cove\, NY\, 11542\, United States
CATEGORIES:Holidays,Services
ATTACH;FMTTYPE=image/jpeg:https://ctionline.org/wp-content/uploads/2025/09/Sukkot-3.jpg
END:VEVENT
BEGIN:VEVENT
DTSTART;TZID=America/New_York:20251007T100000
DTEND;TZID=America/New_York:20251007T110000
DTSTAMP:20260421T124021
CREATED:20250929T203213Z
LAST-MODIFIED:20250929T204815Z
UID:10008915-1759831200-1759834800@ctionline.org
SUMMARY:Sukkot Services
DESCRIPTION:Passcode: Minyan
URL:https://ctionline.org/event/sukkot-services/
LOCATION:Congregation Tifereth Israel\, 40 Hill Street\, Glen Cove\, NY\, 11542\, United States
CATEGORIES:Holidays
ATTACH;FMTTYPE=image/jpeg:https://ctionline.org/wp-content/uploads/2025/09/Sukkot-1.jpg
END:VEVENT
BEGIN:VEVENT
DTSTART;TZID=America/New_York:20251006T180000
DTEND;TZID=America/New_York:20251006T200000
DTSTAMP:20260421T124021
CREATED:20250902T165101Z
LAST-MODIFIED:20251001T193610Z
UID:10007225-1759773600-1759780800@ctionline.org
SUMMARY:Erev Sukkot
DESCRIPTION:Candle Lighting: 6:11 PM
URL:https://ctionline.org/event/erev-sukkot-2/
LOCATION:Congregation Tifereth Israel\, 40 Hill Street\, Glen Cove\, NY\, 11542\, United States
CATEGORIES:Holidays,Services
END:VEVENT
BEGIN:VEVENT
DTSTART;VALUE=DATE:20251006
DTEND;VALUE=DATE:20251007
DTSTAMP:20260421T124021
CREATED:20250930T032605Z
LAST-MODIFIED:20251001T193243Z
UID:10008919-1759708800-1759795199@ctionline.org
SUMMARY:Sukkot Begins Monday\, Oct. 6
DESCRIPTION:Order Your Personal Lulav & Etrog Set!\nWe will be going to Main Street\, in Flushing to personally select Lulavs & Etrogs for you and your family as we begin the holiday of Sukkot. \nLet us know if you would like us to buy a set for you. The cost is $50.00 per pair. \nCelebrate this wonderful festival of thanksgiving with your own Lulav & Etrog. \nClick here to order \nOr call the office 516-676-5080 or email BarbaraL@ctionline.org to place your order by Friday\, Oct. 3.
URL:https://ctionline.org/event/sukkot-begins-monday-oct-6/
LOCATION:Congregation Tifereth Israel\, 40 Hill Street\, Glen Cove\, NY\, 11542\, United States
CATEGORIES:Holidays
ATTACH;FMTTYPE=image/jpeg:https://ctionline.org/wp-content/uploads/2025/09/Sukkot-2.jpg
END:VEVENT
BEGIN:VEVENT
DTSTART;TZID=America/New_York:20251002T093000
DTEND;TZID=America/New_York:20251002T191800
DTSTAMP:20260421T124021
CREATED:20250825T151706Z
LAST-MODIFIED:20250825T224258Z
UID:10004581-1759397400-1759432680@ctionline.org
SUMMARY:Yom Kippur
DESCRIPTION:Main Service 9:30 am\nFamily Services 10:30 am\nBlessing of the Children 11:30 am\nChildren’s Activity 11:45 am\nCantor’s Prayer (Hineni) 11:45 am\nRabbi’s Sermon Noon\nYizkor & Alternative Yizkor 12:20 pm\nNera-LI Peer Support 1:00 pm\nPriestly Blessing 1:50 pm\nBreak 2:15 pm\nAfternoon (Mincha) Service 5:15 pm\nClosing (Ne’ila) Service 6:15 pm\nWe Approach the Ark 6:30 pm\nHavdalah & Children’s Procession 7:10 pm\nShofar Blowing / Break Fast 7:18 pm\n\nOrder Tickets\n\nTickets required for seating in sanctuary.\nTickets not required for Family Service in tent.\nGuaranteed seat locations only for members with lifetime ownership of seats* (Even if you own lifetime seats\, please complete and submit this form.) WE MUST KNOW THE TOTAL NUMBER OF SEATS YOU NEED.
URL:https://ctionline.org/event/yom-kippur/
LOCATION:Congregation Tifereth Israel\, 40 Hill Street\, Glen Cove\, NY\, 11542\, United States
CATEGORIES:High Holidays,Holidays
END:VEVENT
BEGIN:VEVENT
DTSTART;TZID=America/New_York:20251001T180000
DTEND;TZID=America/New_York:20251001T200000
DTSTAMP:20260421T124021
CREATED:20250902T164924Z
LAST-MODIFIED:20250902T164924Z
UID:10007224-1759341600-1759348800@ctionline.org
SUMMARY:Kol Nidre
DESCRIPTION:Candle Lighting: 6:19 PM
URL:https://ctionline.org/event/kol-nidre-2/
LOCATION:Congregation Tifereth Israel\, 40 Hill Street\, Glen Cove\, NY\, 11542\, United States
CATEGORIES:Services
END:VEVENT
BEGIN:VEVENT
DTSTART;TZID=America/New_York:20251001T180000
DTEND;TZID=America/New_York:20251001T181500
DTSTAMP:20260421T124021
CREATED:20250825T151142Z
LAST-MODIFIED:20250825T224134Z
UID:10004577-1759341600-1759342500@ctionline.org
SUMMARY:Yom Kippur Eve
DESCRIPTION:Pre-Kol Nidre Cello Prelude 6:00 pm\nKol Nidre Parade & Service 6:15 pm\nPresident’s Message 6:50 pm\nRabbi’s Sermon 7:00 pm\nServices End 7:40 pm\n\nOrder Tickets\n\nTickets required for seating in sanctuary.\nTickets not required for Family Service in tent.\nGuaranteed seat locations only for members with lifetime ownership of seats* (Even if you own lifetime seats\, please complete and submit this form.) WE MUST KNOW THE TOTAL NUMBER OF SEATS YOU NEED.
URL:https://ctionline.org/event/yom-kippur-eve/
LOCATION:Congregation Tifereth Israel\, 40 Hill Street\, Glen Cove\, NY\, 11542\, United States
CATEGORIES:High Holidays,Holidays
END:VEVENT
BEGIN:VEVENT
DTSTART;TZID=America/New_York:20250924T094500
DTEND;TZID=America/New_York:20250924T131500
DTSTAMP:20260421T124021
CREATED:20250825T150409Z
LAST-MODIFIED:20250825T224054Z
UID:10004569-1758707100-1758719700@ctionline.org
SUMMARY:Rosh Hashanah – Day 2
DESCRIPTION:Main Service9:45 am\nFamily Services 10:30 am\nBlessing of the Children 11:30 am\nShofar Service 11:45 am\nChildren’s Activity 12:00 pm\nTorah ‘Reiki’ Healing Service 12:00 pm\nCantor’s Prayer (Hineni) 12:15 pm\nRabbi’s Sermon 12:20 pm\nNera-LI Peer Support 1:00 pm\nServices End 1:15 pm\n\nOrder Tickets\n\nTickets required for seating in sanctuary.\nTickets not required for Family Service in tent.\nGuaranteed seat locations only for members with lifetime ownership of seats* (Even if you own lifetime seats\, please complete and submit this form.) WE MUST KNOW THE TOTAL NUMBER OF SEATS YOU NEED.\n\n 
URL:https://ctionline.org/event/rosh-hashanah-day-2-main-service/
LOCATION:Congregation Tifereth Israel\, 40 Hill Street\, Glen Cove\, NY\, 11542\, United States
CATEGORIES:High Holidays,Holidays
END:VEVENT
BEGIN:VEVENT
DTSTART;TZID=America/New_York:20250923T094500
DTEND;TZID=America/New_York:20250923T131500
DTSTAMP:20260421T124021
CREATED:20250825T144934Z
LAST-MODIFIED:20250905T193949Z
UID:10004559-1758620700-1758633300@ctionline.org
SUMMARY:Rosh Hashanah – Day 1
DESCRIPTION:Main Service 9:45 am\nFamily Services 10:30 am\nBlessing of the Children 11:30 am\nShofar Service 11:45 am\nChildren’s Activity 12:00 pm\nTorah ‘Reiki’ Healing Service 12:00 pm\nCantor’s Prayer (Hineni) 12:15 pm\nRabbi’s Sermon 12:20 pm\nNera-LI Peer Support 1:00 pm\nServices End 1:15 pm\n\nOrder Tickets\n\nTickets required for seating in sanctuary.\nTickets not required for Family Service in tent.\nGuaranteed seat locations only for members with lifetime ownership of seats* (Even if you own lifetime seats\, please complete and submit this form.) WE MUST KNOW THE TOTAL NUMBER OF SEATS YOU NEED.\n\n 
URL:https://ctionline.org/event/rosh-hashanah-day-1-2/
LOCATION:Congregation Tifereth Israel\, 40 Hill Street\, Glen Cove\, NY\, 11542\, United States
CATEGORIES:High Holidays,Holidays
ORGANIZER;CN="CTI Office":MAILTO:office@ctionline.org
END:VEVENT
BEGIN:VEVENT
DTSTART;TZID=America/New_York:20250922T180000
DTEND;TZID=America/New_York:20250922T200000
DTSTAMP:20260421T124021
CREATED:20240305T192023Z
LAST-MODIFIED:20250831T055826Z
UID:10002604-1758564000-1758571200@ctionline.org
SUMMARY:Erev Rosh Hashanah
DESCRIPTION:Candle Lighting: 6:34 PM
URL:https://ctionline.org/event/erev-rosh-hashanah-2025/
LOCATION:Congregation Tifereth Israel\, 40 Hill Street\, Glen Cove\, NY\, 11542\, United States
CATEGORIES:High Holidays,Services
ATTACH;FMTTYPE=image/jpeg:https://ctionline.org/wp-content/uploads/2024/03/Rosh-Hashanah.jpg
ORGANIZER;CN="Rabbi Irwin Huberman":MAILTO:rabbiirwin@ctionline.org
END:VEVENT
BEGIN:VEVENT
DTSTART;TZID=America/New_York:20250921T103000
DTEND;TZID=America/New_York:20250921T120000
DTSTAMP:20260421T124021
CREATED:20250922T221411Z
LAST-MODIFIED:20250922T222535Z
UID:10008912-1758450600-1758456000@ctionline.org
SUMMARY:Discover Upcoming Community Conversations
DESCRIPTION:Join a vibrant gathering designed to spark engaging discussions and foster community connections.\nSunday\, September 21\, 10:30 am – 12:00 pm \nJoin a vibrant gathering designed to spark engaging discussions and foster community connections. \n\nSuggest topics for future discussions by emailing ellen@ctionline.org\nEnjoy bagels and engaging conversation with fellow attendees\nFormat: In-person at Glen Cove\, NY and online via Zoom\nInteractive Element: Attendees are encouraged to suggest topics for future conversations\n\nThis information helps you easily access\, join\, and contribute to a welcoming community event.
URL:https://ctionline.org/event/discover-upcoming-community-conversations/
LOCATION:Congregation Tifereth Israel\, 40 Hill Street\, Glen Cove\, NY\, 11542\, United States
CATEGORIES:Community,Learning
ORGANIZER;CN="CTI Office":MAILTO:office@ctionline.org
END:VEVENT
BEGIN:VEVENT
DTSTART;TZID=America/New_York:20250921T103000
DTEND;TZID=America/New_York:20250921T120000
DTSTAMP:20260421T124021
CREATED:20250829T204122Z
LAST-MODIFIED:20250829T204122Z
UID:10007222-1758450600-1758456000@ctionline.org
SUMMARY:News & Views Current Affairs Discussion Group\, in-person & Zoom
DESCRIPTION:Join Zoom Meeting\nhttps://us06web.zoom.us/j/95157742331 \nMeeting ID: 951 5774 2331\nPasscode: views \n— \nOne tap mobile\n+16469313860\,\,95157742331# US\n+16468769923\,\,95157742331# US (New York) \n— \nDial by your location\n• +1 646 931 3860 US\n• +1 646 876 9923 US (New York)\n• +1 305 224 1968 US\n• +1 309 205 3325 US\n• +1 312 626 6799 US (Chicago)\n• +1 301 715 8592 US (Washington DC)\n• +1 253 215 8782 US (Tacoma)\n• +1 346 248 7799 US (Houston)\n• +1 360 209 5623 US\n• +1 386 347 5053 US\n• +1 408 638 0968 US (San Jose)\n• +1 507 473 4847 US\n• +1 564 217 2000 US\n• +1 669 444 9171 US\n• +1 669 900 6833 US (San Jose)\n• +1 689 278 1000 US\n• +1 719 359 4580 US\n• +1 253 205 0468 US \nMeeting ID: 951 5774 2331 \nFind your local number: https://us06web.zoom.us/u/kdVXKgvvv
URL:https://ctionline.org/event/news-views-current-affairs-discussion-group-in-person-zoom-21/
LOCATION:Congregation Tifereth Israel\, 40 Hill Street\, Glen Cove\, NY\, 11542\, United States
CATEGORIES:Community
END:VEVENT
BEGIN:VEVENT
DTSTART;TZID=America/New_York:20250921T100000
DTEND;TZID=America/New_York:20250921T120000
DTSTAMP:20260421T124021
CREATED:20250922T221120Z
LAST-MODIFIED:20250922T222628Z
UID:10008911-1758448800-1758456000@ctionline.org
SUMMARY:Limud Family Community Event
DESCRIPTION:Join Us for a Limud Family Community Event: Tashlikh at Morgan Park\nSunday\, September 21st 10:00 AM – 12:00 PM  \nCelebrate the Jewish ritual of Tashlikh with us in a day filled with reflection\, renewal\, and fun for the whole family! \nLocation: Morgan Memorial Park\, 9 Glen St.\, Glen Cove \nEvent Highlights: \n\nTashlikh Service: Participate in the meaningful ritual of casting away sins and embracing a fresh start.\nIsraeli Sports: Enjoy engaging activities inspired by Israeli culture.\nLive Music: Experience the joy of live performances that bring the community together.\nArts & Crafts: Get creative with hands-on activities for all ages.\n\nBring your family\, friends\, and neighbors to share in this special celebration of community\, culture\, and spirituality. We look forward to seeing you there! \nLet’s come together to reflect\, renew\, and rejoice!
URL:https://ctionline.org/event/limud-family-community-event/
LOCATION:Congregation Tifereth Israel\, 40 Hill Street\, Glen Cove\, NY\, 11542\, United States
CATEGORIES:Community,Fun
END:VEVENT
BEGIN:VEVENT
DTSTART;TZID=America/New_York:20250919T090000
DTEND;TZID=America/New_York:20250919T110000
DTSTAMP:20260421T124021
CREATED:20250829T185404Z
LAST-MODIFIED:20250829T185512Z
UID:10007221-1758272400-1758279600@ctionline.org
SUMMARY:Challah Baking - Rosh Hashanah
DESCRIPTION:Cost: $18 – pay at the door\nLimited to 10 participants.\nRSBP by 9/16 to: barbarab@ctionline.org
URL:https://ctionline.org/event/challah-baking-rosh-hashanah/
LOCATION:Congregation Tifereth Israel\, 40 Hill Street\, Glen Cove\, NY\, 11542\, United States
CATEGORIES:Services
END:VEVENT
BEGIN:VEVENT
DTSTART;TZID=America/New_York:20250914T103000
DTEND;TZID=America/New_York:20250914T113000
DTSTAMP:20260421T124021
CREATED:20250829T183921Z
LAST-MODIFIED:20250908T011843Z
UID:10007220-1757845800-1757849400@ctionline.org
SUMMARY:CTI’s Book Club
DESCRIPTION:Everyone’s Welcome!\nSunday September 14 10:30 am – On Zoom \n“…A melancholy book that also happens to be hopelessly\, miraculously\, unremittingly funny…[Grade’s] fretful characters vibrate…[and] Rose Waldman’s translation seems miraculous…” –Dwight Garner\, The New York Times \nhttps://us02web.zoom.us/j/82640315096
URL:https://ctionline.org/event/ctis-book-club/
LOCATION:Congregation Tifereth Israel\, 40 Hill Street\, Glen Cove\, NY\, 11542\, United States
CATEGORIES:Community
END:VEVENT
BEGIN:VEVENT
DTSTART;TZID=America/New_York:20250913T200000
DTEND;TZID=America/New_York:20250913T210000
DTSTAMP:20260421T124021
CREATED:20250825T144140Z
LAST-MODIFIED:20250825T144330Z
UID:10004558-1757793600-1757797200@ctionline.org
SUMMARY:Selichot - High Holiday Services
DESCRIPTION:
URL:https://ctionline.org/event/high-holiday-services/
LOCATION:Congregation Tifereth Israel\, 40 Hill Street\, Glen Cove\, NY\, 11542\, United States
CATEGORIES:High Holidays,Holidays
END:VEVENT
BEGIN:VEVENT
DTSTART;TZID=America/New_York:20250912T174500
DTEND;TZID=America/New_York:20250912T200000
DTSTAMP:20260421T124021
CREATED:20250829T214516Z
LAST-MODIFIED:20250829T214951Z
UID:10007223-1757699100-1757707200@ctionline.org
SUMMARY:Free Welcome-Back BBQ Dinner!
DESCRIPTION:Back from the beach\, straight to the feast—\nFriday September 12th – 5:45 PM \nJoin us for a delicious free welcome-back BBQ dinner! \nWelcome back from the summer Meet and greet old and new* friends * Meet Naomi our new CTI education director. Menu: Hot dogs\, Beyond Burgers\, Salads\, Fruit. \nRSVP by Sept 5 to: Krys@ctionline.org
URL:https://ctionline.org/event/free-welcome-back-bbq-dinner/
LOCATION:Congregation Tifereth Israel\, 40 Hill Street\, Glen Cove\, NY\, 11542\, United States
CATEGORIES:Community,Fun
END:VEVENT
BEGIN:VEVENT
DTSTART;TZID=America/New_York:20250909T193000
DTEND;TZID=America/New_York:20250909T203000
DTSTAMP:20260421T124021
CREATED:20250827T214058Z
LAST-MODIFIED:20250827T214058Z
UID:10006699-1757446200-1757449800@ctionline.org
SUMMARY:CTI Board Meeting - In person
DESCRIPTION:If you cannot attend\, please let Alan know in order to facilitate a Zoom option.
URL:https://ctionline.org/event/cti-board-meeting-in-person/
LOCATION:Congregation Tifereth Israel\, 40 Hill Street\, Glen Cove\, NY\, 11542\, United States
CATEGORIES:Services
END:VEVENT
BEGIN:VEVENT
DTSTART;TZID=America/New_York:20250909T133000
DTEND;TZID=America/New_York:20250909T153000
DTSTAMP:20260421T124021
CREATED:20250827T213923Z
LAST-MODIFIED:20250827T213923Z
UID:10006698-1757424600-1757431800@ctionline.org
SUMMARY:Canasta
DESCRIPTION:LED BY LYNNE BARSKY \nOpen play Canasta at CTI – $5.00 drop-in fee \nPerfect for players wishing to enhance their skills in a friendly game. \nTUESDAYS\, 1:30-3:30 PM \nJULY 15 – AUGUST 26 \nMembers and non-members welcome. \nIf you know anyone who would benefit from this outreach or TO RESERVE YOUR SPOT\, EMAIL: LynneBarskyEdd@gmail.com \nDon’t know how to play\, but you want to learn? \nEmail Lynne to inquire about starting a class.
URL:https://ctionline.org/event/canasta/
LOCATION:Congregation Tifereth Israel\, 40 Hill Street\, Glen Cove\, NY\, 11542\, United States
CATEGORIES:Community,Fun
END:VEVENT
BEGIN:VEVENT
DTSTART;TZID=America/New_York:20250906T100000
DTEND;TZID=America/New_York:20250906T113000
DTSTAMP:20260421T124021
CREATED:20240303T225508Z
LAST-MODIFIED:20240318T163910Z
UID:10002057-1757152800-1757158200@ctionline.org
SUMMARY:Hugh Mitgang Bar Mitzvah - Parashat Ki Teitzei
DESCRIPTION:
URL:https://ctionline.org/event/hugh-mitgang-bar-mitzvah-parashat-ki-teitzei/
LOCATION:Congregation Tifereth Israel\, 40 Hill Street\, Glen Cove\, NY\, 11542\, United States
CATEGORIES:Bar/Bat Mitzvahs
ATTACH;FMTTYPE=image/jpeg:https://ctionline.org/wp-content/uploads/2024/03/Bar-Mitzvah-1.jpeg
ORGANIZER;CN="CTI Office":MAILTO:office@ctionline.org
END:VEVENT
BEGIN:VEVENT
DTSTART;TZID=America/New_York:20250827T081500
DTEND;TZID=America/New_York:20250827T091500
DTSTAMP:20260421T124021
CREATED:20250822T171501Z
LAST-MODIFIED:20250822T173743Z
UID:10004272-1756282500-1756286100@ctionline.org
SUMMARY:Wed Morning Shacharit Minyan
DESCRIPTION:Zoom CTI is inviting you to a scheduled Zoom meeting. \nTopic: CTI Shacharit Services\nTime: This is a recurring meeting Meet anytime \nJoin Zoom Meeting\nhttps://zoom.us/j/99149363611\nPasscode: Minyan\n\nSim Shalom Siddur:\nhttps://bit.ly/39NPjZe\n\n\nMeeting ID: 991 4936 3611\nPasscode: Minyan\n\nOne tap mobile\n+16468769923\,\,99149363611# US (New York)\n+13126266799\,\,99149363611# US (Chicago) \nDial by your location\n+1 646 876 9923 US (New York)\n+1 312 626 6799 US (Chicago)\n+1 301 715 8592 US (Germantown)\n+1 346 248 7799 US (Houston)\n+1 408 638 0968 US (San Jose)\n+1 669 900 6833 US (San Jose)\n+1 253 215 8782 US (Tacoma)\nMeeting ID: 991 4936 3611\nFind your local number: https://zoom.us/u/abRKGUQm30
URL:https://ctionline.org/event/morning-shacharit-minyan-13/
LOCATION:Congregation Tifereth Israel\, 40 Hill Street\, Glen Cove\, NY\, 11542\, United States
CATEGORIES:Community,Fun
END:VEVENT
BEGIN:VEVENT
DTSTART;TZID=America/New_York:20250826T160000
DTEND;TZID=America/New_York:20250826T180000
DTSTAMP:20260421T124021
CREATED:20250325T211753Z
LAST-MODIFIED:20250822T171308Z
UID:10003936-1756224000-1756231200@ctionline.org
SUMMARY:Knit and Crochet with Kate
DESCRIPTION:Both beginner and experienced crafters are welcome. \nFree instruction and ongoing project support. \nLet’s start something new\, continue an existing\nproject\, make something to donate\, and be social. \nMaterials will be available for purchase day of event (cash please).\n$7* includes: (1) 7oz skein Red Heart acrylic yarn &\n(1) pair 10″ straight knitting needles size 8 OR\n(1) 5.00mm crochet hook \nSpace is limited to 12\nRSVP to Barbara at Baronworld@aol.com \n*Price subject to change in the future
URL:https://ctionline.org/event/knit-and-crochet-with-kate/
LOCATION:Congregation Tifereth Israel\, 40 Hill Street\, Glen Cove\, NY\, 11542\, United States
CATEGORIES:Community,Fun
END:VEVENT
BEGIN:VEVENT
DTSTART;TZID=America/New_York:20250802T200000
DTEND;TZID=America/New_York:20250802T210000
DTSTAMP:20260421T124021
CREATED:20240301T232641Z
LAST-MODIFIED:20250309T215738Z
UID:10002016-1754164800-1754168400@ctionline.org
SUMMARY:Tish’a B’Av
DESCRIPTION:
URL:https://ctionline.org/event/tisha-bav-2025/
LOCATION:Congregation Tifereth Israel\, 40 Hill Street\, Glen Cove\, NY\, 11542\, United States
CATEGORIES:Holiday Services,Holidays
ATTACH;FMTTYPE=image/png:https://ctionline.org/wp-content/uploads/2024/03/Star-of-David-abstract.png
ORGANIZER;CN="Rabbi Irwin Huberman":MAILTO:rabbiirwin@ctionline.org
END:VEVENT
BEGIN:VEVENT
DTSTART;TZID=America/New_York:20250802T100000
DTEND;TZID=America/New_York:20250802T113000
DTSTAMP:20260421T124021
CREATED:20240303T225536Z
LAST-MODIFIED:20240318T163911Z
UID:10002056-1754128800-1754134200@ctionline.org
SUMMARY:Mateo Colacciopo Bar Mitzvah - Parashat Devarim
DESCRIPTION:
URL:https://ctionline.org/event/mateo-colacciopo-bar-mitzvah-parashat-devarim/
LOCATION:Congregation Tifereth Israel\, 40 Hill Street\, Glen Cove\, NY\, 11542\, United States
CATEGORIES:Bar/Bat Mitzvahs
ATTACH;FMTTYPE=image/jpeg:https://ctionline.org/wp-content/uploads/2024/03/Bar-Mitzvah-1.jpeg
ORGANIZER;CN="CTI Office":MAILTO:office@ctionline.org
END:VEVENT
BEGIN:VEVENT
DTSTART;TZID=America/New_York:20250622T170000
DTEND;TZID=America/New_York:20250622T210000
DTSTAMP:20260421T124021
CREATED:20250320T171323Z
LAST-MODIFIED:20250519T233358Z
UID:10003867-1750611600-1750626000@ctionline.org
SUMMARY:Annual Fundraiser
DESCRIPTION:Celebrate CTI’s Annual Fundraiser by Honoring Phyllis with the Bat Mitzvah she never had!\nRaffles\, Dancing and more! \nPhyllis Spector was born in Brooklyn and has been a member of CTI since 1976 when she moved to Glen Cove. Phyllis assumed various volunteer roles at CTI including Sisterhood President and Ritual Vice President. She was President of CTI from 2013- 2019. She currently has the position of Director of Administration. \nNo personal gifts. Honor Phyllis with a Journal Ad. \n\n\n  \nPurchase Tickets
URL:https://ctionline.org/event/annual-fundraiser/
LOCATION:Congregation Tifereth Israel\, 40 Hill Street\, Glen Cove\, NY\, 11542\, United States
CATEGORIES:Community
ATTACH;FMTTYPE=image/jpeg:https://ctionline.org/wp-content/uploads/2025/04/600x200.jpg
ORGANIZER;CN="CTI Office":MAILTO:office@ctionline.org
END:VEVENT
END:VCALENDAR