BEGIN:VCALENDAR
VERSION:2.0
PRODID:-//Congregation Tifereth Israel - ECPv6.15.17.1//NONSGML v1.0//EN
CALSCALE:GREGORIAN
METHOD:PUBLISH
X-WR-CALNAME:Congregation Tifereth Israel
X-ORIGINAL-URL:https://ctionline.org
X-WR-CALDESC:Events for Congregation Tifereth Israel
REFRESH-INTERVAL;VALUE=DURATION:PT1H
X-Robots-Tag:noindex
X-PUBLISHED-TTL:PT1H
BEGIN:VTIMEZONE
TZID:America/New_York
BEGIN:DAYLIGHT
TZOFFSETFROM:-0500
TZOFFSETTO:-0400
TZNAME:EDT
DTSTART:20230312T070000
END:DAYLIGHT
BEGIN:STANDARD
TZOFFSETFROM:-0400
TZOFFSETTO:-0500
TZNAME:EST
DTSTART:20231105T060000
END:STANDARD
BEGIN:DAYLIGHT
TZOFFSETFROM:-0500
TZOFFSETTO:-0400
TZNAME:EDT
DTSTART:20240310T070000
END:DAYLIGHT
BEGIN:STANDARD
TZOFFSETFROM:-0400
TZOFFSETTO:-0500
TZNAME:EST
DTSTART:20241103T060000
END:STANDARD
BEGIN:DAYLIGHT
TZOFFSETFROM:-0500
TZOFFSETTO:-0400
TZNAME:EDT
DTSTART:20250309T070000
END:DAYLIGHT
BEGIN:STANDARD
TZOFFSETFROM:-0400
TZOFFSETTO:-0500
TZNAME:EST
DTSTART:20251102T060000
END:STANDARD
END:VTIMEZONE
BEGIN:VEVENT
DTSTART;TZID=America/New_York:20240407T123000
DTEND;TZID=America/New_York:20240407T140000
DTSTAMP:20260419T184512
CREATED:20240303T233541Z
LAST-MODIFIED:20240906T163227Z
UID:10002099-1712493000-1712498400@ctionline.org
SUMMARY:Kiki's Kids Jr. (Pre-K - K) - Tie Dye Shirts
DESCRIPTION:
URL:https://ctionline.org/event/kikis-kids-jr-pre-k-k-tie-dye-shirts/
LOCATION:Congregation Tifereth Israel\, 40 Hill Street\, Glen Cove\, NY\, 11542\, United States
CATEGORIES:Young Family Programs
ATTACH;FMTTYPE=image/jpeg:https://ctionline.org/wp-content/uploads/2024/03/Kiki-PreK.jpg
ORGANIZER;CN="Lisa Aamodt":MAILTO:drlisa@ctionline.org
END:VEVENT
BEGIN:VEVENT
DTSTART;TZID=America/New_York:20240405T173000
DTEND;TZID=America/New_York:20240405T183000
DTSTAMP:20260419T184512
CREATED:20240303T233233Z
LAST-MODIFIED:20240318T164003Z
UID:10002098-1712338200-1712341800@ctionline.org
SUMMARY:TOT Shabbat!  Passover
DESCRIPTION:Free and Open to the Community!\nFor families with children ages 0-4\nCelebrate Shabbat & Holidays!
URL:https://ctionline.org/event/tot-shabbat-passover/
LOCATION:Congregation Tifereth Israel\, 40 Hill Street\, Glen Cove\, NY\, 11542\, United States
CATEGORIES:Holidays,Young Family Programs
ATTACH;FMTTYPE=image/jpeg:https://ctionline.org/wp-content/uploads/2024/03/Tot-Shabbat-event.jpg
ORGANIZER;CN="Lisa Aamodt":MAILTO:drlisa@ctionline.org
END:VEVENT
BEGIN:VEVENT
DTSTART;TZID=America/New_York:20240324T101500
DTEND;TZID=America/New_York:20240324T140000
DTSTAMP:20260419T184512
CREATED:20240318T184704Z
LAST-MODIFIED:20240318T192113Z
UID:10003200-1711275300-1711288800@ctionline.org
SUMMARY:Purim Carnival
DESCRIPTION:Megillah Reading – 10:15 – 11:00 am \nPurim Carnival – 11:00 – 2:00 pm \nJoin the fun! Everyone is welcome. Wear a custume and see what Purim is all about!
URL:https://ctionline.org/event/purim-carnival/
LOCATION:Congregation Tifereth Israel\, 40 Hill Street\, Glen Cove\, NY\, 11542\, United States
CATEGORIES:Holidays
ATTACH;FMTTYPE=image/jpeg:https://ctionline.org/wp-content/uploads/2024/03/Purim-Carnival-Flyer-2024-event.jpg
ORGANIZER;CN="Lisa Aamodt":MAILTO:drlisa@ctionline.org
END:VEVENT
BEGIN:VEVENT
DTSTART;TZID=America/New_York:20240310T123000
DTEND;TZID=America/New_York:20240310T140000
DTSTAMP:20260419T184512
CREATED:20240303T232500Z
LAST-MODIFIED:20240906T163228Z
UID:10002097-1710073800-1710079200@ctionline.org
SUMMARY:Kiki's Kids Jr. (Pre-K - K) - Lotsa Matza
DESCRIPTION:
URL:https://ctionline.org/event/kikis-kids-jr-pre-k-k-lotsa-matza/
LOCATION:Congregation Tifereth Israel\, 40 Hill Street\, Glen Cove\, NY\, 11542\, United States
CATEGORIES:Young Family Programs
ATTACH;FMTTYPE=image/jpeg:https://ctionline.org/wp-content/uploads/2024/03/Kiki-Pre-1.jpg
ORGANIZER;CN="Lisa Aamodt":MAILTO:drlisa@ctionline.org
END:VEVENT
BEGIN:VEVENT
DTSTART;TZID=America/New_York:20240308T173000
DTEND;TZID=America/New_York:20240308T181500
DTSTAMP:20260419T184512
CREATED:20240303T231624Z
LAST-MODIFIED:20240318T164015Z
UID:10002096-1709919000-1709921700@ctionline.org
SUMMARY:TOT Shabbat!
DESCRIPTION:Free and Open to the Community!\nFor families with children ages 0-4\nCelebrate Shabbat & Holidays!
URL:https://ctionline.org/event/tot-shabbat/
LOCATION:Congregation Tifereth Israel\, 40 Hill Street\, Glen Cove\, NY\, 11542\, United States
CATEGORIES:Young Family Programs
ATTACH;FMTTYPE=image/jpeg:https://ctionline.org/wp-content/uploads/2024/03/Tot-Shabbat-event.jpg
ORGANIZER;CN="Lisa Aamodt":MAILTO:drlisa@ctionline.org
END:VEVENT
END:VCALENDAR