BEGIN:VCALENDAR
VERSION:2.0
PRODID:-//Congregation Tifereth Israel - ECPv6.15.17.1//NONSGML v1.0//EN
CALSCALE:GREGORIAN
METHOD:PUBLISH
X-WR-CALNAME:Congregation Tifereth Israel
X-ORIGINAL-URL:https://ctionline.org
X-WR-CALDESC:Events for Congregation Tifereth Israel
REFRESH-INTERVAL;VALUE=DURATION:PT1H
X-Robots-Tag:noindex
X-PUBLISHED-TTL:PT1H
BEGIN:VTIMEZONE
TZID:America/New_York
BEGIN:DAYLIGHT
TZOFFSETFROM:-0500
TZOFFSETTO:-0400
TZNAME:EDT
DTSTART:20240310T070000
END:DAYLIGHT
BEGIN:STANDARD
TZOFFSETFROM:-0400
TZOFFSETTO:-0500
TZNAME:EST
DTSTART:20241103T060000
END:STANDARD
BEGIN:DAYLIGHT
TZOFFSETFROM:-0500
TZOFFSETTO:-0400
TZNAME:EDT
DTSTART:20250309T070000
END:DAYLIGHT
BEGIN:STANDARD
TZOFFSETFROM:-0400
TZOFFSETTO:-0500
TZNAME:EST
DTSTART:20251102T060000
END:STANDARD
BEGIN:DAYLIGHT
TZOFFSETFROM:-0500
TZOFFSETTO:-0400
TZNAME:EDT
DTSTART:20260308T070000
END:DAYLIGHT
BEGIN:STANDARD
TZOFFSETFROM:-0400
TZOFFSETTO:-0500
TZNAME:EST
DTSTART:20261101T060000
END:STANDARD
END:VTIMEZONE
BEGIN:VEVENT
DTSTART;TZID=America/New_York:20251019T103000
DTEND;TZID=America/New_York:20251019T120000
DTSTAMP:20260419T230920
CREATED:20251005T045210Z
LAST-MODIFIED:20251005T045213Z
UID:10008925-1760869800-1760875200@ctionline.org
SUMMARY:Discover Upcoming Community Conversations
DESCRIPTION:Join a vibrant gathering designed to spark engaging discussions and foster community connections.\nSunday\, October 19\, 10:30 am – 12:00 pm \nJoin a vibrant gathering designed to spark engaging discussions and foster community connections. \n\nSuggest topics for future discussions by emailing ellen@ctionline.org\nEnjoy bagels and engaging conversation with fellow attendees\nFormat: In-person at Glen Cove\, NY and online via Zoom\nInteractive Element: Attendees are encouraged to suggest topics for future conversations\n\nThis information helps you easily access\, join\, and contribute to a welcoming community event.
URL:https://ctionline.org/event/discover-upcoming-community-conversations-2/
LOCATION:Congregation Tifereth Israel\, 40 Hill Street\, Glen Cove\, NY\, 11542\, United States
CATEGORIES:Community,Learning
ORGANIZER;CN="CTI Office":MAILTO:office@ctionline.org
END:VEVENT
END:VCALENDAR