BEGIN:VCALENDAR
VERSION:2.0
PRODID:-//Congregation Tifereth Israel - ECPv6.15.17.1//NONSGML v1.0//EN
CALSCALE:GREGORIAN
METHOD:PUBLISH
X-WR-CALNAME:Congregation Tifereth Israel
X-ORIGINAL-URL:https://ctionline.org
X-WR-CALDESC:Events for Congregation Tifereth Israel
REFRESH-INTERVAL;VALUE=DURATION:PT1H
X-Robots-Tag:noindex
X-PUBLISHED-TTL:PT1H
BEGIN:VTIMEZONE
TZID:America/New_York
BEGIN:DAYLIGHT
TZOFFSETFROM:-0500
TZOFFSETTO:-0400
TZNAME:EDT
DTSTART:20240310T070000
END:DAYLIGHT
BEGIN:STANDARD
TZOFFSETFROM:-0400
TZOFFSETTO:-0500
TZNAME:EST
DTSTART:20241103T060000
END:STANDARD
BEGIN:DAYLIGHT
TZOFFSETFROM:-0500
TZOFFSETTO:-0400
TZNAME:EDT
DTSTART:20250309T070000
END:DAYLIGHT
BEGIN:STANDARD
TZOFFSETFROM:-0400
TZOFFSETTO:-0500
TZNAME:EST
DTSTART:20251102T060000
END:STANDARD
BEGIN:DAYLIGHT
TZOFFSETFROM:-0500
TZOFFSETTO:-0400
TZNAME:EDT
DTSTART:20260308T070000
END:DAYLIGHT
BEGIN:STANDARD
TZOFFSETFROM:-0400
TZOFFSETTO:-0500
TZNAME:EST
DTSTART:20261101T060000
END:STANDARD
END:VTIMEZONE
BEGIN:VEVENT
DTSTART;TZID=America/New_York:20250403T150000
DTEND;TZID=America/New_York:20250403T160000
DTSTAMP:20260422T044427
CREATED:20250228T130517Z
LAST-MODIFIED:20250324T202409Z
UID:10003526-1743692400-1743696000@ctionline.org
SUMMARY:Rabbi's Lecture Series: Great Stories & Lessons from the Talmud
DESCRIPTION:
URL:https://ctionline.org/event/rabbis-lecture-series-great-stories-lessons-from-the-talmud-2/
LOCATION:Zoom
CATEGORIES:Learning
ORGANIZER;CN="Rabbi Irwin Huberman":MAILTO:rabbiirwin@ctionline.org
END:VEVENT
BEGIN:VEVENT
DTSTART;TZID=America/New_York:20250424T150000
DTEND;TZID=America/New_York:20250424T160000
DTSTAMP:20260422T044427
CREATED:20250314T193701Z
LAST-MODIFIED:20250314T193701Z
UID:10003863-1745506800-1745510400@ctionline.org
SUMMARY:Rabbi's Lecture Series: Great Stories & Lessons from the Talmud
DESCRIPTION:
URL:https://ctionline.org/event/rabbis-lecture-series-great-stories-lessons-from-the-talmud-4/
LOCATION:Zoom
CATEGORIES:Learning
ORGANIZER;CN="Rabbi Irwin Huberman":MAILTO:rabbiirwin@ctionline.org
END:VEVENT
BEGIN:VEVENT
DTSTART;TZID=America/New_York:20250424T183000
DTEND;TZID=America/New_York:20250424T193000
DTSTAMP:20260422T044427
CREATED:20250314T194316Z
LAST-MODIFIED:20250314T194317Z
UID:10003864-1745519400-1745523000@ctionline.org
SUMMARY:Yom Hashoah observance at the Holocaust Museum and Tolerance Center
DESCRIPTION:
URL:https://ctionline.org/event/yom-hashoah-observance-at-the-holocaust-museum-and-tolerance-center/
LOCATION:Congregation Tifereth Israel\, 40 Hill Street\, Glen Cove\, NY\, 11542\, United States
CATEGORIES:Community,Learning
END:VEVENT
BEGIN:VEVENT
DTSTART;TZID=America/New_York:20250427T103000
DTEND;TZID=America/New_York:20250427T120000
DTSTAMP:20260422T044427
CREATED:20250324T210116Z
LAST-MODIFIED:20250324T210122Z
UID:10003092-1745749800-1745755200@ctionline.org
SUMMARY:News & Views Current Affairs Discussion Group
DESCRIPTION:
URL:https://ctionline.org/event/news-views-current-affairs-discussion-group-in-person-zoom-20/
LOCATION:Congregation Tifereth Israel\, 40 Hill Street\, Glen Cove\, NY\, 11542\, United States
CATEGORIES:Learning
ATTACH;FMTTYPE=image/jpeg:https://ctionline.org/wp-content/uploads/2024/03/Group-Discussion.jpg
ORGANIZER;CN="CTI Office":MAILTO:office@ctionline.org
END:VEVENT
END:VCALENDAR