BEGIN:VCALENDAR
VERSION:2.0
PRODID:-//Congregation Tifereth Israel - ECPv6.15.17.1//NONSGML v1.0//EN
CALSCALE:GREGORIAN
METHOD:PUBLISH
X-ORIGINAL-URL:https://ctionline.org
X-WR-CALDESC:Events for Congregation Tifereth Israel
REFRESH-INTERVAL;VALUE=DURATION:PT1H
X-Robots-Tag:noindex
X-PUBLISHED-TTL:PT1H
BEGIN:VTIMEZONE
TZID:America/New_York
BEGIN:DAYLIGHT
TZOFFSETFROM:-0500
TZOFFSETTO:-0400
TZNAME:EDT
DTSTART:20240310T070000
END:DAYLIGHT
BEGIN:STANDARD
TZOFFSETFROM:-0400
TZOFFSETTO:-0500
TZNAME:EST
DTSTART:20241103T060000
END:STANDARD
BEGIN:DAYLIGHT
TZOFFSETFROM:-0500
TZOFFSETTO:-0400
TZNAME:EDT
DTSTART:20250309T070000
END:DAYLIGHT
BEGIN:STANDARD
TZOFFSETFROM:-0400
TZOFFSETTO:-0500
TZNAME:EST
DTSTART:20251102T060000
END:STANDARD
BEGIN:DAYLIGHT
TZOFFSETFROM:-0500
TZOFFSETTO:-0400
TZNAME:EDT
DTSTART:20260308T070000
END:DAYLIGHT
BEGIN:STANDARD
TZOFFSETFROM:-0400
TZOFFSETTO:-0500
TZNAME:EST
DTSTART:20261101T060000
END:STANDARD
END:VTIMEZONE
BEGIN:VEVENT
DTSTART;TZID=America/New_York:20250306T150000
DTEND;TZID=America/New_York:20250306T160000
DTSTAMP:20260422T062245
CREATED:20250228T122805Z
LAST-MODIFIED:20250309T221117Z
UID:10003523-1741273200-1741276800@ctionline.org
SUMMARY:Rabbi's Lecture Series: Great Stories & Lessons from the Talmud
DESCRIPTION:
URL:https://ctionline.org/event/rabbis-lecture-series-great-stories-lessons-from-the-talmud/
LOCATION:Zoom
CATEGORIES:Learning
ORGANIZER;CN="Rabbi Irwin Huberman":MAILTO:rabbiirwin@ctionline.org
END:VEVENT
BEGIN:VEVENT
DTSTART;TZID=America/New_York:20250327T150000
DTEND;TZID=America/New_York:20250327T160000
DTSTAMP:20260422T062245
CREATED:20250228T130552Z
LAST-MODIFIED:20250309T221145Z
UID:10003525-1743087600-1743091200@ctionline.org
SUMMARY:Rabbi's Lecture Series: Great Stories & Lessons from the Talmud
DESCRIPTION:
URL:https://ctionline.org/event/rabbis-lecture-series-great-stories-lessons-from-the-talmud-3/
LOCATION:Zoom
CATEGORIES:Learning
ORGANIZER;CN="Rabbi Irwin Huberman":MAILTO:rabbiirwin@ctionline.org
END:VEVENT
BEGIN:VEVENT
DTSTART;TZID=America/New_York:20250330T103000
DTEND;TZID=America/New_York:20250330T120000
DTSTAMP:20260422T062245
CREATED:20250314T194820Z
LAST-MODIFIED:20250314T194820Z
UID:10003091-1743330600-1743336000@ctionline.org
SUMMARY:News & Views Current Affairs Discussion Group
DESCRIPTION:
URL:https://ctionline.org/event/news-views-current-affairs-discussion-group-in-person-zoom-19/
LOCATION:Congregation Tifereth Israel\, 40 Hill Street\, Glen Cove\, NY\, 11542\, United States
CATEGORIES:Learning
ATTACH;FMTTYPE=image/jpeg:https://ctionline.org/wp-content/uploads/2024/03/Group-Discussion.jpg
ORGANIZER;CN="CTI Office":MAILTO:office@ctionline.org
END:VEVENT
END:VCALENDAR