BEGIN:VCALENDAR
VERSION:2.0
PRODID:-//Congregation Tifereth Israel - ECPv6.15.17.1//NONSGML v1.0//EN
CALSCALE:GREGORIAN
METHOD:PUBLISH
X-ORIGINAL-URL:https://ctionline.org
X-WR-CALDESC:Events for Congregation Tifereth Israel
REFRESH-INTERVAL;VALUE=DURATION:PT1H
X-Robots-Tag:noindex
X-PUBLISHED-TTL:PT1H
BEGIN:VTIMEZONE
TZID:America/New_York
BEGIN:DAYLIGHT
TZOFFSETFROM:-0500
TZOFFSETTO:-0400
TZNAME:EDT
DTSTART:20250309T070000
END:DAYLIGHT
BEGIN:STANDARD
TZOFFSETFROM:-0400
TZOFFSETTO:-0500
TZNAME:EST
DTSTART:20251102T060000
END:STANDARD
BEGIN:DAYLIGHT
TZOFFSETFROM:-0500
TZOFFSETTO:-0400
TZNAME:EDT
DTSTART:20260308T070000
END:DAYLIGHT
BEGIN:STANDARD
TZOFFSETFROM:-0400
TZOFFSETTO:-0500
TZNAME:EST
DTSTART:20261101T060000
END:STANDARD
BEGIN:DAYLIGHT
TZOFFSETFROM:-0500
TZOFFSETTO:-0400
TZNAME:EDT
DTSTART:20270314T070000
END:DAYLIGHT
BEGIN:STANDARD
TZOFFSETFROM:-0400
TZOFFSETTO:-0500
TZNAME:EST
DTSTART:20271107T060000
END:STANDARD
END:VTIMEZONE
BEGIN:VEVENT
DTSTART;TZID=America/New_York:20260319T190000
DTEND;TZID=America/New_York:20260319T200000
DTSTAMP:20260419T102221
CREATED:20260309T193937Z
LAST-MODIFIED:20260309T193937Z
UID:10008933-1773946800-1773950400@ctionline.org
SUMMARY:Passover Rosh Chodesh Gathering
DESCRIPTION:Join us for a special Rosh Chodesh program exploring the Passover story from a woman’s perspective. Together we will reflect\, learn\, and connect as we approach the holiday in a meaningful and inspiring way. \nThis program offers a unique opportunity to experience the themes of Passover through discussion\, insight\, and community. \nEvent Details: \n\nDate: Thursday\, March 19\nTime: 7:00 PM\n\n\nRSVP:  \nPlease RSVP to Phylliss at phylliss@ctionline.org \nSuggested Contribution: $5 \nWe look forward to sharing this meaningful evening together!
URL:https://ctionline.org/event/passover-rosh-chodesh-gathering/
LOCATION:Congregation Tifereth Israel\, 40 Hill Street\, Glen Cove\, NY\, 11542\, United States
CATEGORIES:Holidays,Services
END:VEVENT
END:VCALENDAR