BEGIN:VCALENDAR
VERSION:2.0
PRODID:-//Congregation Tifereth Israel - ECPv6.15.17.1//NONSGML v1.0//EN
CALSCALE:GREGORIAN
METHOD:PUBLISH
X-ORIGINAL-URL:https://ctionline.org
X-WR-CALDESC:Events for Congregation Tifereth Israel
REFRESH-INTERVAL;VALUE=DURATION:PT1H
X-Robots-Tag:noindex
X-PUBLISHED-TTL:PT1H
BEGIN:VTIMEZONE
TZID:America/New_York
BEGIN:DAYLIGHT
TZOFFSETFROM:-0500
TZOFFSETTO:-0400
TZNAME:EDT
DTSTART:20230312T070000
END:DAYLIGHT
BEGIN:STANDARD
TZOFFSETFROM:-0400
TZOFFSETTO:-0500
TZNAME:EST
DTSTART:20231105T060000
END:STANDARD
BEGIN:DAYLIGHT
TZOFFSETFROM:-0500
TZOFFSETTO:-0400
TZNAME:EDT
DTSTART:20240310T070000
END:DAYLIGHT
BEGIN:STANDARD
TZOFFSETFROM:-0400
TZOFFSETTO:-0500
TZNAME:EST
DTSTART:20241103T060000
END:STANDARD
BEGIN:DAYLIGHT
TZOFFSETFROM:-0500
TZOFFSETTO:-0400
TZNAME:EDT
DTSTART:20250309T070000
END:DAYLIGHT
BEGIN:STANDARD
TZOFFSETFROM:-0400
TZOFFSETTO:-0500
TZNAME:EST
DTSTART:20251102T060000
END:STANDARD
BEGIN:DAYLIGHT
TZOFFSETFROM:-0500
TZOFFSETTO:-0400
TZNAME:EDT
DTSTART:20260308T070000
END:DAYLIGHT
BEGIN:STANDARD
TZOFFSETFROM:-0400
TZOFFSETTO:-0500
TZNAME:EST
DTSTART:20261101T060000
END:STANDARD
END:VTIMEZONE
BEGIN:VEVENT
DTSTART;TZID=America/New_York:20250404T173000
DTEND;TZID=America/New_York:20250404T183000
DTSTAMP:20260419T084227
CREATED:20240821T130459Z
LAST-MODIFIED:20240821T130550Z
UID:10003372-1743787800-1743791400@ctionline.org
SUMMARY:TOT Shabbat! Passover
DESCRIPTION:Dinner\, Music\, Shabbat Activities and Playtime \nEmail Morah Lisa if you would like to attend \nMorahLisaA@gmail.com \nFree and Open to the Community!\nFor families with children ages 0-4\nCelebrate Shabbat & Holidays!
URL:https://ctionline.org/event/tot-shabbat-passover-2/
LOCATION:Congregation Tifereth Israel\, 40 Hill Street\, Glen Cove\, NY\, 11542\, United States
CATEGORIES:Young Family Programs
ATTACH;FMTTYPE=image/jpeg:https://ctionline.org/wp-content/uploads/2024/01/Passover-2017-2-1200.jpg
ORGANIZER;CN="Lisa Aamodt":MAILTO:drlisa@ctionline.org
END:VEVENT
BEGIN:VEVENT
DTSTART;TZID=America/New_York:20250403T173000
DTEND;TZID=America/New_York:20250403T183000
DTSTAMP:20260419T084227
CREATED:20250314T105820Z
LAST-MODIFIED:20250325T190558Z
UID:10003869-1743701400-1743705000@ctionline.org
SUMMARY:MATZAH MAKING WORKSHOP - PASSOVER IS COMING!
DESCRIPTION:LET’S LEARN HOW TO MAKE MATZAH \nALL ARE WELCOME. \nPLEASE RSVP TO 516-676-5080 BY MONDAY\, MARCH 31. \n$10 DONATION (AT THE DOOR)
URL:https://ctionline.org/event/matzah-making-workshop-passover-is-coming/
LOCATION:Congregation Tifereth Israel\, 40 Hill Street\, Glen Cove\, NY\, 11542\, United States
CATEGORIES:Community,Family,Fun,Holidays
ATTACH;FMTTYPE=image/png:https://ctionline.org/wp-content/uploads/2025/03/Screenshot-2025-03-25-150526.png
END:VEVENT
BEGIN:VEVENT
DTSTART;TZID=America/New_York:20250314T190000
DTEND;TZID=America/New_York:20250314T213000
DTSTAMP:20260419T084227
CREATED:20250228T131441Z
LAST-MODIFIED:20250310T005144Z
UID:10003528-1741978800-1741987800@ctionline.org
SUMMARY:Kiki kids teen program - PURIM PARTY
DESCRIPTION:
URL:https://ctionline.org/event/kiki-kids-teen-program/
LOCATION:Congregation Tifereth Israel\, 40 Hill Street\, Glen Cove\, NY\, 11542\, United States
CATEGORIES:Holidays,Young Family Programs
ORGANIZER;CN="Lisa Aamodt":MAILTO:drlisa@ctionline.org
END:VEVENT
BEGIN:VEVENT
DTSTART;TZID=America/New_York:20250313T190000
DTEND;TZID=America/New_York:20250313T190000
DTSTAMP:20260419T084227
CREATED:20250312T031130Z
LAST-MODIFIED:20250312T032006Z
UID:10003845-1741892400-1741892400@ctionline.org
SUMMARY:Purim - MEGILLAH READING AND PURIM SPIEL 2025
DESCRIPTION:In the Spiel of the Night A Purim Musical Comedy \nBy Jon Goldstein & Diane Stillerman \nMegillah and Spiel and refreshments – L’Chaim! \nBlot out Haman: Bring a box of pasta or cereal; it makes a great grager.
URL:https://ctionline.org/event/purim-megillah-reading-and-purim-spiel-2025/
LOCATION:Congregation Tifereth Israel\, 40 Hill Street\, Glen Cove\, NY\, 11542\, United States
CATEGORIES:Family,Holiday Services,Holidays,Services
ATTACH;FMTTYPE=image/webp:https://ctionline.org/wp-content/uploads/2025/03/purim-celebration-concept-jewish-carnival-backgro-2023-11-27-05-29-41-utc-930x620-1.webp
END:VEVENT
BEGIN:VEVENT
DTSTART;TZID=America/New_York:20250309T101500
DTEND;TZID=America/New_York:20250309T140000
DTSTAMP:20260419T084227
CREATED:20250228T124008Z
LAST-MODIFIED:20250228T124842Z
UID:10003524-1741515300-1741528800@ctionline.org
SUMMARY:Purim Carnival
DESCRIPTION:P U R I M S P I E L – 1 0 : 1 5 A M – 1 1 : 0 0 A M – COME HEAR THE STORY OF QUEEN ESTHER! \n$15 BRACELET FOR CARNIVAL GAMES AND PRIZES\, GAME TRUCK\, BOUNCE HOUSE\, FACE PAINTING…AND MORE! \nFOOD AND SNACKS AVAILABLE FOR PURCHASE \n40+ EXCITING RAFFLES \nOPEN TO COMMUNITY — ALL ARE WELCOME WEAR A COSTUME AND JOIN THE FUN!
URL:https://ctionline.org/event/purim-carnival-2/
LOCATION:Congregation Tifereth Israel\, 40 Hill Street\, Glen Cove\, NY\, 11542\, United States
CATEGORIES:Community,Family,Fun,Holidays
ORGANIZER;CN="Lisa Aamodt":MAILTO:drlisa@ctionline.org
END:VEVENT
BEGIN:VEVENT
DTSTART;TZID=America/New_York:20250307T173000
DTEND;TZID=America/New_York:20250307T183000
DTSTAMP:20260419T084227
CREATED:20240821T130338Z
LAST-MODIFIED:20250228T123126Z
UID:10003371-1741368600-1741372200@ctionline.org
SUMMARY:TOT Shabbat! Purim - Please RSVP
DESCRIPTION:Dinner\, Music\, Shabbat Activities and Playtime \nEmail Morah Lisa if you would like to attend \nMorahLisaA@gmail.com \nFree and Open to the Community!\nFor families with children ages 0-4\nCelebrate Shabbat & Holidays!
URL:https://ctionline.org/event/tot-shabbat-purim/
LOCATION:Congregation Tifereth Israel\, 40 Hill Street\, Glen Cove\, NY\, 11542\, United States
CATEGORIES:Young Family Programs
ATTACH;FMTTYPE=image/jpeg:https://ctionline.org/wp-content/uploads/2024/03/Purim-Carnival-Flyer-2024-event.jpg
ORGANIZER;CN="Lisa Aamodt":MAILTO:drlisa@ctionline.org
END:VEVENT
BEGIN:VEVENT
DTSTART;TZID=America/New_York:20250228T173000
DTEND;TZID=America/New_York:20250228T183000
DTSTAMP:20260419T084227
CREATED:20250228T130955Z
LAST-MODIFIED:20250228T133337Z
UID:10003527-1740763800-1740767400@ctionline.org
SUMMARY:TOT Shabbat! TU B’SHEVAT - Please RSVP
DESCRIPTION:Dinner\, Music\, Shabbat Activities and Playtime \nEmail Morah Lisa if you would like to attend \nMorahLisaA@gmail.com \nFree and Open to the Community!\nFor families with children ages 0-4\nCelebrate Shabbat & Holidays!
URL:https://ctionline.org/event/tot-shabbat-tu-bshevat-please-rsvp/
LOCATION:Congregation Tifereth Israel\, 40 Hill Street\, Glen Cove\, NY\, 11542\, United States
CATEGORIES:Young Family Programs
ATTACH;FMTTYPE=image/jpeg:https://ctionline.org/wp-content/uploads/2024/01/tubeshbat.jpg
ORGANIZER;CN="Lisa Aamodt":MAILTO:drlisa@ctionline.org
END:VEVENT
BEGIN:VEVENT
DTSTART;TZID=America/New_York:20250207T173000
DTEND;TZID=America/New_York:20250207T183000
DTSTAMP:20260419T084227
CREATED:20240821T130213Z
LAST-MODIFIED:20240821T131104Z
UID:10003370-1738949400-1738953000@ctionline.org
SUMMARY:TOT Shabbat! Tu B'Shevat
DESCRIPTION:Dinner\, Music\, Shabbat Activities and Playtime \nEmail Morah Lisa if you would like to attend \nMorahLisaA@gmail.com \nFree and Open to the Community!\nFor families with children ages 0-4\nCelebrate Shabbat & Holidays!
URL:https://ctionline.org/event/tot-shabbat-tu-bshevat/
LOCATION:Congregation Tifereth Israel\, 40 Hill Street\, Glen Cove\, NY\, 11542\, United States
CATEGORIES:Young Family Programs
ATTACH;FMTTYPE=image/png:https://ctionline.org/wp-content/uploads/2024/02/tubeshbat__transparent.png
ORGANIZER;CN="Lisa Aamodt":MAILTO:drlisa@ctionline.org
END:VEVENT
BEGIN:VEVENT
DTSTART;TZID=America/New_York:20250202T110000
DTEND;TZID=America/New_York:20250202T123000
DTSTAMP:20260419T084227
CREATED:20240823T184836Z
LAST-MODIFIED:20240823T184836Z
UID:10003377-1738494000-1738499400@ctionline.org
SUMMARY:B-Mitzvah Program  - Enrichment for 6th and 7th Graders and Parents
DESCRIPTION:For 6th and 7th graders and parents
URL:https://ctionline.org/event/b-mitzvah-program-enrichment-for-6th-and-7th-graders-and-parents-2/
LOCATION:Congregation Tifereth Israel\, 40 Hill Street\, Glen Cove\, NY\, 11542\, United States
CATEGORIES:Bar/Bat Mitzvahs,Family
ATTACH;FMTTYPE=image/jpeg:https://ctionline.org/wp-content/uploads/2024/02/Torah-2.jpg
END:VEVENT
BEGIN:VEVENT
DTSTART;TZID=America/New_York:20250125T100000
DTEND;TZID=America/New_York:20250125T113000
DTSTAMP:20260419T084227
CREATED:20240303T225558Z
LAST-MODIFIED:20240318T163917Z
UID:10002055-1737799200-1737804600@ctionline.org
SUMMARY:Simon Zelkind Bar Mitzvah - Parashat Vaera
DESCRIPTION:
URL:https://ctionline.org/event/simon-zelkind-bar-mitzvah-parashat-vaera/
LOCATION:Congregation Tifereth Israel\, 40 Hill Street\, Glen Cove\, NY\, 11542\, United States
CATEGORIES:Bar/Bat Mitzvahs
ATTACH;FMTTYPE=image/jpeg:https://ctionline.org/wp-content/uploads/2024/03/Bar-Mitzvah-1.jpeg
ORGANIZER;CN="CTI Office":MAILTO:office@ctionline.org
END:VEVENT
BEGIN:VEVENT
DTSTART;TZID=America/New_York:20250111T170000
DTEND;TZID=America/New_York:20250111T180000
DTSTAMP:20260419T084227
CREATED:20240303T225618Z
LAST-MODIFIED:20240318T163917Z
UID:10002054-1736614800-1736618400@ctionline.org
SUMMARY:Eliana Ecker Bat Mitzvah - Parashat Shemot
DESCRIPTION:
URL:https://ctionline.org/event/eliana-ecker-bat-mitzvah-parashat-shemot/
LOCATION:Congregation Tifereth Israel\, 40 Hill Street\, Glen Cove\, NY\, 11542\, United States
CATEGORIES:Bar/Bat Mitzvahs
ATTACH;FMTTYPE=image/jpeg:https://ctionline.org/wp-content/uploads/2024/03/Bat-Mitzvah-2.jpg
ORGANIZER;CN="CTI Office":MAILTO:office@ctionline.org
END:VEVENT
BEGIN:VEVENT
DTSTART;TZID=America/New_York:20250105T110000
DTEND;TZID=America/New_York:20250105T123000
DTSTAMP:20260419T084227
CREATED:20240823T184735Z
LAST-MODIFIED:20240823T184735Z
UID:10003376-1736074800-1736080200@ctionline.org
SUMMARY:B-Mitzvah Program  - Enrichment for 6th and 7th Graders and Parents
DESCRIPTION:For 6th and 7th graders and parents
URL:https://ctionline.org/event/b-mitzvah-program-enrichment-for-6th-and-7th-graders-and-parents/
LOCATION:Congregation Tifereth Israel\, 40 Hill Street\, Glen Cove\, NY\, 11542\, United States
CATEGORIES:Bar/Bat Mitzvahs,Family
ATTACH;FMTTYPE=image/jpeg:https://ctionline.org/wp-content/uploads/2024/02/Torah-2.jpg
END:VEVENT
BEGIN:VEVENT
DTSTART;TZID=America/New_York:20250103T173000
DTEND;TZID=America/New_York:20250103T183000
DTSTAMP:20260419T084227
CREATED:20240821T132207Z
LAST-MODIFIED:20240821T132207Z
UID:10003375-1735925400-1735929000@ctionline.org
SUMMARY:TOT Shabbat! Hannukah
DESCRIPTION:Dinner\, Music\, Shabbat Activities and Playtime \nEmail Morah Lisa if you would like to attend \nMorahLisaA@gmail.com \nFree and Open to the Community!\nFor families with children ages 0-4\nCelebrate Shabbat & Holidays!
URL:https://ctionline.org/event/tot-shabbat-hannukah-2/
LOCATION:Congregation Tifereth Israel\, 40 Hill Street\, Glen Cove\, NY\, 11542\, United States
CATEGORIES:Young Family Programs
ATTACH;FMTTYPE=image/jpeg:https://ctionline.org/wp-content/uploads/2024/01/Chanukah-2022-13-1200.jpg
ORGANIZER;CN="Lisa Aamodt":MAILTO:drlisa@ctionline.org
END:VEVENT
BEGIN:VEVENT
DTSTART;TZID=America/New_York:20241206T173000
DTEND;TZID=America/New_York:20241206T183000
DTSTAMP:20260419T084227
CREATED:20240821T130017Z
LAST-MODIFIED:20240906T163031Z
UID:10003369-1733506200-1733509800@ctionline.org
SUMMARY:TOT Shabbat! Hannukah
DESCRIPTION:Dinner\, Music\, Shabbat Activities and Playtime \nEmail Morah Lisa if you would like to attend \nMorahLisaA@gmail.com \nFree and Open to the Community!\nFor families with children ages 0-4\nCelebrate Shabbat & Holidays!
URL:https://ctionline.org/event/tot-shabbat-hannukah/
LOCATION:Congregation Tifereth Israel\, 40 Hill Street\, Glen Cove\, NY\, 11542\, United States
CATEGORIES:Young Family Programs
ATTACH;FMTTYPE=image/jpeg:https://ctionline.org/wp-content/uploads/2024/01/Chanukah-2022-13-1200.jpg
ORGANIZER;CN="Lisa Aamodt":MAILTO:drlisa@ctionline.org
END:VEVENT
BEGIN:VEVENT
DTSTART;TZID=America/New_York:20241117T103000
DTEND;TZID=America/New_York:20241117T103000
DTSTAMP:20260419T084227
CREATED:20240823T184457Z
LAST-MODIFIED:20240824T145817Z
UID:10003378-1731839400-1731839400@ctionline.org
SUMMARY:B-Mitzvah Program  - Parent Orientation
DESCRIPTION:For the parents of 6th and 7th graders
URL:https://ctionline.org/event/b-mitzvah-program-parent-orientation/
LOCATION:Congregation Tifereth Israel\, 40 Hill Street\, Glen Cove\, NY\, 11542\, United States
CATEGORIES:Bar/Bat Mitzvahs,Family
ATTACH;FMTTYPE=image/jpeg:https://ctionline.org/wp-content/uploads/2024/02/Torah-2.jpg
END:VEVENT
BEGIN:VEVENT
DTSTART;TZID=America/New_York:20241101T173000
DTEND;TZID=America/New_York:20241101T183000
DTSTAMP:20260419T084227
CREATED:20240821T125738Z
LAST-MODIFIED:20240821T130955Z
UID:10003368-1730482200-1730485800@ctionline.org
SUMMARY:TOT Shabbat! Simchat Torah
DESCRIPTION:Dinner\, Music\, Shabbat Activities and Playtime \nEmail Morah Lisa if you would like to attend \nMorahLisaA@gmail.com \nFree and Open to the Community!\nFor families with children ages 0-4\nCelebrate Shabbat & Holidays!
URL:https://ctionline.org/event/tot-shabbat-simchat-torah/
LOCATION:Congregation Tifereth Israel\, 40 Hill Street\, Glen Cove\, NY\, 11542\, United States
CATEGORIES:Young Family Programs
ATTACH;FMTTYPE=image/jpeg:https://ctionline.org/wp-content/uploads/2024/01/Simchat-Torah-2019-16.jpg
ORGANIZER;CN="Lisa Aamodt":MAILTO:drlisa@ctionline.org
END:VEVENT
BEGIN:VEVENT
DTSTART;TZID=America/New_York:20241019T100000
DTEND;TZID=America/New_York:20241019T120000
DTSTAMP:20260419T084227
CREATED:20240303T225638Z
LAST-MODIFIED:20240318T163930Z
UID:10002053-1729332000-1729339200@ctionline.org
SUMMARY:Lilee Stauffiger Bat Mitzvah
DESCRIPTION:
URL:https://ctionline.org/event/lilee-stauffiger-bat-mitzvah/
LOCATION:Congregation Tifereth Israel\, 40 Hill Street\, Glen Cove\, NY\, 11542\, United States
CATEGORIES:Bar/Bat Mitzvahs
ATTACH;FMTTYPE=image/jpeg:https://ctionline.org/wp-content/uploads/2024/03/Bat-Mitzvah-2.jpg
ORGANIZER;CN="CTI Office":MAILTO:office@ctionline.org
END:VEVENT
BEGIN:VEVENT
DTSTART;TZID=America/New_York:20241018T173000
DTEND;TZID=America/New_York:20241018T183000
DTSTAMP:20260419T084227
CREATED:20240821T125256Z
LAST-MODIFIED:20240927T205942Z
UID:10003367-1729272600-1729276200@ctionline.org
SUMMARY:TOT Shabbat! Sukkot
DESCRIPTION:Dinner\, Music\, Shabbat Activities and Playtime \nEmail Morah Lisa if you would like to attend \nMorahLisaA@gmail.com \nFree and Open to the Community!\nFor families with children ages 0-4\nCelebrate Shabbat & Holidays!
URL:https://ctionline.org/event/tot-shabbat-sukkot/
LOCATION:Congregation Tifereth Israel\, 40 Hill Street\, Glen Cove\, NY\, 11542\, United States
CATEGORIES:Holidays,Young Family Programs
ATTACH;FMTTYPE=image/jpeg:https://ctionline.org/wp-content/uploads/2024/03/Sukkot-lemons.jpg
ORGANIZER;CN="Lisa Aamodt":MAILTO:drlisa@ctionline.org
END:VEVENT
BEGIN:VEVENT
DTSTART;TZID=America/New_York:20241012T103000
DTEND;TZID=America/New_York:20241012T113000
DTSTAMP:20260419T084227
CREATED:20240927T174209Z
LAST-MODIFIED:20250309T220350Z
UID:10003518-1728729000-1728732600@ctionline.org
SUMMARY:Under The Tent - New Musical Family Service - Yom Kippur
DESCRIPTION:With Cantor Gustavo and Cantor Ze’ev \n 
URL:https://ctionline.org/event/under-the-tent-new-musical-family-service-yom-kippur/
LOCATION:Congregation Tifereth Israel\, 40 Hill Street\, Glen Cove\, NY\, 11542\, United States
CATEGORIES:Family,High Holidays,Holiday Services
END:VEVENT
BEGIN:VEVENT
DTSTART;TZID=America/New_York:20241004T103000
DTEND;TZID=America/New_York:20241004T113000
DTSTAMP:20260419T084227
CREATED:20240927T174326Z
LAST-MODIFIED:20250310T003142Z
UID:10003519-1728037800-1728041400@ctionline.org
SUMMARY:Under The Tent - New Musical Family Service - Rosh Hashanah
DESCRIPTION:With Cantor Gustavo and Cantor Ze’ev \nMusic\, Movement\, Apples and Honey
URL:https://ctionline.org/event/under-the-tent-new-musical-family-service-rosh-hashanah-2/
LOCATION:Congregation Tifereth Israel\, 40 Hill Street\, Glen Cove\, NY\, 11542\, United States
CATEGORIES:Family,Holiday Services,Holidays
END:VEVENT
BEGIN:VEVENT
DTSTART;TZID=America/New_York:20241003T103000
DTEND;TZID=America/New_York:20241003T113000
DTSTAMP:20260419T084227
CREATED:20240927T173858Z
LAST-MODIFIED:20250310T003151Z
UID:10003517-1727951400-1727955000@ctionline.org
SUMMARY:Under The Tent - New Musical Family Service - Rosh Hashanah
DESCRIPTION:With Cantor Gustavo and Cantor Ze’ev \nMusic\, Movement\, Apples and Honey
URL:https://ctionline.org/event/under-the-tent-new-musical-family-service-rosh-hashanah/
LOCATION:Congregation Tifereth Israel\, 40 Hill Street\, Glen Cove\, NY\, 11542\, United States
CATEGORIES:Family,Holiday Services,Holidays
END:VEVENT
BEGIN:VEVENT
DTSTART;TZID=America/New_York:20240920T173000
DTEND;TZID=America/New_York:20240920T183000
DTSTAMP:20260419T084227
CREATED:20240821T124759Z
LAST-MODIFIED:20240821T130825Z
UID:10003366-1726853400-1726857000@ctionline.org
SUMMARY:TOT Shabbat! Rosh Hashanah
DESCRIPTION:Dinner\, Music\, Shabbat Activities and Playtime \nEmail Morah Lisa if you would like to attend \nMorahLisaA@gmail.com \nFree and Open to the Community!\nFor families with children ages 0-4\nCelebrate Shabbat & Holidays!
URL:https://ctionline.org/event/tot-shabbat-rosh-hashanah/
LOCATION:Congregation Tifereth Israel\, 40 Hill Street\, Glen Cove\, NY\, 11542\, United States
CATEGORIES:Young Family Programs
ATTACH;FMTTYPE=image/jpeg:https://ctionline.org/wp-content/uploads/2024/02/shabbat_oneg.jpg
ORGANIZER;CN="Lisa Aamodt":MAILTO:drlisa@ctionline.org
END:VEVENT
BEGIN:VEVENT
DTSTART;TZID=America/New_York:20240824T100000
DTEND;TZID=America/New_York:20240824T110000
DTSTAMP:20260419T084227
CREATED:20240303T225703Z
LAST-MODIFIED:20240318T163937Z
UID:10002052-1724493600-1724497200@ctionline.org
SUMMARY:Jacob Macnow Bar Mitzvah Anniversary
DESCRIPTION:
URL:https://ctionline.org/event/jacob-macnow-bar-mitzvah-anniversary/
LOCATION:Congregation Tifereth Israel\, 40 Hill Street\, Glen Cove\, NY\, 11542\, United States
CATEGORIES:Bar/Bat Mitzvahs
ATTACH;FMTTYPE=image/jpeg:https://ctionline.org/wp-content/uploads/2024/03/Bar-Mitzvah-1.jpeg
ORGANIZER;CN="CTI Office":MAILTO:office@ctionline.org
END:VEVENT
BEGIN:VEVENT
DTSTART;TZID=America/New_York:20240721T170000
DTEND;TZID=America/New_York:20240721T190000
DTSTAMP:20260419T084227
CREATED:20240719T102711Z
LAST-MODIFIED:20240719T103402Z
UID:10003364-1721581200-1721588400@ctionline.org
SUMMARY:PJ Library presents it's Indoor Summer Movie Nights: "Wreck It Ralph Breaks the Internet".
DESCRIPTION: 
URL:https://ctionline.org/event/pj-library-presents-its-indoor-summer-movie-nights-wreck-it-ralph-breaks-the-internet/
LOCATION:Congregation Tifereth Israel\, 40 Hill Street\, Glen Cove\, NY\, 11542\, United States
CATEGORIES:Family,Young Family Programs
END:VEVENT
BEGIN:VEVENT
DTSTART;TZID=America/New_York:20240629T100000
DTEND;TZID=America/New_York:20240629T110000
DTSTAMP:20260419T084227
CREATED:20240303T225350Z
LAST-MODIFIED:20240318T163939Z
UID:10002049-1719655200-1719658800@ctionline.org
SUMMARY:Neal Roher Bar Mitzvah Anniversary
DESCRIPTION:
URL:https://ctionline.org/event/neal-roher-bar-mitzvah-anniversary/
LOCATION:Congregation Tifereth Israel\, 40 Hill Street\, Glen Cove\, NY\, 11542\, United States
CATEGORIES:Bar/Bat Mitzvahs
ATTACH;FMTTYPE=image/jpeg:https://ctionline.org/wp-content/uploads/2024/03/Bar-Mitzvah-1.jpeg
ORGANIZER;CN="CTI Office":MAILTO:office@ctionline.org
END:VEVENT
BEGIN:VEVENT
DTSTART;TZID=America/New_York:20240622T100000
DTEND;TZID=America/New_York:20240622T110000
DTSTAMP:20260419T084227
CREATED:20240303T225326Z
LAST-MODIFIED:20240318T163940Z
UID:10002048-1719050400-1719054000@ctionline.org
SUMMARY:Ken Hoffman Bar Mitzvah Anniversary
DESCRIPTION:
URL:https://ctionline.org/event/ken-hoffman-bar-mitzvah-anniversary/
LOCATION:Congregation Tifereth Israel\, 40 Hill Street\, Glen Cove\, NY\, 11542\, United States
CATEGORIES:Bar/Bat Mitzvahs
ATTACH;FMTTYPE=image/jpeg:https://ctionline.org/wp-content/uploads/2024/03/Bar-Mitzvah-1.jpeg
ORGANIZER;CN="CTI Office":MAILTO:office@ctionline.org
END:VEVENT
BEGIN:VEVENT
DTSTART;TZID=America/New_York:20240615T100000
DTEND;TZID=America/New_York:20240615T110000
DTSTAMP:20260419T084227
CREATED:20240303T225259Z
LAST-MODIFIED:20240318T163941Z
UID:10002047-1718445600-1718449200@ctionline.org
SUMMARY:Steve Mandelkorn Bar Mitzvah Anniversary
DESCRIPTION:
URL:https://ctionline.org/event/steve-mandelkorn-bar-mitzvah-anniversary/
LOCATION:Congregation Tifereth Israel\, 40 Hill Street\, Glen Cove\, NY\, 11542\, United States
CATEGORIES:Bar/Bat Mitzvahs
ATTACH;FMTTYPE=image/jpeg:https://ctionline.org/wp-content/uploads/2024/03/Bar-Mitzvah-1.jpeg
ORGANIZER;CN="CTI Office":MAILTO:office@ctionline.org
END:VEVENT
BEGIN:VEVENT
DTSTART;TZID=America/New_York:20240607T173000
DTEND;TZID=America/New_York:20240607T183000
DTSTAMP:20260419T084227
CREATED:20240303T234315Z
LAST-MODIFIED:20240318T163946Z
UID:10002102-1717781400-1717785000@ctionline.org
SUMMARY:TOT Shabbat!  At the Beach
DESCRIPTION:Free and Open to the Community!\nFor families with children ages 0-4\nCelebrate Shabbat & Holidays!
URL:https://ctionline.org/event/tot-shabbat-at-the-beach/
LOCATION:Congregation Tifereth Israel\, 40 Hill Street\, Glen Cove\, NY\, 11542\, United States
CATEGORIES:Young Family Programs
ATTACH;FMTTYPE=image/jpeg:https://ctionline.org/wp-content/uploads/2024/03/Tot-Shabbat-at-the-beach-event.jpg
ORGANIZER;CN="Lisa Aamodt":MAILTO:drlisa@ctionline.org
END:VEVENT
BEGIN:VEVENT
DTSTART;TZID=America/New_York:20240525T100000
DTEND;TZID=America/New_York:20240525T110000
DTSTAMP:20260419T084227
CREATED:20240303T225212Z
LAST-MODIFIED:20240318T163948Z
UID:10002045-1716631200-1716634800@ctionline.org
SUMMARY:Mark Deifik Bar Mitzvah Anniversary
DESCRIPTION:
URL:https://ctionline.org/event/mark-deifik-bar-mitzvah-anniversary/
LOCATION:Congregation Tifereth Israel\, 40 Hill Street\, Glen Cove\, NY\, 11542\, United States
CATEGORIES:Bar/Bat Mitzvahs
ATTACH;FMTTYPE=image/jpeg:https://ctionline.org/wp-content/uploads/2024/03/Bar-Mitzvah-1.jpeg
ORGANIZER;CN="CTI Office":MAILTO:office@ctionline.org
END:VEVENT
BEGIN:VEVENT
DTSTART;TZID=America/New_York:20240518T103000
DTEND;TZID=America/New_York:20240518T113000
DTSTAMP:20260419T084227
CREATED:20240303T225156Z
LAST-MODIFIED:20240318T163949Z
UID:10002044-1716028200-1716031800@ctionline.org
SUMMARY:Howard Kantrowitz Bar Mitzvah Anniversary
DESCRIPTION:Kenzie Gottlieb’s Bat Mitzvah
URL:https://ctionline.org/event/howard-kantrowitz-bar-mitzvah-anniversary/
LOCATION:Congregation Tifereth Israel\, 40 Hill Street\, Glen Cove\, NY\, 11542\, United States
CATEGORIES:Bar/Bat Mitzvahs
ATTACH;FMTTYPE=image/jpeg:https://ctionline.org/wp-content/uploads/2024/03/Bat-Mitzvah-3.jpg
ORGANIZER;CN="CTI Office":MAILTO:office@ctionline.org
END:VEVENT
END:VCALENDAR