BEGIN:VCALENDAR
VERSION:2.0
PRODID:-//Congregation Tifereth Israel - ECPv6.15.17.1//NONSGML v1.0//EN
CALSCALE:GREGORIAN
METHOD:PUBLISH
X-WR-CALNAME:Congregation Tifereth Israel
X-ORIGINAL-URL:https://ctionline.org
X-WR-CALDESC:Events for Congregation Tifereth Israel
REFRESH-INTERVAL;VALUE=DURATION:PT1H
X-Robots-Tag:noindex
X-PUBLISHED-TTL:PT1H
BEGIN:VTIMEZONE
TZID:America/New_York
BEGIN:DAYLIGHT
TZOFFSETFROM:-0500
TZOFFSETTO:-0400
TZNAME:EDT
DTSTART:20260308T070000
END:DAYLIGHT
BEGIN:STANDARD
TZOFFSETFROM:-0400
TZOFFSETTO:-0500
TZNAME:EST
DTSTART:20261101T060000
END:STANDARD
BEGIN:DAYLIGHT
TZOFFSETFROM:-0500
TZOFFSETTO:-0400
TZNAME:EDT
DTSTART:20270314T070000
END:DAYLIGHT
BEGIN:STANDARD
TZOFFSETFROM:-0400
TZOFFSETTO:-0500
TZNAME:EST
DTSTART:20271107T060000
END:STANDARD
BEGIN:DAYLIGHT
TZOFFSETFROM:-0500
TZOFFSETTO:-0400
TZNAME:EDT
DTSTART:20280312T070000
END:DAYLIGHT
BEGIN:STANDARD
TZOFFSETFROM:-0400
TZOFFSETTO:-0500
TZNAME:EST
DTSTART:20281105T060000
END:STANDARD
END:VTIMEZONE
BEGIN:VEVENT
DTSTART;TZID=America/New_York:20270307T100000
DTEND;TZID=America/New_York:20270307T121500
DTSTAMP:20260420T003157
CREATED:20250827T213724Z
LAST-MODIFIED:20250827T213724Z
UID:10006516-1804413600-1804421700@ctionline.org
SUMMARY:Limud
DESCRIPTION:
URL:https://ctionline.org/event/limud/2027-03-07/
LOCATION:Congregation Tifereth Israel\, 40 Hill Street\, Glen Cove\, NY\, 11542\, United States
CATEGORIES:Family
END:VEVENT
BEGIN:VEVENT
DTSTART;TZID=America/New_York:20270314T100000
DTEND;TZID=America/New_York:20270314T121500
DTSTAMP:20260420T003157
CREATED:20250827T213724Z
LAST-MODIFIED:20250827T213724Z
UID:10006517-1805018400-1805026500@ctionline.org
SUMMARY:Limud
DESCRIPTION:
URL:https://ctionline.org/event/limud/2027-03-14/
LOCATION:Congregation Tifereth Israel\, 40 Hill Street\, Glen Cove\, NY\, 11542\, United States
CATEGORIES:Family
END:VEVENT
BEGIN:VEVENT
DTSTART;TZID=America/New_York:20270321T100000
DTEND;TZID=America/New_York:20270321T121500
DTSTAMP:20260420T003157
CREATED:20250827T213724Z
LAST-MODIFIED:20250827T213724Z
UID:10006518-1805623200-1805631300@ctionline.org
SUMMARY:Limud
DESCRIPTION:
URL:https://ctionline.org/event/limud/2027-03-21/
LOCATION:Congregation Tifereth Israel\, 40 Hill Street\, Glen Cove\, NY\, 11542\, United States
CATEGORIES:Family
END:VEVENT
BEGIN:VEVENT
DTSTART;TZID=America/New_York:20270328T100000
DTEND;TZID=America/New_York:20270328T121500
DTSTAMP:20260420T003157
CREATED:20250827T213724Z
LAST-MODIFIED:20250827T213724Z
UID:10006519-1806228000-1806236100@ctionline.org
SUMMARY:Limud
DESCRIPTION:
URL:https://ctionline.org/event/limud/2027-03-28/
LOCATION:Congregation Tifereth Israel\, 40 Hill Street\, Glen Cove\, NY\, 11542\, United States
CATEGORIES:Family
END:VEVENT
END:VCALENDAR