BEGIN:VCALENDAR
VERSION:2.0
PRODID:-//Congregation Tifereth Israel - ECPv6.15.17.1//NONSGML v1.0//EN
CALSCALE:GREGORIAN
METHOD:PUBLISH
X-ORIGINAL-URL:https://ctionline.org
X-WR-CALDESC:Events for Congregation Tifereth Israel
REFRESH-INTERVAL;VALUE=DURATION:PT1H
X-Robots-Tag:noindex
X-PUBLISHED-TTL:PT1H
BEGIN:VTIMEZONE
TZID:America/New_York
BEGIN:DAYLIGHT
TZOFFSETFROM:-0500
TZOFFSETTO:-0400
TZNAME:EDT
DTSTART:20240310T070000
END:DAYLIGHT
BEGIN:STANDARD
TZOFFSETFROM:-0400
TZOFFSETTO:-0500
TZNAME:EST
DTSTART:20241103T060000
END:STANDARD
BEGIN:DAYLIGHT
TZOFFSETFROM:-0500
TZOFFSETTO:-0400
TZNAME:EDT
DTSTART:20250309T070000
END:DAYLIGHT
BEGIN:STANDARD
TZOFFSETFROM:-0400
TZOFFSETTO:-0500
TZNAME:EST
DTSTART:20251102T060000
END:STANDARD
BEGIN:DAYLIGHT
TZOFFSETFROM:-0500
TZOFFSETTO:-0400
TZNAME:EDT
DTSTART:20260308T070000
END:DAYLIGHT
BEGIN:STANDARD
TZOFFSETFROM:-0400
TZOFFSETTO:-0500
TZNAME:EST
DTSTART:20261101T060000
END:STANDARD
END:VTIMEZONE
BEGIN:VEVENT
DTSTART;TZID=America/New_York:20251102T100000
DTEND;TZID=America/New_York:20251102T121500
DTSTAMP:20260419T144607
CREATED:20250827T213724Z
LAST-MODIFIED:20250827T213724Z
UID:10006446-1762077600-1762085700@ctionline.org
SUMMARY:Limud
DESCRIPTION:
URL:https://ctionline.org/event/limud/2025-11-02/
LOCATION:Congregation Tifereth Israel\, 40 Hill Street\, Glen Cove\, NY\, 11542\, United States
CATEGORIES:Family
END:VEVENT
BEGIN:VEVENT
DTSTART;TZID=America/New_York:20251107T173000
DTEND;TZID=America/New_York:20251107T183000
DTSTAMP:20260419T144607
CREATED:20251102T010701Z
LAST-MODIFIED:20251102T010701Z
UID:10008926-1762536600-1762540200@ctionline.org
SUMMARY:Join Us for Family II Shabbat at Congregation Tifereth Israel!
DESCRIPTION:You’re Invited to Family II Shabbat!\nDate: Tuesday\, November 7\nTime: 5:30 PM – 6:30 PM\nLocation: Congregation Tifereth Israel – 40 Hill Street & Landing Road\, Glen Cove\, NY 11542 \nCelebrate Shabbat with Joy and Togetherness!\nJoin us for a heartwarming evening filled with music\, dancing\, and delicious food. Whether you’re a long-time member of our community or new to Congregation Tifereth Israel\, this is the perfect opportunity to connect\, celebrate\, and create lasting memories with your loved ones. \nWhat’s in Store? \n\nKabbalat Music: Let the beautiful melodies of Shabbat uplift your spirit.\nShabbat Dancing: Get ready to move and groove as we celebrate together!\nFamily Dinner: Share a delightful meal with friends and family in a warm\, welcoming atmosphere.\n\nThis event is designed for everyone—kids and adults alike! Bring your family\, your friends\, and your love for Shabbat. \nWe Can’t Wait to See You!\nFor more information or to RSVP\, please contact: \n\nEmail: naomij@ctionline.org\nPhone: (516) 676-5080\nGeneral Inquiries: office@ctionline.org\n\nLet’s make this Shabbat celebration one to remember. See you there!
URL:https://ctionline.org/event/join-us-for-family-ii-shabbat-at-congregation-tifereth-israel/
LOCATION:Congregation Tifereth Israel\, 40 Hill Street\, Glen Cove\, NY\, 11542\, United States
CATEGORIES:Community,Family
END:VEVENT
BEGIN:VEVENT
DTSTART;TZID=America/New_York:20251109T100000
DTEND;TZID=America/New_York:20251109T121500
DTSTAMP:20260419T144607
CREATED:20250827T213724Z
LAST-MODIFIED:20250827T213724Z
UID:10006447-1762682400-1762690500@ctionline.org
SUMMARY:Limud
DESCRIPTION:
URL:https://ctionline.org/event/limud/2025-11-09/
LOCATION:Congregation Tifereth Israel\, 40 Hill Street\, Glen Cove\, NY\, 11542\, United States
CATEGORIES:Family
END:VEVENT
BEGIN:VEVENT
DTSTART;TZID=America/New_York:20251116T100000
DTEND;TZID=America/New_York:20251116T121500
DTSTAMP:20260419T144607
CREATED:20250827T213724Z
LAST-MODIFIED:20250827T213724Z
UID:10006448-1763287200-1763295300@ctionline.org
SUMMARY:Limud
DESCRIPTION:
URL:https://ctionline.org/event/limud/2025-11-16/
LOCATION:Congregation Tifereth Israel\, 40 Hill Street\, Glen Cove\, NY\, 11542\, United States
CATEGORIES:Family
END:VEVENT
BEGIN:VEVENT
DTSTART;TZID=America/New_York:20251122T100000
DTEND;TZID=America/New_York:20251122T113000
DTSTAMP:20260419T144607
CREATED:20240303T222903Z
LAST-MODIFIED:20240318T163908Z
UID:10002058-1763805600-1763811000@ctionline.org
SUMMARY:Jack Mason-Kurland Bar Mitzvah - Parashat Toldot
DESCRIPTION:
URL:https://ctionline.org/event/jack-mason-kurland-bar-mitzvah-parashat-toldot/
LOCATION:Congregation Tifereth Israel\, 40 Hill Street\, Glen Cove\, NY\, 11542\, United States
CATEGORIES:Bar/Bat Mitzvahs
ATTACH;FMTTYPE=image/jpeg:https://ctionline.org/wp-content/uploads/2024/03/Bar-Mitzvah-1.jpeg
ORGANIZER;CN="CTI Office":MAILTO:office@ctionline.org
END:VEVENT
BEGIN:VEVENT
DTSTART;TZID=America/New_York:20251123T100000
DTEND;TZID=America/New_York:20251123T121500
DTSTAMP:20260419T144607
CREATED:20250827T213724Z
LAST-MODIFIED:20250827T213724Z
UID:10006449-1763892000-1763900100@ctionline.org
SUMMARY:Limud
DESCRIPTION:
URL:https://ctionline.org/event/limud/2025-11-23/
LOCATION:Congregation Tifereth Israel\, 40 Hill Street\, Glen Cove\, NY\, 11542\, United States
CATEGORIES:Family
END:VEVENT
BEGIN:VEVENT
DTSTART;TZID=America/New_York:20251130T100000
DTEND;TZID=America/New_York:20251130T121500
DTSTAMP:20260419T144607
CREATED:20250827T213724Z
LAST-MODIFIED:20250827T213724Z
UID:10006450-1764496800-1764504900@ctionline.org
SUMMARY:Limud
DESCRIPTION:
URL:https://ctionline.org/event/limud/2025-11-30/
LOCATION:Congregation Tifereth Israel\, 40 Hill Street\, Glen Cove\, NY\, 11542\, United States
CATEGORIES:Family
END:VEVENT
END:VCALENDAR