BEGIN:VCALENDAR
VERSION:2.0
PRODID:-//Congregation Tifereth Israel - ECPv6.15.17.1//NONSGML v1.0//EN
CALSCALE:GREGORIAN
METHOD:PUBLISH
X-WR-CALNAME:Congregation Tifereth Israel
X-ORIGINAL-URL:https://ctionline.org
X-WR-CALDESC:Events for Congregation Tifereth Israel
REFRESH-INTERVAL;VALUE=DURATION:PT1H
X-Robots-Tag:noindex
X-PUBLISHED-TTL:PT1H
BEGIN:VTIMEZONE
TZID:America/New_York
BEGIN:DAYLIGHT
TZOFFSETFROM:-0500
TZOFFSETTO:-0400
TZNAME:EDT
DTSTART:20240310T070000
END:DAYLIGHT
BEGIN:STANDARD
TZOFFSETFROM:-0400
TZOFFSETTO:-0500
TZNAME:EST
DTSTART:20241103T060000
END:STANDARD
BEGIN:DAYLIGHT
TZOFFSETFROM:-0500
TZOFFSETTO:-0400
TZNAME:EDT
DTSTART:20250309T070000
END:DAYLIGHT
BEGIN:STANDARD
TZOFFSETFROM:-0400
TZOFFSETTO:-0500
TZNAME:EST
DTSTART:20251102T060000
END:STANDARD
BEGIN:DAYLIGHT
TZOFFSETFROM:-0500
TZOFFSETTO:-0400
TZNAME:EDT
DTSTART:20260308T070000
END:DAYLIGHT
BEGIN:STANDARD
TZOFFSETFROM:-0400
TZOFFSETTO:-0500
TZNAME:EST
DTSTART:20261101T060000
END:STANDARD
END:VTIMEZONE
BEGIN:VEVENT
DTSTART;TZID=America/New_York:20251026T133000
DTEND;TZID=America/New_York:20251026T170000
DTSTAMP:20260421T074708
CREATED:20250902T170832Z
LAST-MODIFIED:20250902T170832Z
UID:10007239-1761485400-1761498000@ctionline.org
SUMMARY:CTI TAG SALE SCHLEP DAY - 1:30-5:00 pm
DESCRIPTION:DO NOT ARRIVE BEFORE 1:300 PM (While Limud/Hebrew School) is in session)
URL:https://ctionline.org/event/cti-tag-sale-schlep-day-130-500-pm/
LOCATION:Congregation Tifereth Israel\, 40 Hill Street\, Glen Cove\, NY\, 11542\, United States
CATEGORIES:Community
END:VEVENT
BEGIN:VEVENT
DTSTART;TZID=America/New_York:20251021T133000
DTEND;TZID=America/New_York:20251021T153000
DTSTAMP:20260421T074708
CREATED:20250902T170504Z
LAST-MODIFIED:20250902T170504Z
UID:10007234-1761053400-1761060600@ctionline.org
SUMMARY:Canasta
DESCRIPTION:LED BY LYNNE BARSKY \nOpen play Canasta at CTI – $5.00 drop-in fee \nPerfect for players wishing to enhance their skills in a friendly game. \nTUESDAYS\, 1:30-3:30 PM \nJULY 15 – AUGUST 26 \nMembers and non-members welcome. \nIf you know anyone who would benefit from this outreach or TO RESERVE YOUR SPOT\, EMAIL: LynneBarskyEdd@gmail.com \nDon’t know how to play\, but you want to learn? \nEmail Lynne to inquire about starting a class.
URL:https://ctionline.org/event/canasta-2/
LOCATION:Congregation Tifereth Israel\, 40 Hill Street\, Glen Cove\, NY\, 11542\, United States
CATEGORIES:Community
END:VEVENT
BEGIN:VEVENT
DTSTART;TZID=America/New_York:20251020T130000
DTEND;TZID=America/New_York:20251020T140000
DTSTAMP:20260421T074708
CREATED:20250902T170329Z
LAST-MODIFIED:20250902T170329Z
UID:10007233-1760965200-1760968800@ctionline.org
SUMMARY:Scam Session: Learn How To Spot & Avoid Getting Scammed
DESCRIPTION:
URL:https://ctionline.org/event/scam-session-learn-how-to-spot-avoid-getting-scammed/
LOCATION:Congregation Tifereth Israel\, 40 Hill Street\, Glen Cove\, NY\, 11542\, United States
CATEGORIES:Community
END:VEVENT
BEGIN:VEVENT
DTSTART;TZID=America/New_York:20251019T103000
DTEND;TZID=America/New_York:20251019T120000
DTSTAMP:20260421T074708
CREATED:20251005T045210Z
LAST-MODIFIED:20251005T045213Z
UID:10008925-1760869800-1760875200@ctionline.org
SUMMARY:Discover Upcoming Community Conversations
DESCRIPTION:Join a vibrant gathering designed to spark engaging discussions and foster community connections.\nSunday\, October 19\, 10:30 am – 12:00 pm \nJoin a vibrant gathering designed to spark engaging discussions and foster community connections. \n\nSuggest topics for future discussions by emailing ellen@ctionline.org\nEnjoy bagels and engaging conversation with fellow attendees\nFormat: In-person at Glen Cove\, NY and online via Zoom\nInteractive Element: Attendees are encouraged to suggest topics for future conversations\n\nThis information helps you easily access\, join\, and contribute to a welcoming community event.
URL:https://ctionline.org/event/discover-upcoming-community-conversations-2/
LOCATION:Congregation Tifereth Israel\, 40 Hill Street\, Glen Cove\, NY\, 11542\, United States
CATEGORIES:Community,Learning
ORGANIZER;CN="CTI Office":MAILTO:office@ctionline.org
END:VEVENT
BEGIN:VEVENT
DTSTART;TZID=America/New_York:20251019T103000
DTEND;TZID=America/New_York:20251019T120000
DTSTAMP:20260421T074708
CREATED:20250902T170203Z
LAST-MODIFIED:20250906T074501Z
UID:10007232-1760869800-1760875200@ctionline.org
SUMMARY:News & Views Current Affairs Discussion Group\, in-person & Zoom
DESCRIPTION:
URL:https://ctionline.org/event/news-views-current-affairs-discussion-group-in-person-zoom-22/
LOCATION:Congregation Tifereth Israel\, 40 Hill Street\, Glen Cove\, NY\, 11542\, United States
CATEGORIES:Community
ORGANIZER;CN="CTI Office":MAILTO:office@ctionline.org
END:VEVENT
BEGIN:VEVENT
DTSTART;TZID=America/New_York:20250921T103000
DTEND;TZID=America/New_York:20250921T120000
DTSTAMP:20260421T074708
CREATED:20250922T221411Z
LAST-MODIFIED:20250922T222535Z
UID:10008912-1758450600-1758456000@ctionline.org
SUMMARY:Discover Upcoming Community Conversations
DESCRIPTION:Join a vibrant gathering designed to spark engaging discussions and foster community connections.\nSunday\, September 21\, 10:30 am – 12:00 pm \nJoin a vibrant gathering designed to spark engaging discussions and foster community connections. \n\nSuggest topics for future discussions by emailing ellen@ctionline.org\nEnjoy bagels and engaging conversation with fellow attendees\nFormat: In-person at Glen Cove\, NY and online via Zoom\nInteractive Element: Attendees are encouraged to suggest topics for future conversations\n\nThis information helps you easily access\, join\, and contribute to a welcoming community event.
URL:https://ctionline.org/event/discover-upcoming-community-conversations/
LOCATION:Congregation Tifereth Israel\, 40 Hill Street\, Glen Cove\, NY\, 11542\, United States
CATEGORIES:Community,Learning
ORGANIZER;CN="CTI Office":MAILTO:office@ctionline.org
END:VEVENT
BEGIN:VEVENT
DTSTART;TZID=America/New_York:20250921T103000
DTEND;TZID=America/New_York:20250921T120000
DTSTAMP:20260421T074708
CREATED:20250829T204122Z
LAST-MODIFIED:20250829T204122Z
UID:10007222-1758450600-1758456000@ctionline.org
SUMMARY:News & Views Current Affairs Discussion Group\, in-person & Zoom
DESCRIPTION:Join Zoom Meeting\nhttps://us06web.zoom.us/j/95157742331 \nMeeting ID: 951 5774 2331\nPasscode: views \n— \nOne tap mobile\n+16469313860\,\,95157742331# US\n+16468769923\,\,95157742331# US (New York) \n— \nDial by your location\n• +1 646 931 3860 US\n• +1 646 876 9923 US (New York)\n• +1 305 224 1968 US\n• +1 309 205 3325 US\n• +1 312 626 6799 US (Chicago)\n• +1 301 715 8592 US (Washington DC)\n• +1 253 215 8782 US (Tacoma)\n• +1 346 248 7799 US (Houston)\n• +1 360 209 5623 US\n• +1 386 347 5053 US\n• +1 408 638 0968 US (San Jose)\n• +1 507 473 4847 US\n• +1 564 217 2000 US\n• +1 669 444 9171 US\n• +1 669 900 6833 US (San Jose)\n• +1 689 278 1000 US\n• +1 719 359 4580 US\n• +1 253 205 0468 US \nMeeting ID: 951 5774 2331 \nFind your local number: https://us06web.zoom.us/u/kdVXKgvvv
URL:https://ctionline.org/event/news-views-current-affairs-discussion-group-in-person-zoom-21/
LOCATION:Congregation Tifereth Israel\, 40 Hill Street\, Glen Cove\, NY\, 11542\, United States
CATEGORIES:Community
END:VEVENT
BEGIN:VEVENT
DTSTART;TZID=America/New_York:20250921T100000
DTEND;TZID=America/New_York:20250921T120000
DTSTAMP:20260421T074708
CREATED:20250922T221120Z
LAST-MODIFIED:20250922T222628Z
UID:10008911-1758448800-1758456000@ctionline.org
SUMMARY:Limud Family Community Event
DESCRIPTION:Join Us for a Limud Family Community Event: Tashlikh at Morgan Park\nSunday\, September 21st 10:00 AM – 12:00 PM  \nCelebrate the Jewish ritual of Tashlikh with us in a day filled with reflection\, renewal\, and fun for the whole family! \nLocation: Morgan Memorial Park\, 9 Glen St.\, Glen Cove \nEvent Highlights: \n\nTashlikh Service: Participate in the meaningful ritual of casting away sins and embracing a fresh start.\nIsraeli Sports: Enjoy engaging activities inspired by Israeli culture.\nLive Music: Experience the joy of live performances that bring the community together.\nArts & Crafts: Get creative with hands-on activities for all ages.\n\nBring your family\, friends\, and neighbors to share in this special celebration of community\, culture\, and spirituality. We look forward to seeing you there! \nLet’s come together to reflect\, renew\, and rejoice!
URL:https://ctionline.org/event/limud-family-community-event/
LOCATION:Congregation Tifereth Israel\, 40 Hill Street\, Glen Cove\, NY\, 11542\, United States
CATEGORIES:Community,Fun
END:VEVENT
BEGIN:VEVENT
DTSTART;TZID=America/New_York:20250914T103000
DTEND;TZID=America/New_York:20250914T113000
DTSTAMP:20260421T074708
CREATED:20250829T183921Z
LAST-MODIFIED:20250908T011843Z
UID:10007220-1757845800-1757849400@ctionline.org
SUMMARY:CTI’s Book Club
DESCRIPTION:Everyone’s Welcome!\nSunday September 14 10:30 am – On Zoom \n“…A melancholy book that also happens to be hopelessly\, miraculously\, unremittingly funny…[Grade’s] fretful characters vibrate…[and] Rose Waldman’s translation seems miraculous…” –Dwight Garner\, The New York Times \nhttps://us02web.zoom.us/j/82640315096
URL:https://ctionline.org/event/ctis-book-club/
LOCATION:Congregation Tifereth Israel\, 40 Hill Street\, Glen Cove\, NY\, 11542\, United States
CATEGORIES:Community
END:VEVENT
BEGIN:VEVENT
DTSTART;TZID=America/New_York:20250912T174500
DTEND;TZID=America/New_York:20250912T200000
DTSTAMP:20260421T074708
CREATED:20250829T214516Z
LAST-MODIFIED:20250829T214951Z
UID:10007223-1757699100-1757707200@ctionline.org
SUMMARY:Free Welcome-Back BBQ Dinner!
DESCRIPTION:Back from the beach\, straight to the feast—\nFriday September 12th – 5:45 PM \nJoin us for a delicious free welcome-back BBQ dinner! \nWelcome back from the summer Meet and greet old and new* friends * Meet Naomi our new CTI education director. Menu: Hot dogs\, Beyond Burgers\, Salads\, Fruit. \nRSVP by Sept 5 to: Krys@ctionline.org
URL:https://ctionline.org/event/free-welcome-back-bbq-dinner/
LOCATION:Congregation Tifereth Israel\, 40 Hill Street\, Glen Cove\, NY\, 11542\, United States
CATEGORIES:Community,Fun
END:VEVENT
BEGIN:VEVENT
DTSTART;TZID=America/New_York:20250909T133000
DTEND;TZID=America/New_York:20250909T153000
DTSTAMP:20260421T074708
CREATED:20250827T213923Z
LAST-MODIFIED:20250827T213923Z
UID:10006698-1757424600-1757431800@ctionline.org
SUMMARY:Canasta
DESCRIPTION:LED BY LYNNE BARSKY \nOpen play Canasta at CTI – $5.00 drop-in fee \nPerfect for players wishing to enhance their skills in a friendly game. \nTUESDAYS\, 1:30-3:30 PM \nJULY 15 – AUGUST 26 \nMembers and non-members welcome. \nIf you know anyone who would benefit from this outreach or TO RESERVE YOUR SPOT\, EMAIL: LynneBarskyEdd@gmail.com \nDon’t know how to play\, but you want to learn? \nEmail Lynne to inquire about starting a class.
URL:https://ctionline.org/event/canasta/
LOCATION:Congregation Tifereth Israel\, 40 Hill Street\, Glen Cove\, NY\, 11542\, United States
CATEGORIES:Community,Fun
END:VEVENT
BEGIN:VEVENT
DTSTART;TZID=America/New_York:20250827T081500
DTEND;TZID=America/New_York:20250827T091500
DTSTAMP:20260421T074708
CREATED:20250822T171501Z
LAST-MODIFIED:20250822T173743Z
UID:10004272-1756282500-1756286100@ctionline.org
SUMMARY:Wed Morning Shacharit Minyan
DESCRIPTION:Zoom CTI is inviting you to a scheduled Zoom meeting. \nTopic: CTI Shacharit Services\nTime: This is a recurring meeting Meet anytime \nJoin Zoom Meeting\nhttps://zoom.us/j/99149363611\nPasscode: Minyan\n\nSim Shalom Siddur:\nhttps://bit.ly/39NPjZe\n\n\nMeeting ID: 991 4936 3611\nPasscode: Minyan\n\nOne tap mobile\n+16468769923\,\,99149363611# US (New York)\n+13126266799\,\,99149363611# US (Chicago) \nDial by your location\n+1 646 876 9923 US (New York)\n+1 312 626 6799 US (Chicago)\n+1 301 715 8592 US (Germantown)\n+1 346 248 7799 US (Houston)\n+1 408 638 0968 US (San Jose)\n+1 669 900 6833 US (San Jose)\n+1 253 215 8782 US (Tacoma)\nMeeting ID: 991 4936 3611\nFind your local number: https://zoom.us/u/abRKGUQm30
URL:https://ctionline.org/event/morning-shacharit-minyan-13/
LOCATION:Congregation Tifereth Israel\, 40 Hill Street\, Glen Cove\, NY\, 11542\, United States
CATEGORIES:Community,Fun
END:VEVENT
BEGIN:VEVENT
DTSTART;TZID=America/New_York:20250826T160000
DTEND;TZID=America/New_York:20250826T180000
DTSTAMP:20260421T074708
CREATED:20250325T211753Z
LAST-MODIFIED:20250822T171308Z
UID:10003936-1756224000-1756231200@ctionline.org
SUMMARY:Knit and Crochet with Kate
DESCRIPTION:Both beginner and experienced crafters are welcome. \nFree instruction and ongoing project support. \nLet’s start something new\, continue an existing\nproject\, make something to donate\, and be social. \nMaterials will be available for purchase day of event (cash please).\n$7* includes: (1) 7oz skein Red Heart acrylic yarn &\n(1) pair 10″ straight knitting needles size 8 OR\n(1) 5.00mm crochet hook \nSpace is limited to 12\nRSVP to Barbara at Baronworld@aol.com \n*Price subject to change in the future
URL:https://ctionline.org/event/knit-and-crochet-with-kate/
LOCATION:Congregation Tifereth Israel\, 40 Hill Street\, Glen Cove\, NY\, 11542\, United States
CATEGORIES:Community,Fun
END:VEVENT
BEGIN:VEVENT
DTSTART;TZID=America/New_York:20250622T170000
DTEND;TZID=America/New_York:20250622T210000
DTSTAMP:20260421T074708
CREATED:20250320T171323Z
LAST-MODIFIED:20250519T233358Z
UID:10003867-1750611600-1750626000@ctionline.org
SUMMARY:Annual Fundraiser
DESCRIPTION:Celebrate CTI’s Annual Fundraiser by Honoring Phyllis with the Bat Mitzvah she never had!\nRaffles\, Dancing and more! \nPhyllis Spector was born in Brooklyn and has been a member of CTI since 1976 when she moved to Glen Cove. Phyllis assumed various volunteer roles at CTI including Sisterhood President and Ritual Vice President. She was President of CTI from 2013- 2019. She currently has the position of Director of Administration. \nNo personal gifts. Honor Phyllis with a Journal Ad. \n\n\n  \nPurchase Tickets
URL:https://ctionline.org/event/annual-fundraiser/
LOCATION:Congregation Tifereth Israel\, 40 Hill Street\, Glen Cove\, NY\, 11542\, United States
CATEGORIES:Community
ATTACH;FMTTYPE=image/jpeg:https://ctionline.org/wp-content/uploads/2025/04/600x200.jpg
ORGANIZER;CN="CTI Office":MAILTO:office@ctionline.org
END:VEVENT
BEGIN:VEVENT
DTSTART;TZID=America/New_York:20250601T103000
DTEND;TZID=America/New_York:20250601T120000
DTSTAMP:20260421T074708
CREATED:20250501T120625Z
LAST-MODIFIED:20250501T120625Z
UID:10004247-1748773800-1748779200@ctionline.org
SUMMARY:CTI's Book Club "Bee Season" by Myla Gold
DESCRIPTION:“…a dispassionate\, fervently intelligent book\,\n[exploring] class…and religious extremism. \nGoldberg writes short\, fresh\, exacting sentences\, and she is terrific…\nBee Season is so smart\, and frequently so charming…artful indeed.”\nNew York Times Book Review \nMeeting will be held in the CTI Library! \nRefreshments served\nEveryone Welcome!
URL:https://ctionline.org/event/ctis-book-club-bee-season-by-myla-gold/
LOCATION:Congregation Tifereth Israel\, 40 Hill Street\, Glen Cove\, NY\, 11542\, United States
CATEGORIES:Community,Fun,Learning
END:VEVENT
BEGIN:VEVENT
DTSTART;TZID=America/New_York:20250527T190000
DTEND;TZID=America/New_York:20250527T203000
DTSTAMP:20260421T074708
CREATED:20240912T135405Z
LAST-MODIFIED:20250310T005326Z
UID:10003514-1748372400-1748377800@ctionline.org
SUMMARY:Our Concerned Persons
DESCRIPTION:Call If Attending \nTo reserve your spot\, we request that you call \nJane Fox\n516-589-9171
URL:https://ctionline.org/event/our-concerned-persons-2/2025-05-27/
LOCATION:Congregation Tifereth Israel\, 40 Hill Street\, Glen Cove\, NY\, 11542\, United States
CATEGORIES:Social Action
ATTACH;FMTTYPE=image/jpeg:https://ctionline.org/wp-content/uploads/2024/02/Nera-LI.jpg
ORGANIZER;CN="Northeast Recovery Alliance Long Island":MAILTO:jane.fox@nerali.org
END:VEVENT
BEGIN:VEVENT
DTSTART;TZID=America/New_York:20250527T160000
DTEND;TZID=America/New_York:20250527T180000
DTSTAMP:20260421T074708
CREATED:20250501T121214Z
LAST-MODIFIED:20250501T121214Z
UID:10004251-1748361600-1748368800@ctionline.org
SUMMARY:Knit and Crochet with Kate
DESCRIPTION:Both beginner and experienced stitchers are welcome.\nFree instruction and ongoing project support.\nLet’s start something new\, continue an existing\nproject\, make something to donate\, and be social. \nMaterials will be available for purchase day of event (cash please).\n$7* includes: (1) 7oz skein Red Heart acrylic yarn & \n(1) pair 10” straight knitting needles size 8 OR\n(1) 5.00mm crochet hook \n*Price subject to change in the future \nSpace is limited to 12 \nRSVP to Barbara at Baronworld@aol.com
URL:https://ctionline.org/event/knit-and-crochet-with-kate-2/2025-05-27/
LOCATION:Congregation Tifereth Israel\, 40 Hill Street\, Glen Cove\, NY\, 11542\, United States
CATEGORIES:Community,Fun,Learning
END:VEVENT
BEGIN:VEVENT
DTSTART;TZID=America/New_York:20250514T190000
DTEND;TZID=America/New_York:20250514T200000
DTSTAMP:20260421T074708
CREATED:20250501T115231Z
LAST-MODIFIED:20250501T115231Z
UID:10004126-1747249200-1747252800@ctionline.org
SUMMARY:MEET AUTHOR Joan Leegant
DESCRIPTION:Joan Leegant\, will discuss her book\nDisplaced Persons: Stories. This new\nstory collection shines a light on\nIsrael and American Jewish life\,\nespecially relevant in these times. \nIn addition\, Joan will discuss anti-semitism in the publishing industry.\nThere will be a question and answer period and a book signing following her discussion. \nTHIS EVENT IS FREE OF CHARGE
URL:https://ctionline.org/event/meet-author-joan-leegant/
LOCATION:Congregation Tifereth Israel\, 40 Hill Street\, Glen Cove\, NY\, 11542\, United States
CATEGORIES:Community
END:VEVENT
BEGIN:VEVENT
DTSTART;TZID=America/New_York:20250503T200000
DTEND;TZID=America/New_York:20250503T220000
DTSTAMP:20260421T074708
CREATED:20250501T120023Z
LAST-MODIFIED:20250501T120023Z
UID:10004246-1746302400-1746309600@ctionline.org
SUMMARY:Open Mike Night -
DESCRIPTION:Can you… \nSing\, Dance\, Play an instrument\, Tell jokes? Read a poem? Do a magic trick? \nThere is a place for\nyou on stage (or in the\naudience). Don’t be shy!\nWine and Cheese and\nEntertainment all for a\nSuggested Donation of $10\npayable at the door.
URL:https://ctionline.org/event/open-mike-night/
LOCATION:Congregation Tifereth Israel\, 40 Hill Street\, Glen Cove\, NY\, 11542\, United States
CATEGORIES:Community,Fun
END:VEVENT
BEGIN:VEVENT
DTSTART;TZID=America/New_York:20250427T123000
DTEND;TZID=America/New_York:20250427T133000
DTSTAMP:20260421T074708
CREATED:20250325T003801Z
LAST-MODIFIED:20250325T003801Z
UID:10003934-1745757000-1745760600@ctionline.org
SUMMARY:Walk This Way
DESCRIPTION:Meet at Brendel’s Bagels and take a walk with us
URL:https://ctionline.org/event/walk-this-way/
LOCATION:Congregation Tifereth Israel\, 40 Hill Street\, Glen Cove\, NY\, 11542\, United States
CATEGORIES:Fun,Social Action
END:VEVENT
BEGIN:VEVENT
DTSTART;TZID=America/New_York:20250427T100000
DTEND;TZID=America/New_York:20250427T110000
DTSTAMP:20260421T074708
CREATED:20250403T222519Z
LAST-MODIFIED:20250403T222519Z
UID:10004125-1745748000-1745751600@ctionline.org
SUMMARY:Parent Enrichment - Yom HaShooah & Yom HaAtzmaut Family Traditions with Cantor Gustavo
DESCRIPTION:
URL:https://ctionline.org/event/parent-enrichment-yom-hashooah-yom-haatzmaut-family-traditions-with-cantor-gustavo/
LOCATION:Congregation Tifereth Israel\, 40 Hill Street\, Glen Cove\, NY\, 11542\, United States
CATEGORIES:Community,Fun
END:VEVENT
BEGIN:VEVENT
DTSTART;TZID=America/New_York:20250426T100000
DTEND;TZID=America/New_York:20250426T123000
DTSTAMP:20260421T074708
CREATED:20250403T222223Z
LAST-MODIFIED:20250403T222223Z
UID:10004123-1745661600-1745670600@ctionline.org
SUMMARY:Virtual Shabbat Services
DESCRIPTION:Join Zoom Meeting\nhttps://zoom.us/j/97188243757\n\nSiddur Sim Shalom Shabbat & Musaf:\nhttps://bit.ly/2zMtxJ3 \nZoom CTI is inviting you to a scheduled Zoom meeting. \nTopic: Virtual Shabbat Services\nTime: Jan 2\, 2021 10:00 AM Eastern Time (US and Canada)\nJan 2\, 2021\nDec 10\, 2021\nPlease download and import the following iCalendar (.ics) files to your calendar system.\nWeekly: https://zoom.us/meeting/tJMsf-GqqjgtH9M-6rzu51ChQw-1nhucmeNS/ics?icsToken=98tyKuCvrzMiGNCWtxyARowEBYqgWerwiHZagvpw0Un3GTUGMyD-B_UPY7x3Bdvd \nJoin Zoom Meeting\nhttps://zoom.us/j/97188243757 \nMeeting ID: 971 8824 3757\nOne tap mobile\n+16468769923\,\,97188243757# US (New York)\n+13126266799\,\,97188243757# US (Chicago) \nDial by your location\n+1 646 876 9923 US (New York)\n+1 312 626 6799 US (Chicago)\n+1 301 715 8592 US (Washington D.C)\n+1 669 900 6833 US (San Jose)\n+1 253 215 8782 US (Tacoma)\n+1 346 248 7799 US (Houston)\n+1 408 638 0968 US (San Jose)\nMeeting ID: 971 8824 3757\nFind your local number: https://zoom.us/u/adPkXfg2VY
URL:https://ctionline.org/event/virtual-shabbat-services/
LOCATION:Congregation Tifereth Israel\, 40 Hill Street\, Glen Cove\, NY\, 11542\, United States
CATEGORIES:Community,Fun,Worship
END:VEVENT
BEGIN:VEVENT
DTSTART;TZID=America/New_York:20250426T100000
DTEND;TZID=America/New_York:20250426T123000
DTSTAMP:20260421T074708
CREATED:20250403T222053Z
LAST-MODIFIED:20250403T222053Z
UID:10004122-1745661600-1745670600@ctionline.org
SUMMARY:Shabbat Services
DESCRIPTION:Join Zoom Meeting\nhttps://zoom.us/j/97188243757\n\nSiddur Sim Shalom Shabbat & Musaf:\nhttps://bit.ly/2zMtxJ3 \nZoom CTI is inviting you to a scheduled Zoom meeting. \nTopic: Virtual Shabbat Services\nTime: Jan 2\, 2021 10:00 AM Eastern Time (US and Canada)\nJan 2\, 2021\nDec 10\, 2021\nPlease download and import the following iCalendar (.ics) files to your calendar system.\nWeekly: https://zoom.us/meeting/tJMsf-GqqjgtH9M-6rzu51ChQw-1nhucmeNS/ics?icsToken=98tyKuCvrzMiGNCWtxyARowEBYqgWerwiHZagvpw0Un3GTUGMyD-B_UPY7x3Bdvd \nJoin Zoom Meeting\nhttps://zoom.us/j/97188243757 \nMeeting ID: 971 8824 3757\nOne tap mobile\n+16468769923\,\,97188243757# US (New York)\n+13126266799\,\,97188243757# US (Chicago) \nDial by your location\n+1 646 876 9923 US (New York)\n+1 312 626 6799 US (Chicago)\n+1 301 715 8592 US (Washington D.C)\n+1 669 900 6833 US (San Jose)\n+1 253 215 8782 US (Tacoma)\n+1 346 248 7799 US (Houston)\n+1 408 638 0968 US (San Jose)\nMeeting ID: 971 8824 3757\nFind your local number: https://zoom.us/u/adPkXfg2VY
URL:https://ctionline.org/event/shabbat-services-3/
LOCATION:Congregation Tifereth Israel\, 40 Hill Street\, Glen Cove\, NY\, 11542\, United States
CATEGORIES:Community,Fun,Worship
END:VEVENT
BEGIN:VEVENT
DTSTART;TZID=America/New_York:20250425T190000
DTEND;TZID=America/New_York:20250425T203000
DTSTAMP:20260421T074708
CREATED:20250403T221938Z
LAST-MODIFIED:20250403T221938Z
UID:10004121-1745607600-1745613000@ctionline.org
SUMMARY:Virtual Kabbalat Shabbat
DESCRIPTION:Join Zoom Meeting\nhttps://zoom.us/j/97188243757\n\nAbridged Romemu siddur:\nhttps://bit.ly/2JjvlL3 \nZoom CTI is inviting you to a scheduled Zoom meeting. \nTopic: Virtual Shabbat Services\nTime: Jan 1\, 2021 07:00 PM Eastern Time (US and Canada)\nEvery week on Fri\, until Dec 10\, 2021\, 50 occurrence(s)\nJan 1\, 2021 07:00 PM\nDec 10\, 2021 07:00 PM\nPlease download and import the following iCalendar (.ics) files to your calendar system.\nWeekly: https://zoom.us/meeting/tJMsf-GqqjgtH9M-6rzu51ChQw-1nhucmeNS/ics?icsToken=98tyKuCvrzMiGNCWtxyARowEBYqgWerwiHZagvpw0Un3GTUGMyD-B_UPY7x3Bdvd \nJoin Zoom Meeting\nhttps://zoom.us/j/97188243757 \nMeeting ID: 971 8824 3757\nOne tap mobile\n+16468769923\,\,97188243757# US (New York)\n+13126266799\,\,97188243757# US (Chicago) \nDial by your location\n+1 646 876 9923 US (New York)\n+1 312 626 6799 US (Chicago)\n+1 301 715 8592 US (Washington D.C)\n+1 669 900 6833 US (San Jose)\n+1 253 215 8782 US (Tacoma)\n+1 346 248 7799 US (Houston)\n+1 408 638 0968 US (San Jose)\nMeeting ID: 971 8824 3757\nFind your local number: https://zoom.us/u/adPkXfg2VY
URL:https://ctionline.org/event/virtual-kabbalat-shabbat-4/
LOCATION:Congregation Tifereth Israel\, 40 Hill Street\, Glen Cove\, NY\, 11542\, United States
CATEGORIES:Community,Fun
END:VEVENT
BEGIN:VEVENT
DTSTART;TZID=America/New_York:20250424T183000
DTEND;TZID=America/New_York:20250424T193000
DTSTAMP:20260421T074708
CREATED:20250403T221633Z
LAST-MODIFIED:20250403T221633Z
UID:10004118-1745519400-1745523000@ctionline.org
SUMMARY:Yom HaShoah Commemoration
DESCRIPTION:Holocaust Memorial & Tolerance Center\, 100 Crescent Beach Rd\, Glen Cove\, NY 11542
URL:https://ctionline.org/event/yom-hashoah-commemoration/
LOCATION:Congregation Tifereth Israel\, 40 Hill Street\, Glen Cove\, NY\, 11542\, United States
CATEGORIES:Community,Fun
END:VEVENT
BEGIN:VEVENT
DTSTART;TZID=America/New_York:20250424T183000
DTEND;TZID=America/New_York:20250424T193000
DTSTAMP:20260421T074708
CREATED:20250314T194316Z
LAST-MODIFIED:20250314T194317Z
UID:10003864-1745519400-1745523000@ctionline.org
SUMMARY:Yom Hashoah observance at the Holocaust Museum and Tolerance Center
DESCRIPTION:
URL:https://ctionline.org/event/yom-hashoah-observance-at-the-holocaust-museum-and-tolerance-center/
LOCATION:Congregation Tifereth Israel\, 40 Hill Street\, Glen Cove\, NY\, 11542\, United States
CATEGORIES:Community,Learning
END:VEVENT
BEGIN:VEVENT
DTSTART;TZID=America/New_York:20250424T081500
DTEND;TZID=America/New_York:20250424T091500
DTSTAMP:20260421T074708
CREATED:20250403T221415Z
LAST-MODIFIED:20250403T221415Z
UID:10004117-1745482500-1745486100@ctionline.org
SUMMARY:Virtual Morning Shacharit Service
DESCRIPTION:Zoom CTI is inviting you to a scheduled Zoom meeting. \nTopic: CTI Shacharit Services\nTime: This is a recurring meeting Meet anytime \nJoin Zoom Meeting\nhttps://zoom.us/j/99149363611 \nSim Shalom Siddur:\nhttps://bit.ly/39NPjZe\n\n\nMeeting ID: 991 4936 3611\nPasscode: Minyan\n\nOne tap mobile\n+16468769923\,\,99149363611# US (New York)\n+13126266799\,\,99149363611# US (Chicago) \nDial by your location\n+1 646 876 9923 US (New York)\n+1 312 626 6799 US (Chicago)\n+1 301 715 8592 US (Germantown)\n+1 346 248 7799 US (Houston)\n+1 408 638 0968 US (San Jose)\n+1 669 900 6833 US (San Jose)\n+1 253 215 8782 US (Tacoma)\nMeeting ID: 991 4936 3611\nFind your local number: https://zoom.us/u/abRKGUQm30
URL:https://ctionline.org/event/virtual-morning-shacharit-service-4/
LOCATION:Congregation Tifereth Israel\, 40 Hill Street\, Glen Cove\, NY\, 11542\, United States
CATEGORIES:Community,Fun
END:VEVENT
BEGIN:VEVENT
DTSTART;TZID=America/New_York:20250423T081500
DTEND;TZID=America/New_York:20250423T090000
DTSTAMP:20260421T074708
CREATED:20250403T221058Z
LAST-MODIFIED:20250403T221058Z
UID:10003981-1745396100-1745398800@ctionline.org
SUMMARY:Morning Shacharit Minyan
DESCRIPTION:Zoom CTI is inviting you to a scheduled Zoom meeting. \nTopic: CTI Shacharit Services\nTime: This is a recurring meeting Meet anytime \nJoin Zoom Meeting\nhttps://zoom.us/j/99149363611 \nSim Shalom Siddur:\nhttps://bit.ly/39NPjZe \nMeeting ID: 991 4936 3611\nPasscode: Minyan \nOne tap mobile\n+16468769923\,\,99149363611# US (New York)\n+13126266799\,\,99149363611# US (Chicago) \nDial by your location\n+1 646 876 9923 US (New York)\n+1 312 626 6799 US (Chicago)\n+1 301 715 8592 US (Germantown)\n+1 346 248 7799 US (Houston)\n+1 408 638 0968 US (San Jose)\n+1 669 900 6833 US (San Jose)\n+1 253 215 8782 US (Tacoma)\nMeeting ID: 991 4936 3611\nFind your local number: https://zoom.us/u/abRKGUQm30
URL:https://ctionline.org/event/morning-shacharit-minyan-11/
LOCATION:Congregation Tifereth Israel\, 40 Hill Street\, Glen Cove\, NY\, 11542\, United States
CATEGORIES:Community,Fun
END:VEVENT
BEGIN:VEVENT
DTSTART;TZID=America/New_York:20250422T190000
DTEND;TZID=America/New_York:20250422T203000
DTSTAMP:20260421T074708
CREATED:20250403T220900Z
LAST-MODIFIED:20250403T220900Z
UID:10003979-1745348400-1745353800@ctionline.org
SUMMARY:Nerali.org Concerned Persons Support Group - Call if attending
DESCRIPTION:CALL IF ATTENDING\nTo reserve your spot\, we request that you call Jane Fox\, CRPA\, 516-945-9856 \nnera-LI will be IN-PERSON at CTI on Tuesdays.\n\n\nPlease check the calendar for holiday schedule. \nContact Jane Fox for more information. jane.fox@nerali.org
URL:https://ctionline.org/event/nerali-org-concerned-persons-support-group-call-if-attending-4/
LOCATION:Congregation Tifereth Israel\, 40 Hill Street\, Glen Cove\, NY\, 11542\, United States
CATEGORIES:Community,Fun
END:VEVENT
BEGIN:VEVENT
DTSTART;TZID=America/New_York:20250422T160000
DTEND;TZID=America/New_York:20250422T180000
DTSTAMP:20260421T074708
CREATED:20250403T220523Z
LAST-MODIFIED:20250403T220523Z
UID:10003975-1745337600-1745344800@ctionline.org
SUMMARY:Crochet & Knitting Class
DESCRIPTION:
URL:https://ctionline.org/event/crochet-knitting-class/
LOCATION:Congregation Tifereth Israel\, 40 Hill Street\, Glen Cove\, NY\, 11542\, United States
CATEGORIES:Community,Fun
END:VEVENT
END:VCALENDAR