BEGIN:VCALENDAR
VERSION:2.0
PRODID:-//Congregation Tifereth Israel - ECPv6.15.17.1//NONSGML v1.0//EN
CALSCALE:GREGORIAN
METHOD:PUBLISH
X-ORIGINAL-URL:https://ctionline.org
X-WR-CALDESC:Events for Congregation Tifereth Israel
REFRESH-INTERVAL;VALUE=DURATION:PT1H
X-Robots-Tag:noindex
X-PUBLISHED-TTL:PT1H
BEGIN:VTIMEZONE
TZID:America/New_York
BEGIN:DAYLIGHT
TZOFFSETFROM:-0500
TZOFFSETTO:-0400
TZNAME:EDT
DTSTART:20230312T070000
END:DAYLIGHT
BEGIN:STANDARD
TZOFFSETFROM:-0400
TZOFFSETTO:-0500
TZNAME:EST
DTSTART:20231105T060000
END:STANDARD
BEGIN:DAYLIGHT
TZOFFSETFROM:-0500
TZOFFSETTO:-0400
TZNAME:EDT
DTSTART:20240310T070000
END:DAYLIGHT
BEGIN:STANDARD
TZOFFSETFROM:-0400
TZOFFSETTO:-0500
TZNAME:EST
DTSTART:20241103T060000
END:STANDARD
BEGIN:DAYLIGHT
TZOFFSETFROM:-0500
TZOFFSETTO:-0400
TZNAME:EDT
DTSTART:20250309T070000
END:DAYLIGHT
BEGIN:STANDARD
TZOFFSETFROM:-0400
TZOFFSETTO:-0500
TZNAME:EST
DTSTART:20251102T060000
END:STANDARD
BEGIN:DAYLIGHT
TZOFFSETFROM:-0500
TZOFFSETTO:-0400
TZNAME:EDT
DTSTART:20260308T070000
END:DAYLIGHT
BEGIN:STANDARD
TZOFFSETFROM:-0400
TZOFFSETTO:-0500
TZNAME:EST
DTSTART:20261101T060000
END:STANDARD
END:VTIMEZONE
BEGIN:VEVENT
DTSTART;TZID=America/New_York:20250401T081500
DTEND;TZID=America/New_York:20250401T091500
DTSTAMP:20260421T210326
CREATED:20250330T190830Z
LAST-MODIFIED:20250330T190830Z
UID:10003937-1743495300-1743498900@ctionline.org
SUMMARY:Morning Shacharit Minyan
DESCRIPTION:Zoom CTI is inviting you to a scheduled Zoom meeting. \nTopic: CTI Shacharit Services\nTime: This is a recurring meeting Meet anytime \nJoin Zoom Meeting\nhttps://zoom.us/j/99149363611 \nSim Shalom Siddur:\nhttps://bit.ly/39NPjZe \nMeeting ID: 991 4936 3611\nPasscode: Minyan \nOne tap mobile\n+16468769923\,\,99149363611# US (New York)\n+13126266799\,\,99149363611# US (Chicago) \nDial by your location\n+1 646 876 9923 US (New York)\n+1 312 626 6799 US (Chicago)\n+1 301 715 8592 US (Germantown)\n+1 346 248 7799 US (Houston)\n+1 408 638 0968 US (San Jose)\n+1 669 900 6833 US (San Jose)\n+1 253 215 8782 US (Tacoma)\nMeeting ID: 991 4936 3611\nFind your local number: https://zoom.us/u/abRKGUQm30
URL:https://ctionline.org/event/morning-shacharit-minyan/
LOCATION:Congregation Tifereth Israel\, 40 Hill Street\, Glen Cove\, NY\, 11542\, United States
CATEGORIES:Community,Fun
END:VEVENT
BEGIN:VEVENT
DTSTART;TZID=America/New_York:20250330T120000
DTEND;TZID=America/New_York:20250330T130000
DTSTAMP:20260421T210326
CREATED:20250314T195252Z
LAST-MODIFIED:20250324T201736Z
UID:10003865-1743336000-1743339600@ctionline.org
SUMMARY:SOCIAL EVENTS PLANNING
DESCRIPTION:
URL:https://ctionline.org/event/sisterhood-reimagined/
LOCATION:Congregation Tifereth Israel\, 40 Hill Street\, Glen Cove\, NY\, 11542\, United States
CATEGORIES:Fun,Social Action
END:VEVENT
BEGIN:VEVENT
DTSTART;TZID=America/New_York:20250328T190500
DTEND;TZID=America/New_York:20250328T200000
DTSTAMP:20260421T210326
CREATED:20250310T160826Z
LAST-MODIFIED:20250314T110230Z
UID:10003847-1743188700-1743192000@ctionline.org
SUMMARY:Nerali Shabbat.  "Break the stigma and start a conversation"\, Jane Fox explains
DESCRIPTION:
URL:https://ctionline.org/event/nerali-shabbat-break-the-stigma-and-start-a-conversation-jane-fox-explains/
LOCATION:Congregation Tifereth Israel\, 40 Hill Street\, Glen Cove\, NY\, 11542\, United States
CATEGORIES:Community,Services,Shabbat,Worship
END:VEVENT
BEGIN:VEVENT
DTSTART;TZID=America/New_York:20250327T190000
DTEND;TZID=America/New_York:20250327T210000
DTSTAMP:20260421T210326
CREATED:20250314T111736Z
LAST-MODIFIED:20250314T111736Z
UID:10003848-1743102000-1743109200@ctionline.org
SUMMARY:Canasta Lessons - LED BY LYNNE BARSKY
DESCRIPTION:Canasta Supervised Play is back for spring!\nPerfect for players looking to enhance their skills with\nfriendly and guided play to help improve your game. \n$5 Suggested fee per class. \nSUPERVISED PLAY: 7:00-9:00 PM \nSPACE IS LIMITED. TO RESERVE YOUR SPOT:\nfor one or both evenings\, email Lynne Barsky: lynnebarskyedd@gmail.com
URL:https://ctionline.org/event/canasta-lessons-led-by-lynne-barsky/
LOCATION:Congregation Tifereth Israel\, 40 Hill Street\, Glen Cove\, NY\, 11542\, United States
CATEGORIES:Community,Fun
END:VEVENT
BEGIN:VEVENT
DTSTART;TZID=America/New_York:20250319T160000
DTEND;TZID=America/New_York:20250319T190000
DTSTAMP:20260421T210326
CREATED:20250310T164513Z
LAST-MODIFIED:20250310T164513Z
UID:10003844-1742400000-1742410800@ctionline.org
SUMMARY:CHALLAH-THON!
DESCRIPTION:The Mitzvah Team invites everyone to join our\nChallah-thon event. \nRSVP TO: CTITIKKUNOLAMPROJECT@GMAIL.COM\nANY QUESTIONS\, EMAIL ABOVE. SPACE IS LIMITED! \nSuggested donation $36 with proceeds going to the Tikkun Olam\nProject – Repairing The World. Iris Galfunt will teach us how to make\nchallah. Each participant will make 2 loaves\, keeping one and donating\nthe second to be delivered by the Cantor to seniors and/or the infirm.
URL:https://ctionline.org/event/challah-thon/
LOCATION:Congregation Tifereth Israel\, 40 Hill Street\, Glen Cove\, NY\, 11542\, United States
CATEGORIES:Community,Fun,Social Action
ATTACH;FMTTYPE=image/webp:https://ctionline.org/wp-content/uploads/2025/03/challah.webp
END:VEVENT
BEGIN:VEVENT
DTSTART;TZID=America/New_York:20250309T101500
DTEND;TZID=America/New_York:20250309T140000
DTSTAMP:20260421T210326
CREATED:20250228T124008Z
LAST-MODIFIED:20250228T124842Z
UID:10003524-1741515300-1741528800@ctionline.org
SUMMARY:Purim Carnival
DESCRIPTION:P U R I M S P I E L – 1 0 : 1 5 A M – 1 1 : 0 0 A M – COME HEAR THE STORY OF QUEEN ESTHER! \n$15 BRACELET FOR CARNIVAL GAMES AND PRIZES\, GAME TRUCK\, BOUNCE HOUSE\, FACE PAINTING…AND MORE! \nFOOD AND SNACKS AVAILABLE FOR PURCHASE \n40+ EXCITING RAFFLES \nOPEN TO COMMUNITY — ALL ARE WELCOME WEAR A COSTUME AND JOIN THE FUN!
URL:https://ctionline.org/event/purim-carnival-2/
LOCATION:Congregation Tifereth Israel\, 40 Hill Street\, Glen Cove\, NY\, 11542\, United States
CATEGORIES:Community,Family,Fun,Holidays
ORGANIZER;CN="Lisa Aamodt":MAILTO:drlisa@ctionline.org
END:VEVENT
BEGIN:VEVENT
DTSTART;TZID=America/New_York:20240602T170000
DTEND;TZID=America/New_York:20240602T200000
DTSTAMP:20260421T210326
CREATED:20240301T232601Z
LAST-MODIFIED:20250423T020813Z
UID:10001802-1717347600-1717358400@ctionline.org
SUMMARY:Celebrating Limud's 15th Anniversary
DESCRIPTION:Cocktail Gala\nHonoring past and present Limud Principals Dr. Lisa Aamodt\, Fredda Klopper\, Susan Friedlieb \nMake a Donation \nBuy Journal Ad \nBack to Event Page
URL:https://ctionline.org/event/celebrating-limuds-15th-anniversary-fundraiser/
LOCATION:Congregation Tifereth Israel\, 40 Hill Street\, Glen Cove\, NY\, 11542\, United States
CATEGORIES:Community
ATTACH;FMTTYPE=image/jpeg:https://ctionline.org/wp-content/uploads/2024/03/Tree-Gala-1200.jpg
ORGANIZER;CN="CTI Office":MAILTO:office@ctionline.org
END:VEVENT
END:VCALENDAR