BEGIN:VCALENDAR
VERSION:2.0
PRODID:-//Congregation Tifereth Israel - ECPv6.15.17.1//NONSGML v1.0//EN
CALSCALE:GREGORIAN
METHOD:PUBLISH
X-ORIGINAL-URL:https://ctionline.org
X-WR-CALDESC:Events for Congregation Tifereth Israel
REFRESH-INTERVAL;VALUE=DURATION:PT1H
X-Robots-Tag:noindex
X-PUBLISHED-TTL:PT1H
BEGIN:VTIMEZONE
TZID:America/New_York
BEGIN:DAYLIGHT
TZOFFSETFROM:-0500
TZOFFSETTO:-0400
TZNAME:EDT
DTSTART:20250309T070000
END:DAYLIGHT
BEGIN:STANDARD
TZOFFSETFROM:-0400
TZOFFSETTO:-0500
TZNAME:EST
DTSTART:20251102T060000
END:STANDARD
BEGIN:DAYLIGHT
TZOFFSETFROM:-0500
TZOFFSETTO:-0400
TZNAME:EDT
DTSTART:20260308T070000
END:DAYLIGHT
BEGIN:STANDARD
TZOFFSETFROM:-0400
TZOFFSETTO:-0500
TZNAME:EST
DTSTART:20261101T060000
END:STANDARD
BEGIN:DAYLIGHT
TZOFFSETFROM:-0500
TZOFFSETTO:-0400
TZNAME:EDT
DTSTART:20270314T070000
END:DAYLIGHT
BEGIN:STANDARD
TZOFFSETFROM:-0400
TZOFFSETTO:-0500
TZNAME:EST
DTSTART:20271107T060000
END:STANDARD
END:VTIMEZONE
BEGIN:VEVENT
DTSTART;TZID=America/New_York:20261201T160000
DTEND;TZID=America/New_York:20261201T180000
DTSTAMP:20260419T210504
CREATED:20250403T220815Z
LAST-MODIFIED:20250827T212546Z
UID:10005199-1796140800-1796148000@ctionline.org
SUMMARY:Crochet & Knitting Class
DESCRIPTION:
URL:https://ctionline.org/event/crochet-knitting-class-4/2026-12-01/
LOCATION:Congregation Tifereth Israel\, 40 Hill Street\, Glen Cove\, NY\, 11542\, United States
CATEGORIES:Community,Fun
END:VEVENT
BEGIN:VEVENT
DTSTART;TZID=America/New_York:20261208T160000
DTEND;TZID=America/New_York:20261208T180000
DTSTAMP:20260419T210504
CREATED:20250403T220815Z
LAST-MODIFIED:20250827T212546Z
UID:10005200-1796745600-1796752800@ctionline.org
SUMMARY:Crochet & Knitting Class
DESCRIPTION:
URL:https://ctionline.org/event/crochet-knitting-class-4/2026-12-08/
LOCATION:Congregation Tifereth Israel\, 40 Hill Street\, Glen Cove\, NY\, 11542\, United States
CATEGORIES:Community,Fun
END:VEVENT
BEGIN:VEVENT
DTSTART;TZID=America/New_York:20261215T160000
DTEND;TZID=America/New_York:20261215T180000
DTSTAMP:20260419T210504
CREATED:20250403T220815Z
LAST-MODIFIED:20250827T212546Z
UID:10005201-1797350400-1797357600@ctionline.org
SUMMARY:Crochet & Knitting Class
DESCRIPTION:
URL:https://ctionline.org/event/crochet-knitting-class-4/2026-12-15/
LOCATION:Congregation Tifereth Israel\, 40 Hill Street\, Glen Cove\, NY\, 11542\, United States
CATEGORIES:Community,Fun
END:VEVENT
BEGIN:VEVENT
DTSTART;TZID=America/New_York:20261222T160000
DTEND;TZID=America/New_York:20261222T180000
DTSTAMP:20260419T210504
CREATED:20250403T220815Z
LAST-MODIFIED:20250827T212546Z
UID:10005202-1797955200-1797962400@ctionline.org
SUMMARY:Crochet & Knitting Class
DESCRIPTION:
URL:https://ctionline.org/event/crochet-knitting-class-4/2026-12-22/
LOCATION:Congregation Tifereth Israel\, 40 Hill Street\, Glen Cove\, NY\, 11542\, United States
CATEGORIES:Community,Fun
END:VEVENT
BEGIN:VEVENT
DTSTART;TZID=America/New_York:20261229T160000
DTEND;TZID=America/New_York:20261229T180000
DTSTAMP:20260419T210504
CREATED:20250403T220815Z
LAST-MODIFIED:20250827T212546Z
UID:10005203-1798560000-1798567200@ctionline.org
SUMMARY:Crochet & Knitting Class
DESCRIPTION:
URL:https://ctionline.org/event/crochet-knitting-class-4/2026-12-29/
LOCATION:Congregation Tifereth Israel\, 40 Hill Street\, Glen Cove\, NY\, 11542\, United States
CATEGORIES:Community,Fun
END:VEVENT
END:VCALENDAR