BEGIN:VCALENDAR
VERSION:2.0
PRODID:-//Congregation Tifereth Israel - ECPv6.15.17.1//NONSGML v1.0//EN
CALSCALE:GREGORIAN
METHOD:PUBLISH
X-WR-CALNAME:Congregation Tifereth Israel
X-ORIGINAL-URL:https://ctionline.org
X-WR-CALDESC:Events for Congregation Tifereth Israel
REFRESH-INTERVAL;VALUE=DURATION:PT1H
X-Robots-Tag:noindex
X-PUBLISHED-TTL:PT1H
BEGIN:VTIMEZONE
TZID:America/New_York
BEGIN:DAYLIGHT
TZOFFSETFROM:-0500
TZOFFSETTO:-0400
TZNAME:EDT
DTSTART:20250309T070000
END:DAYLIGHT
BEGIN:STANDARD
TZOFFSETFROM:-0400
TZOFFSETTO:-0500
TZNAME:EST
DTSTART:20251102T060000
END:STANDARD
BEGIN:DAYLIGHT
TZOFFSETFROM:-0500
TZOFFSETTO:-0400
TZNAME:EDT
DTSTART:20260308T070000
END:DAYLIGHT
BEGIN:STANDARD
TZOFFSETFROM:-0400
TZOFFSETTO:-0500
TZNAME:EST
DTSTART:20261101T060000
END:STANDARD
BEGIN:DAYLIGHT
TZOFFSETFROM:-0500
TZOFFSETTO:-0400
TZNAME:EDT
DTSTART:20270314T070000
END:DAYLIGHT
BEGIN:STANDARD
TZOFFSETFROM:-0400
TZOFFSETTO:-0500
TZNAME:EST
DTSTART:20271107T060000
END:STANDARD
END:VTIMEZONE
BEGIN:VEVENT
DTSTART;TZID=America/New_York:20260303T160000
DTEND;TZID=America/New_York:20260303T180000
DTSTAMP:20260419T095946
CREATED:20250403T220815Z
LAST-MODIFIED:20250827T212546Z
UID:10005160-1772553600-1772560800@ctionline.org
SUMMARY:Crochet & Knitting Class
DESCRIPTION:
URL:https://ctionline.org/event/crochet-knitting-class-4/2026-03-03/
LOCATION:Congregation Tifereth Israel\, 40 Hill Street\, Glen Cove\, NY\, 11542\, United States
CATEGORIES:Community,Fun
END:VEVENT
BEGIN:VEVENT
DTSTART;TZID=America/New_York:20260310T160000
DTEND;TZID=America/New_York:20260310T180000
DTSTAMP:20260419T095946
CREATED:20250403T220815Z
LAST-MODIFIED:20250827T212546Z
UID:10005161-1773158400-1773165600@ctionline.org
SUMMARY:Crochet & Knitting Class
DESCRIPTION:
URL:https://ctionline.org/event/crochet-knitting-class-4/2026-03-10/
LOCATION:Congregation Tifereth Israel\, 40 Hill Street\, Glen Cove\, NY\, 11542\, United States
CATEGORIES:Community,Fun
END:VEVENT
BEGIN:VEVENT
DTSTART;TZID=America/New_York:20260317T160000
DTEND;TZID=America/New_York:20260317T180000
DTSTAMP:20260419T095946
CREATED:20250403T220815Z
LAST-MODIFIED:20250827T212546Z
UID:10005162-1773763200-1773770400@ctionline.org
SUMMARY:Crochet & Knitting Class
DESCRIPTION:
URL:https://ctionline.org/event/crochet-knitting-class-4/2026-03-17/
LOCATION:Congregation Tifereth Israel\, 40 Hill Street\, Glen Cove\, NY\, 11542\, United States
CATEGORIES:Community,Fun
END:VEVENT
BEGIN:VEVENT
DTSTART;TZID=America/New_York:20260321T193000
DTEND;TZID=America/New_York:20260321T210000
DTSTAMP:20260419T095946
CREATED:20260106T011004Z
LAST-MODIFIED:20260326T174111Z
UID:10008929-1774121400-1774126800@ctionline.org
SUMMARY:CTI Comedy Night
DESCRIPTION:Laugh the night away at CTI Comedy Night – an evening of big laughs\, great company\, and full-on fun right here in Glen Cove.\nCelebrate the Festival of Lights with friends old and new at Congregation Tifereth Israel’s annual Chanukah dinner and new member welcome. This special evening brings our community together in the spirit of light\, music\, and tradition. \n📅 Date & Time: Saturday\, March 21 at 7:30 PM\n📍 Location: Congregation Tifereth Israel\, 40 Hill Street & Landing Rd.\, Glen Cove\, NY 11542\n🍽️ What’s included: Dinner\, dessert\, and an open bar – just bring your sense of humor. \nWhether you’re a longtime member or new to our community\, this is a wonderful opportunity to connect and celebrate! \nThe comedians \n\nLes Degen – 2024 & 2025 “Best of Long Island” Best Comedian for Seniors\, and a cast member of The Retirement Village People with hilarious song parodies from the 60s and 70s.\nTalia Reese – A Modern Orthodox Jewish comedian and former bankruptcy attorney who regularly performs at top NYC comedy clubs and is one of the country’s fastest rising comedy stars.\nStevie GB – Known as The World’s Funniest Accountant\, with appearances at The Westbury Music Fair\, The Paramount\, My Father’s Place\, and theaters across the tri-state area.\n​\n\nTickets and pricing: Early Bird tickets are $54 until March 14\, and regular tickets are $64 after March 14. Your ticket covers the full evening; comedy show\, dinner\, dessert\, and open bar\, making it a fantastic night out for couples\, friends\, and anyone who loves to laugh \n👉 How to get your tickets: Purchase your tickets online (below) and reserve your seats before the Early Bird pricing ends. Contact us at (516) 676-5080 or email office@ctionline.org.
URL:https://ctionline.org/event/cti-comedy-night-march-21st/
LOCATION:Congregation Tifereth Israel\, 40 Hill Street\, Glen Cove\, NY\, 11542\, United States
CATEGORIES:Community,Fun
ORGANIZER;CN="CTI Office":MAILTO:office@ctionline.org
END:VEVENT
BEGIN:VEVENT
DTSTART;TZID=America/New_York:20260324T160000
DTEND;TZID=America/New_York:20260324T180000
DTSTAMP:20260419T095946
CREATED:20250403T220815Z
LAST-MODIFIED:20250827T212546Z
UID:10005163-1774368000-1774375200@ctionline.org
SUMMARY:Crochet & Knitting Class
DESCRIPTION:
URL:https://ctionline.org/event/crochet-knitting-class-4/2026-03-24/
LOCATION:Congregation Tifereth Israel\, 40 Hill Street\, Glen Cove\, NY\, 11542\, United States
CATEGORIES:Community,Fun
END:VEVENT
BEGIN:VEVENT
DTSTART;TZID=America/New_York:20260331T160000
DTEND;TZID=America/New_York:20260331T180000
DTSTAMP:20260419T095946
CREATED:20250403T220815Z
LAST-MODIFIED:20250827T212546Z
UID:10005164-1774972800-1774980000@ctionline.org
SUMMARY:Crochet & Knitting Class
DESCRIPTION:
URL:https://ctionline.org/event/crochet-knitting-class-4/2026-03-31/
LOCATION:Congregation Tifereth Israel\, 40 Hill Street\, Glen Cove\, NY\, 11542\, United States
CATEGORIES:Community,Fun
END:VEVENT
END:VCALENDAR