BEGIN:VCALENDAR
VERSION:2.0
PRODID:-//Congregation Tifereth Israel - ECPv6.15.17.1//NONSGML v1.0//EN
CALSCALE:GREGORIAN
METHOD:PUBLISH
X-WR-CALNAME:Congregation Tifereth Israel
X-ORIGINAL-URL:https://ctionline.org
X-WR-CALDESC:Events for Congregation Tifereth Israel
REFRESH-INTERVAL;VALUE=DURATION:PT1H
X-Robots-Tag:noindex
X-PUBLISHED-TTL:PT1H
BEGIN:VTIMEZONE
TZID:America/New_York
BEGIN:DAYLIGHT
TZOFFSETFROM:-0500
TZOFFSETTO:-0400
TZNAME:EDT
DTSTART:20250309T070000
END:DAYLIGHT
BEGIN:STANDARD
TZOFFSETFROM:-0400
TZOFFSETTO:-0500
TZNAME:EST
DTSTART:20251102T060000
END:STANDARD
BEGIN:DAYLIGHT
TZOFFSETFROM:-0500
TZOFFSETTO:-0400
TZNAME:EDT
DTSTART:20260308T070000
END:DAYLIGHT
BEGIN:STANDARD
TZOFFSETFROM:-0400
TZOFFSETTO:-0500
TZNAME:EST
DTSTART:20261101T060000
END:STANDARD
BEGIN:DAYLIGHT
TZOFFSETFROM:-0500
TZOFFSETTO:-0400
TZNAME:EDT
DTSTART:20270314T070000
END:DAYLIGHT
BEGIN:STANDARD
TZOFFSETFROM:-0400
TZOFFSETTO:-0500
TZNAME:EST
DTSTART:20271107T060000
END:STANDARD
END:VTIMEZONE
BEGIN:VEVENT
DTSTART;TZID=America/New_York:20260106T160000
DTEND;TZID=America/New_York:20260106T180000
DTSTAMP:20260419T130739
CREATED:20250403T220815Z
LAST-MODIFIED:20250827T212546Z
UID:10005152-1767715200-1767722400@ctionline.org
SUMMARY:Crochet & Knitting Class
DESCRIPTION:
URL:https://ctionline.org/event/crochet-knitting-class-4/2026-01-06/
LOCATION:Congregation Tifereth Israel\, 40 Hill Street\, Glen Cove\, NY\, 11542\, United States
CATEGORIES:Community,Fun
END:VEVENT
BEGIN:VEVENT
DTSTART;TZID=America/New_York:20260108T133000
DTEND;TZID=America/New_York:20260121T153000
DTSTAMP:20260419T130739
CREATED:20260106T011612Z
LAST-MODIFIED:20260106T011612Z
UID:10008930-1767879000-1769009400@ctionline.org
SUMMARY:Canasta Corner at CTI
DESCRIPTION:Discover the Canasta Corner at CTI Tifereth Israel – where cards\, community\, and connection come together.\nStep into a warm\, welcoming space in Glen Cove to play\, learn\, and laugh over Canasta\, whether you’re a total beginner or a long-time player. These gatherings are a great way to meet new people\, sharpen your skills\, and enjoy an afternoon or evening out. \nWhy you’ll love it \n\nFriendly\, low-pressure environment where everyone is happy to help and teach.\nPerfect mix of social time and mental challenge to keep your game sharp.\nGreat option to invite a friend\, partner\, or neighbor to join you.\n​\n\nOpen Play Canasta: Join open play sessions on Thursdays in January from 1:30 PM to 3:30 PM for just a $5.00 drop‑in fee. These games are ideal if you already know the basics and want to practice\, try new strategies\, and build your confidence in a relaxed setting. \nSpecific open play dates are Thursdays\, January 8 and 22\, giving you multiple chances to join the table and find “your” group. \nCanasta lessons in February: If you are new to Canasta or feel rusty\, February lessons are designed just for you. Classes run on February 5 and 12 from 7:00 PM to 9:00 PM at $10 per class\, offering step‑by‑step guidance and plenty of time to practice. \nLessons are capped at 10 participants\, so you get more personalized attention\, the chance to ask questions\, and the space to learn at a comfortable pace.​ \n👉 RSVP: Reserving a spot is simple: just send a quick email to secure your place at the table. This easy process makes it stress‑free to plan your visit or forward details to a friend who might want to come along.
URL:https://ctionline.org/event/canasta-corner-at-cti/
LOCATION:Congregation Tifereth Israel\, 40 Hill Street\, Glen Cove\, NY\, 11542\, United States
CATEGORIES:Community,Fun
ORGANIZER;CN="CTI Office":MAILTO:office@ctionline.org
END:VEVENT
BEGIN:VEVENT
DTSTART;TZID=America/New_York:20260113T160000
DTEND;TZID=America/New_York:20260113T180000
DTSTAMP:20260419T130739
CREATED:20250403T220815Z
LAST-MODIFIED:20250827T212546Z
UID:10005153-1768320000-1768327200@ctionline.org
SUMMARY:Crochet & Knitting Class
DESCRIPTION:
URL:https://ctionline.org/event/crochet-knitting-class-4/2026-01-13/
LOCATION:Congregation Tifereth Israel\, 40 Hill Street\, Glen Cove\, NY\, 11542\, United States
CATEGORIES:Community,Fun
END:VEVENT
BEGIN:VEVENT
DTSTART;TZID=America/New_York:20260120T160000
DTEND;TZID=America/New_York:20260120T180000
DTSTAMP:20260419T130739
CREATED:20250403T220815Z
LAST-MODIFIED:20250827T212546Z
UID:10005154-1768924800-1768932000@ctionline.org
SUMMARY:Crochet & Knitting Class
DESCRIPTION:
URL:https://ctionline.org/event/crochet-knitting-class-4/2026-01-20/
LOCATION:Congregation Tifereth Israel\, 40 Hill Street\, Glen Cove\, NY\, 11542\, United States
CATEGORIES:Community,Fun
END:VEVENT
BEGIN:VEVENT
DTSTART;TZID=America/New_York:20260127T160000
DTEND;TZID=America/New_York:20260127T180000
DTSTAMP:20260419T130739
CREATED:20250403T220815Z
LAST-MODIFIED:20250827T212546Z
UID:10005155-1769529600-1769536800@ctionline.org
SUMMARY:Crochet & Knitting Class
DESCRIPTION:
URL:https://ctionline.org/event/crochet-knitting-class-4/2026-01-27/
LOCATION:Congregation Tifereth Israel\, 40 Hill Street\, Glen Cove\, NY\, 11542\, United States
CATEGORIES:Community,Fun
END:VEVENT
END:VCALENDAR