BEGIN:VCALENDAR
VERSION:2.0
PRODID:-//Congregation Tifereth Israel - ECPv6.15.17.1//NONSGML v1.0//EN
CALSCALE:GREGORIAN
METHOD:PUBLISH
X-WR-CALNAME:Congregation Tifereth Israel
X-ORIGINAL-URL:https://ctionline.org
X-WR-CALDESC:Events for Congregation Tifereth Israel
REFRESH-INTERVAL;VALUE=DURATION:PT1H
X-Robots-Tag:noindex
X-PUBLISHED-TTL:PT1H
BEGIN:VTIMEZONE
TZID:America/New_York
BEGIN:DAYLIGHT
TZOFFSETFROM:-0500
TZOFFSETTO:-0400
TZNAME:EDT
DTSTART:20240310T070000
END:DAYLIGHT
BEGIN:STANDARD
TZOFFSETFROM:-0400
TZOFFSETTO:-0500
TZNAME:EST
DTSTART:20241103T060000
END:STANDARD
BEGIN:DAYLIGHT
TZOFFSETFROM:-0500
TZOFFSETTO:-0400
TZNAME:EDT
DTSTART:20250309T070000
END:DAYLIGHT
BEGIN:STANDARD
TZOFFSETFROM:-0400
TZOFFSETTO:-0500
TZNAME:EST
DTSTART:20251102T060000
END:STANDARD
BEGIN:DAYLIGHT
TZOFFSETFROM:-0500
TZOFFSETTO:-0400
TZNAME:EDT
DTSTART:20260308T070000
END:DAYLIGHT
BEGIN:STANDARD
TZOFFSETFROM:-0400
TZOFFSETTO:-0500
TZNAME:EST
DTSTART:20261101T060000
END:STANDARD
END:VTIMEZONE
BEGIN:VEVENT
DTSTART;TZID=America/New_York:20251202T160000
DTEND;TZID=America/New_York:20251202T180000
DTSTAMP:20260419T144138
CREATED:20250403T220815Z
LAST-MODIFIED:20250827T212546Z
UID:10005147-1764691200-1764698400@ctionline.org
SUMMARY:Crochet & Knitting Class
DESCRIPTION:
URL:https://ctionline.org/event/crochet-knitting-class-4/2025-12-02/
LOCATION:Congregation Tifereth Israel\, 40 Hill Street\, Glen Cove\, NY\, 11542\, United States
CATEGORIES:Community,Fun
END:VEVENT
BEGIN:VEVENT
DTSTART;TZID=America/New_York:20251209T160000
DTEND;TZID=America/New_York:20251209T180000
DTSTAMP:20260419T144138
CREATED:20250403T220815Z
LAST-MODIFIED:20250827T212546Z
UID:10005148-1765296000-1765303200@ctionline.org
SUMMARY:Crochet & Knitting Class
DESCRIPTION:
URL:https://ctionline.org/event/crochet-knitting-class-4/2025-12-09/
LOCATION:Congregation Tifereth Israel\, 40 Hill Street\, Glen Cove\, NY\, 11542\, United States
CATEGORIES:Community,Fun
END:VEVENT
BEGIN:VEVENT
DTSTART;TZID=America/New_York:20251216T160000
DTEND;TZID=America/New_York:20251216T180000
DTSTAMP:20260419T144138
CREATED:20250403T220815Z
LAST-MODIFIED:20250827T212546Z
UID:10005149-1765900800-1765908000@ctionline.org
SUMMARY:Crochet & Knitting Class
DESCRIPTION:
URL:https://ctionline.org/event/crochet-knitting-class-4/2025-12-16/
LOCATION:Congregation Tifereth Israel\, 40 Hill Street\, Glen Cove\, NY\, 11542\, United States
CATEGORIES:Community,Fun
END:VEVENT
BEGIN:VEVENT
DTSTART;TZID=America/New_York:20251223T160000
DTEND;TZID=America/New_York:20251223T180000
DTSTAMP:20260419T144138
CREATED:20250403T220815Z
LAST-MODIFIED:20250827T212546Z
UID:10005150-1766505600-1766512800@ctionline.org
SUMMARY:Crochet & Knitting Class
DESCRIPTION:
URL:https://ctionline.org/event/crochet-knitting-class-4/2025-12-23/
LOCATION:Congregation Tifereth Israel\, 40 Hill Street\, Glen Cove\, NY\, 11542\, United States
CATEGORIES:Community,Fun
END:VEVENT
BEGIN:VEVENT
DTSTART;TZID=America/New_York:20251230T160000
DTEND;TZID=America/New_York:20251230T180000
DTSTAMP:20260419T144138
CREATED:20250403T220815Z
LAST-MODIFIED:20250827T212546Z
UID:10005151-1767110400-1767117600@ctionline.org
SUMMARY:Crochet & Knitting Class
DESCRIPTION:
URL:https://ctionline.org/event/crochet-knitting-class-4/2025-12-30/
LOCATION:Congregation Tifereth Israel\, 40 Hill Street\, Glen Cove\, NY\, 11542\, United States
CATEGORIES:Community,Fun
END:VEVENT
END:VCALENDAR