BEGIN:VCALENDAR
VERSION:2.0
PRODID:-//Congregation Tifereth Israel - ECPv6.15.17.1//NONSGML v1.0//EN
CALSCALE:GREGORIAN
METHOD:PUBLISH
X-WR-CALNAME:Congregation Tifereth Israel
X-ORIGINAL-URL:https://ctionline.org
X-WR-CALDESC:Events for Congregation Tifereth Israel
REFRESH-INTERVAL;VALUE=DURATION:PT1H
X-Robots-Tag:noindex
X-PUBLISHED-TTL:PT1H
BEGIN:VTIMEZONE
TZID:America/New_York
BEGIN:DAYLIGHT
TZOFFSETFROM:-0500
TZOFFSETTO:-0400
TZNAME:EDT
DTSTART:20240310T070000
END:DAYLIGHT
BEGIN:STANDARD
TZOFFSETFROM:-0400
TZOFFSETTO:-0500
TZNAME:EST
DTSTART:20241103T060000
END:STANDARD
BEGIN:DAYLIGHT
TZOFFSETFROM:-0500
TZOFFSETTO:-0400
TZNAME:EDT
DTSTART:20250309T070000
END:DAYLIGHT
BEGIN:STANDARD
TZOFFSETFROM:-0400
TZOFFSETTO:-0500
TZNAME:EST
DTSTART:20251102T060000
END:STANDARD
BEGIN:DAYLIGHT
TZOFFSETFROM:-0500
TZOFFSETTO:-0400
TZNAME:EDT
DTSTART:20260308T070000
END:DAYLIGHT
BEGIN:STANDARD
TZOFFSETFROM:-0400
TZOFFSETTO:-0500
TZNAME:EST
DTSTART:20261101T060000
END:STANDARD
END:VTIMEZONE
BEGIN:VEVENT
DTSTART;TZID=America/New_York:20250902T160000
DTEND;TZID=America/New_York:20250902T180000
DTSTAMP:20260419T195543
CREATED:20250403T220815Z
LAST-MODIFIED:20250827T212546Z
UID:10005135-1756828800-1756836000@ctionline.org
SUMMARY:Crochet & Knitting Class
DESCRIPTION:
URL:https://ctionline.org/event/crochet-knitting-class-4/2025-09-02/
LOCATION:Congregation Tifereth Israel\, 40 Hill Street\, Glen Cove\, NY\, 11542\, United States
CATEGORIES:Community,Fun
END:VEVENT
BEGIN:VEVENT
DTSTART;TZID=America/New_York:20250909T133000
DTEND;TZID=America/New_York:20250909T153000
DTSTAMP:20260419T195543
CREATED:20250827T213923Z
LAST-MODIFIED:20250827T213923Z
UID:10006698-1757424600-1757431800@ctionline.org
SUMMARY:Canasta
DESCRIPTION:LED BY LYNNE BARSKY \nOpen play Canasta at CTI – $5.00 drop-in fee \nPerfect for players wishing to enhance their skills in a friendly game. \nTUESDAYS\, 1:30-3:30 PM \nJULY 15 – AUGUST 26 \nMembers and non-members welcome. \nIf you know anyone who would benefit from this outreach or TO RESERVE YOUR SPOT\, EMAIL: LynneBarskyEdd@gmail.com \nDon’t know how to play\, but you want to learn? \nEmail Lynne to inquire about starting a class.
URL:https://ctionline.org/event/canasta/
LOCATION:Congregation Tifereth Israel\, 40 Hill Street\, Glen Cove\, NY\, 11542\, United States
CATEGORIES:Community,Fun
END:VEVENT
BEGIN:VEVENT
DTSTART;TZID=America/New_York:20250909T160000
DTEND;TZID=America/New_York:20250909T180000
DTSTAMP:20260419T195543
CREATED:20250403T220815Z
LAST-MODIFIED:20250827T212546Z
UID:10005136-1757433600-1757440800@ctionline.org
SUMMARY:Crochet & Knitting Class
DESCRIPTION:
URL:https://ctionline.org/event/crochet-knitting-class-4/2025-09-09/
LOCATION:Congregation Tifereth Israel\, 40 Hill Street\, Glen Cove\, NY\, 11542\, United States
CATEGORIES:Community,Fun
END:VEVENT
BEGIN:VEVENT
DTSTART;TZID=America/New_York:20250912T174500
DTEND;TZID=America/New_York:20250912T200000
DTSTAMP:20260419T195543
CREATED:20250829T214516Z
LAST-MODIFIED:20250829T214951Z
UID:10007223-1757699100-1757707200@ctionline.org
SUMMARY:Free Welcome-Back BBQ Dinner!
DESCRIPTION:Back from the beach\, straight to the feast—\nFriday September 12th – 5:45 PM \nJoin us for a delicious free welcome-back BBQ dinner! \nWelcome back from the summer Meet and greet old and new* friends * Meet Naomi our new CTI education director. Menu: Hot dogs\, Beyond Burgers\, Salads\, Fruit. \nRSVP by Sept 5 to: Krys@ctionline.org
URL:https://ctionline.org/event/free-welcome-back-bbq-dinner/
LOCATION:Congregation Tifereth Israel\, 40 Hill Street\, Glen Cove\, NY\, 11542\, United States
CATEGORIES:Community,Fun
END:VEVENT
BEGIN:VEVENT
DTSTART;TZID=America/New_York:20250916T160000
DTEND;TZID=America/New_York:20250916T180000
DTSTAMP:20260419T195543
CREATED:20250403T220815Z
LAST-MODIFIED:20250827T212546Z
UID:10005137-1758038400-1758045600@ctionline.org
SUMMARY:Crochet & Knitting Class
DESCRIPTION:
URL:https://ctionline.org/event/crochet-knitting-class-4/2025-09-16/
LOCATION:Congregation Tifereth Israel\, 40 Hill Street\, Glen Cove\, NY\, 11542\, United States
CATEGORIES:Community,Fun
END:VEVENT
BEGIN:VEVENT
DTSTART;TZID=America/New_York:20250921T100000
DTEND;TZID=America/New_York:20250921T120000
DTSTAMP:20260419T195543
CREATED:20250922T221120Z
LAST-MODIFIED:20250922T222628Z
UID:10008911-1758448800-1758456000@ctionline.org
SUMMARY:Limud Family Community Event
DESCRIPTION:Join Us for a Limud Family Community Event: Tashlikh at Morgan Park\nSunday\, September 21st 10:00 AM – 12:00 PM  \nCelebrate the Jewish ritual of Tashlikh with us in a day filled with reflection\, renewal\, and fun for the whole family! \nLocation: Morgan Memorial Park\, 9 Glen St.\, Glen Cove \nEvent Highlights: \n\nTashlikh Service: Participate in the meaningful ritual of casting away sins and embracing a fresh start.\nIsraeli Sports: Enjoy engaging activities inspired by Israeli culture.\nLive Music: Experience the joy of live performances that bring the community together.\nArts & Crafts: Get creative with hands-on activities for all ages.\n\nBring your family\, friends\, and neighbors to share in this special celebration of community\, culture\, and spirituality. We look forward to seeing you there! \nLet’s come together to reflect\, renew\, and rejoice!
URL:https://ctionline.org/event/limud-family-community-event/
LOCATION:Congregation Tifereth Israel\, 40 Hill Street\, Glen Cove\, NY\, 11542\, United States
CATEGORIES:Community,Fun
END:VEVENT
BEGIN:VEVENT
DTSTART;TZID=America/New_York:20250930T160000
DTEND;TZID=America/New_York:20250930T180000
DTSTAMP:20260419T195543
CREATED:20250403T220815Z
LAST-MODIFIED:20250827T212546Z
UID:10005138-1759248000-1759255200@ctionline.org
SUMMARY:Crochet & Knitting Class
DESCRIPTION:
URL:https://ctionline.org/event/crochet-knitting-class-4/2025-09-30/
LOCATION:Congregation Tifereth Israel\, 40 Hill Street\, Glen Cove\, NY\, 11542\, United States
CATEGORIES:Community,Fun
END:VEVENT
END:VCALENDAR