BEGIN:VCALENDAR
VERSION:2.0
PRODID:-//Congregation Tifereth Israel - ECPv6.15.17.1//NONSGML v1.0//EN
CALSCALE:GREGORIAN
METHOD:PUBLISH
X-ORIGINAL-URL:https://ctionline.org
X-WR-CALDESC:Events for Congregation Tifereth Israel
REFRESH-INTERVAL;VALUE=DURATION:PT1H
X-Robots-Tag:noindex
X-PUBLISHED-TTL:PT1H
BEGIN:VTIMEZONE
TZID:America/New_York
BEGIN:DAYLIGHT
TZOFFSETFROM:-0500
TZOFFSETTO:-0400
TZNAME:EDT
DTSTART:20270314T070000
END:DAYLIGHT
BEGIN:STANDARD
TZOFFSETFROM:-0400
TZOFFSETTO:-0500
TZNAME:EST
DTSTART:20271107T060000
END:STANDARD
BEGIN:DAYLIGHT
TZOFFSETFROM:-0500
TZOFFSETTO:-0400
TZNAME:EDT
DTSTART:20280312T070000
END:DAYLIGHT
BEGIN:STANDARD
TZOFFSETFROM:-0400
TZOFFSETTO:-0500
TZNAME:EST
DTSTART:20281105T060000
END:STANDARD
BEGIN:DAYLIGHT
TZOFFSETFROM:-0500
TZOFFSETTO:-0400
TZNAME:EDT
DTSTART:20290311T070000
END:DAYLIGHT
BEGIN:STANDARD
TZOFFSETFROM:-0400
TZOFFSETTO:-0500
TZNAME:EST
DTSTART:20291104T060000
END:STANDARD
END:VTIMEZONE
BEGIN:VEVENT
DTSTART;TZID=America/New_York:20280703T110000
DTEND;TZID=America/New_York:20280703T120000
DTSTAMP:20260422T235256
CREATED:20250910T110710Z
LAST-MODIFIED:20250910T110710Z
UID:10008270-1846234800-1846238400@ctionline.org
SUMMARY:Bereavement Group
DESCRIPTION:Closed Group
URL:https://ctionline.org/event/bereavement-group/2028-07-03/
LOCATION:Congregation Tifereth Israel\, 40 Hill Street\, Glen Cove\, NY\, 11542\, United States
CATEGORIES:Community,Social Action
END:VEVENT
BEGIN:VEVENT
DTSTART;TZID=America/New_York:20280704T160000
DTEND;TZID=America/New_York:20280704T180000
DTSTAMP:20260422T235256
CREATED:20250403T220815Z
LAST-MODIFIED:20250827T212546Z
UID:10005282-1846339200-1846346400@ctionline.org
SUMMARY:Crochet & Knitting Class
DESCRIPTION:
URL:https://ctionline.org/event/crochet-knitting-class-4/2028-07-04/
LOCATION:Congregation Tifereth Israel\, 40 Hill Street\, Glen Cove\, NY\, 11542\, United States
CATEGORIES:Community,Fun
END:VEVENT
BEGIN:VEVENT
DTSTART;TZID=America/New_York:20280704T190000
DTEND;TZID=America/New_York:20280704T203000
DTSTAMP:20260422T235256
CREATED:20250403T220950Z
LAST-MODIFIED:20250827T212752Z
UID:10005543-1846350000-1846355400@ctionline.org
SUMMARY:Nerali.org Concerned Persons Support Group - Call if attending
DESCRIPTION:CALL IF ATTENDING\nTo reserve your spot\, we request that you call Jane Fox\, CRPA\, 516-945-9856 \nnera-LI will be IN-PERSON at CTI on Tuesdays.\n\n\nPlease check the calendar for holiday schedule. \nContact Jane Fox for more information. jane.fox@nerali.org
URL:https://ctionline.org/event/nerali-org-concerned-persons-support-group-call-if-attending-5/2028-07-04/
LOCATION:Congregation Tifereth Israel\, 40 Hill Street\, Glen Cove\, NY\, 11542\, United States
CATEGORIES:Community,Social Action
END:VEVENT
BEGIN:VEVENT
DTSTART;TZID=America/New_York:20280706T110000
DTEND;TZID=America/New_York:20280706T120000
DTSTAMP:20260422T235256
CREATED:20250827T213222Z
LAST-MODIFIED:20250910T111650Z
UID:10008796-1846494000-1846497600@ctionline.org
SUMMARY:(2nd) Bereavement Group
DESCRIPTION:Please contact Phyllis S for. more information: phylliss@ctionline.org
URL:https://ctionline.org/event/2nd-bereavement-group/2028-07-06/
LOCATION:Congregation Tifereth Israel\, 40 Hill Street\, Glen Cove\, NY\, 11542\, United States
CATEGORIES:Community,Social Action
END:VEVENT
BEGIN:VEVENT
DTSTART;TZID=America/New_York:20280706T161500
DTEND;TZID=America/New_York:20280706T181500
DTSTAMP:20260422T235256
CREATED:20250827T214406Z
LAST-MODIFIED:20250827T214406Z
UID:10007107-1846512900-1846520100@ctionline.org
SUMMARY:Limud
DESCRIPTION:
URL:https://ctionline.org/event/limud-2/2028-07-06/
LOCATION:Congregation Tifereth Israel\, 40 Hill Street\, Glen Cove\, NY\, 11542\, United States
CATEGORIES:Community
END:VEVENT
BEGIN:VEVENT
DTSTART;TZID=America/New_York:20280710T110000
DTEND;TZID=America/New_York:20280710T120000
DTSTAMP:20260422T235256
CREATED:20250910T110710Z
LAST-MODIFIED:20250910T110710Z
UID:10008271-1846839600-1846843200@ctionline.org
SUMMARY:Bereavement Group
DESCRIPTION:Closed Group
URL:https://ctionline.org/event/bereavement-group/2028-07-10/
LOCATION:Congregation Tifereth Israel\, 40 Hill Street\, Glen Cove\, NY\, 11542\, United States
CATEGORIES:Community,Social Action
END:VEVENT
BEGIN:VEVENT
DTSTART;TZID=America/New_York:20280711T160000
DTEND;TZID=America/New_York:20280711T180000
DTSTAMP:20260422T235256
CREATED:20250403T220815Z
LAST-MODIFIED:20250827T212546Z
UID:10005283-1846944000-1846951200@ctionline.org
SUMMARY:Crochet & Knitting Class
DESCRIPTION:
URL:https://ctionline.org/event/crochet-knitting-class-4/2028-07-11/
LOCATION:Congregation Tifereth Israel\, 40 Hill Street\, Glen Cove\, NY\, 11542\, United States
CATEGORIES:Community,Fun
END:VEVENT
BEGIN:VEVENT
DTSTART;TZID=America/New_York:20280711T190000
DTEND;TZID=America/New_York:20280711T203000
DTSTAMP:20260422T235256
CREATED:20250403T220950Z
LAST-MODIFIED:20250827T212752Z
UID:10005544-1846954800-1846960200@ctionline.org
SUMMARY:Nerali.org Concerned Persons Support Group - Call if attending
DESCRIPTION:CALL IF ATTENDING\nTo reserve your spot\, we request that you call Jane Fox\, CRPA\, 516-945-9856 \nnera-LI will be IN-PERSON at CTI on Tuesdays.\n\n\nPlease check the calendar for holiday schedule. \nContact Jane Fox for more information. jane.fox@nerali.org
URL:https://ctionline.org/event/nerali-org-concerned-persons-support-group-call-if-attending-5/2028-07-11/
LOCATION:Congregation Tifereth Israel\, 40 Hill Street\, Glen Cove\, NY\, 11542\, United States
CATEGORIES:Community,Social Action
END:VEVENT
BEGIN:VEVENT
DTSTART;TZID=America/New_York:20280712T160000
DTEND;TZID=America/New_York:20280712T170000
DTSTAMP:20260422T235256
CREATED:20250822T170009Z
LAST-MODIFIED:20250910T104810Z
UID:10004068-1847030400-1847034000@ctionline.org
SUMMARY:Drop By And Say Hi ... on Zoom
DESCRIPTION:Meeting ID: 984 9783 7218\nPassword: schmooz
URL:https://ctionline.org/event/drop-by-and-say-hi-on-zoom-39-2/2028-07-12/
LOCATION:https://us06web.zoom.us/j/98497837218
CATEGORIES:Community
ATTACH;FMTTYPE=image/jpeg:https://ctionline.org/wp-content/uploads/2024/02/Remote-Services-2020-1-extend1.jpg
ORGANIZER;CN="CTI Office":MAILTO:office@ctionline.org
END:VEVENT
BEGIN:VEVENT
DTSTART;TZID=America/New_York:20280713T110000
DTEND;TZID=America/New_York:20280713T120000
DTSTAMP:20260422T235256
CREATED:20250827T213222Z
LAST-MODIFIED:20250910T111650Z
UID:10008797-1847098800-1847102400@ctionline.org
SUMMARY:(2nd) Bereavement Group
DESCRIPTION:Please contact Phyllis S for. more information: phylliss@ctionline.org
URL:https://ctionline.org/event/2nd-bereavement-group/2028-07-13/
LOCATION:Congregation Tifereth Israel\, 40 Hill Street\, Glen Cove\, NY\, 11542\, United States
CATEGORIES:Community,Social Action
END:VEVENT
BEGIN:VEVENT
DTSTART;TZID=America/New_York:20280713T161500
DTEND;TZID=America/New_York:20280713T181500
DTSTAMP:20260422T235256
CREATED:20250827T214406Z
LAST-MODIFIED:20250827T214406Z
UID:10007108-1847117700-1847124900@ctionline.org
SUMMARY:Limud
DESCRIPTION:
URL:https://ctionline.org/event/limud-2/2028-07-13/
LOCATION:Congregation Tifereth Israel\, 40 Hill Street\, Glen Cove\, NY\, 11542\, United States
CATEGORIES:Community
END:VEVENT
BEGIN:VEVENT
DTSTART;TZID=America/New_York:20280717T110000
DTEND;TZID=America/New_York:20280717T120000
DTSTAMP:20260422T235256
CREATED:20250910T110710Z
LAST-MODIFIED:20250910T110710Z
UID:10008272-1847444400-1847448000@ctionline.org
SUMMARY:Bereavement Group
DESCRIPTION:Closed Group
URL:https://ctionline.org/event/bereavement-group/2028-07-17/
LOCATION:Congregation Tifereth Israel\, 40 Hill Street\, Glen Cove\, NY\, 11542\, United States
CATEGORIES:Community,Social Action
END:VEVENT
BEGIN:VEVENT
DTSTART;TZID=America/New_York:20280718T160000
DTEND;TZID=America/New_York:20280718T180000
DTSTAMP:20260422T235256
CREATED:20250403T220815Z
LAST-MODIFIED:20250827T212546Z
UID:10005284-1847548800-1847556000@ctionline.org
SUMMARY:Crochet & Knitting Class
DESCRIPTION:
URL:https://ctionline.org/event/crochet-knitting-class-4/2028-07-18/
LOCATION:Congregation Tifereth Israel\, 40 Hill Street\, Glen Cove\, NY\, 11542\, United States
CATEGORIES:Community,Fun
END:VEVENT
BEGIN:VEVENT
DTSTART;TZID=America/New_York:20280718T190000
DTEND;TZID=America/New_York:20280718T203000
DTSTAMP:20260422T235256
CREATED:20250403T220950Z
LAST-MODIFIED:20250827T212752Z
UID:10005545-1847559600-1847565000@ctionline.org
SUMMARY:Nerali.org Concerned Persons Support Group - Call if attending
DESCRIPTION:CALL IF ATTENDING\nTo reserve your spot\, we request that you call Jane Fox\, CRPA\, 516-945-9856 \nnera-LI will be IN-PERSON at CTI on Tuesdays.\n\n\nPlease check the calendar for holiday schedule. \nContact Jane Fox for more information. jane.fox@nerali.org
URL:https://ctionline.org/event/nerali-org-concerned-persons-support-group-call-if-attending-5/2028-07-18/
LOCATION:Congregation Tifereth Israel\, 40 Hill Street\, Glen Cove\, NY\, 11542\, United States
CATEGORIES:Community,Social Action
END:VEVENT
BEGIN:VEVENT
DTSTART;TZID=America/New_York:20280720T110000
DTEND;TZID=America/New_York:20280720T120000
DTSTAMP:20260422T235256
CREATED:20250827T213222Z
LAST-MODIFIED:20250910T111650Z
UID:10008798-1847703600-1847707200@ctionline.org
SUMMARY:(2nd) Bereavement Group
DESCRIPTION:Please contact Phyllis S for. more information: phylliss@ctionline.org
URL:https://ctionline.org/event/2nd-bereavement-group/2028-07-20/
LOCATION:Congregation Tifereth Israel\, 40 Hill Street\, Glen Cove\, NY\, 11542\, United States
CATEGORIES:Community,Social Action
END:VEVENT
BEGIN:VEVENT
DTSTART;TZID=America/New_York:20280720T161500
DTEND;TZID=America/New_York:20280720T181500
DTSTAMP:20260422T235256
CREATED:20250827T214406Z
LAST-MODIFIED:20250827T214406Z
UID:10007109-1847722500-1847729700@ctionline.org
SUMMARY:Limud
DESCRIPTION:
URL:https://ctionline.org/event/limud-2/2028-07-20/
LOCATION:Congregation Tifereth Israel\, 40 Hill Street\, Glen Cove\, NY\, 11542\, United States
CATEGORIES:Community
END:VEVENT
BEGIN:VEVENT
DTSTART;TZID=America/New_York:20280724T110000
DTEND;TZID=America/New_York:20280724T120000
DTSTAMP:20260422T235256
CREATED:20250910T110710Z
LAST-MODIFIED:20250910T110710Z
UID:10008273-1848049200-1848052800@ctionline.org
SUMMARY:Bereavement Group
DESCRIPTION:Closed Group
URL:https://ctionline.org/event/bereavement-group/2028-07-24/
LOCATION:Congregation Tifereth Israel\, 40 Hill Street\, Glen Cove\, NY\, 11542\, United States
CATEGORIES:Community,Social Action
END:VEVENT
BEGIN:VEVENT
DTSTART;TZID=America/New_York:20280725T160000
DTEND;TZID=America/New_York:20280725T180000
DTSTAMP:20260422T235256
CREATED:20250403T220815Z
LAST-MODIFIED:20250827T212546Z
UID:10005285-1848153600-1848160800@ctionline.org
SUMMARY:Crochet & Knitting Class
DESCRIPTION:
URL:https://ctionline.org/event/crochet-knitting-class-4/2028-07-25/
LOCATION:Congregation Tifereth Israel\, 40 Hill Street\, Glen Cove\, NY\, 11542\, United States
CATEGORIES:Community,Fun
END:VEVENT
BEGIN:VEVENT
DTSTART;TZID=America/New_York:20280725T190000
DTEND;TZID=America/New_York:20280725T203000
DTSTAMP:20260422T235256
CREATED:20250403T220950Z
LAST-MODIFIED:20250827T212752Z
UID:10005546-1848164400-1848169800@ctionline.org
SUMMARY:Nerali.org Concerned Persons Support Group - Call if attending
DESCRIPTION:CALL IF ATTENDING\nTo reserve your spot\, we request that you call Jane Fox\, CRPA\, 516-945-9856 \nnera-LI will be IN-PERSON at CTI on Tuesdays.\n\n\nPlease check the calendar for holiday schedule. \nContact Jane Fox for more information. jane.fox@nerali.org
URL:https://ctionline.org/event/nerali-org-concerned-persons-support-group-call-if-attending-5/2028-07-25/
LOCATION:Congregation Tifereth Israel\, 40 Hill Street\, Glen Cove\, NY\, 11542\, United States
CATEGORIES:Community,Social Action
END:VEVENT
BEGIN:VEVENT
DTSTART;TZID=America/New_York:20280726T160000
DTEND;TZID=America/New_York:20280726T170000
DTSTAMP:20260422T235256
CREATED:20250822T170009Z
LAST-MODIFIED:20250910T104810Z
UID:10004069-1848240000-1848243600@ctionline.org
SUMMARY:Drop By And Say Hi ... on Zoom
DESCRIPTION:Meeting ID: 984 9783 7218\nPassword: schmooz
URL:https://ctionline.org/event/drop-by-and-say-hi-on-zoom-39-2/2028-07-26/
LOCATION:https://us06web.zoom.us/j/98497837218
CATEGORIES:Community
ATTACH;FMTTYPE=image/jpeg:https://ctionline.org/wp-content/uploads/2024/02/Remote-Services-2020-1-extend1.jpg
ORGANIZER;CN="CTI Office":MAILTO:office@ctionline.org
END:VEVENT
BEGIN:VEVENT
DTSTART;TZID=America/New_York:20280727T110000
DTEND;TZID=America/New_York:20280727T120000
DTSTAMP:20260422T235256
CREATED:20250827T213222Z
LAST-MODIFIED:20250910T111650Z
UID:10008799-1848308400-1848312000@ctionline.org
SUMMARY:(2nd) Bereavement Group
DESCRIPTION:Please contact Phyllis S for. more information: phylliss@ctionline.org
URL:https://ctionline.org/event/2nd-bereavement-group/2028-07-27/
LOCATION:Congregation Tifereth Israel\, 40 Hill Street\, Glen Cove\, NY\, 11542\, United States
CATEGORIES:Community,Social Action
END:VEVENT
BEGIN:VEVENT
DTSTART;TZID=America/New_York:20280727T161500
DTEND;TZID=America/New_York:20280727T181500
DTSTAMP:20260422T235256
CREATED:20250827T214406Z
LAST-MODIFIED:20250827T214406Z
UID:10007110-1848327300-1848334500@ctionline.org
SUMMARY:Limud
DESCRIPTION:
URL:https://ctionline.org/event/limud-2/2028-07-27/
LOCATION:Congregation Tifereth Israel\, 40 Hill Street\, Glen Cove\, NY\, 11542\, United States
CATEGORIES:Community
END:VEVENT
BEGIN:VEVENT
DTSTART;TZID=America/New_York:20280731T110000
DTEND;TZID=America/New_York:20280731T120000
DTSTAMP:20260422T235256
CREATED:20250910T110710Z
LAST-MODIFIED:20250910T110710Z
UID:10008274-1848654000-1848657600@ctionline.org
SUMMARY:Bereavement Group
DESCRIPTION:Closed Group
URL:https://ctionline.org/event/bereavement-group/2028-07-31/
LOCATION:Congregation Tifereth Israel\, 40 Hill Street\, Glen Cove\, NY\, 11542\, United States
CATEGORIES:Community,Social Action
END:VEVENT
END:VCALENDAR