BEGIN:VCALENDAR
VERSION:2.0
PRODID:-//Congregation Tifereth Israel - ECPv6.15.17.1//NONSGML v1.0//EN
CALSCALE:GREGORIAN
METHOD:PUBLISH
X-ORIGINAL-URL:https://ctionline.org
X-WR-CALDESC:Events for Congregation Tifereth Israel
REFRESH-INTERVAL;VALUE=DURATION:PT1H
X-Robots-Tag:noindex
X-PUBLISHED-TTL:PT1H
BEGIN:VTIMEZONE
TZID:America/New_York
BEGIN:DAYLIGHT
TZOFFSETFROM:-0500
TZOFFSETTO:-0400
TZNAME:EDT
DTSTART:20270314T070000
END:DAYLIGHT
BEGIN:STANDARD
TZOFFSETFROM:-0400
TZOFFSETTO:-0500
TZNAME:EST
DTSTART:20271107T060000
END:STANDARD
BEGIN:DAYLIGHT
TZOFFSETFROM:-0500
TZOFFSETTO:-0400
TZNAME:EDT
DTSTART:20280312T070000
END:DAYLIGHT
BEGIN:STANDARD
TZOFFSETFROM:-0400
TZOFFSETTO:-0500
TZNAME:EST
DTSTART:20281105T060000
END:STANDARD
BEGIN:DAYLIGHT
TZOFFSETFROM:-0500
TZOFFSETTO:-0400
TZNAME:EDT
DTSTART:20290311T070000
END:DAYLIGHT
BEGIN:STANDARD
TZOFFSETFROM:-0400
TZOFFSETTO:-0500
TZNAME:EST
DTSTART:20291104T060000
END:STANDARD
END:VTIMEZONE
BEGIN:VEVENT
DTSTART;TZID=America/New_York:20280403T110000
DTEND;TZID=America/New_York:20280403T120000
DTSTAMP:20260422T185942
CREATED:20250910T110710Z
LAST-MODIFIED:20250910T110710Z
UID:10008257-1838372400-1838376000@ctionline.org
SUMMARY:Bereavement Group
DESCRIPTION:Closed Group
URL:https://ctionline.org/event/bereavement-group/2028-04-03/
LOCATION:Congregation Tifereth Israel\, 40 Hill Street\, Glen Cove\, NY\, 11542\, United States
CATEGORIES:Community,Social Action
END:VEVENT
BEGIN:VEVENT
DTSTART;TZID=America/New_York:20280404T160000
DTEND;TZID=America/New_York:20280404T180000
DTSTAMP:20260422T185942
CREATED:20250403T220815Z
LAST-MODIFIED:20250827T212546Z
UID:10005269-1838476800-1838484000@ctionline.org
SUMMARY:Crochet & Knitting Class
DESCRIPTION:
URL:https://ctionline.org/event/crochet-knitting-class-4/2028-04-04/
LOCATION:Congregation Tifereth Israel\, 40 Hill Street\, Glen Cove\, NY\, 11542\, United States
CATEGORIES:Community,Fun
END:VEVENT
BEGIN:VEVENT
DTSTART;TZID=America/New_York:20280404T190000
DTEND;TZID=America/New_York:20280404T203000
DTSTAMP:20260422T185942
CREATED:20250403T220950Z
LAST-MODIFIED:20250827T212752Z
UID:10005530-1838487600-1838493000@ctionline.org
SUMMARY:Nerali.org Concerned Persons Support Group - Call if attending
DESCRIPTION:CALL IF ATTENDING\nTo reserve your spot\, we request that you call Jane Fox\, CRPA\, 516-945-9856 \nnera-LI will be IN-PERSON at CTI on Tuesdays.\n\n\nPlease check the calendar for holiday schedule. \nContact Jane Fox for more information. jane.fox@nerali.org
URL:https://ctionline.org/event/nerali-org-concerned-persons-support-group-call-if-attending-5/2028-04-04/
LOCATION:Congregation Tifereth Israel\, 40 Hill Street\, Glen Cove\, NY\, 11542\, United States
CATEGORIES:Community,Social Action
END:VEVENT
BEGIN:VEVENT
DTSTART;TZID=America/New_York:20280405T160000
DTEND;TZID=America/New_York:20280405T170000
DTSTAMP:20260422T185942
CREATED:20250822T170009Z
LAST-MODIFIED:20250910T104810Z
UID:10004061-1838563200-1838566800@ctionline.org
SUMMARY:Drop By And Say Hi ... on Zoom
DESCRIPTION:Meeting ID: 984 9783 7218\nPassword: schmooz
URL:https://ctionline.org/event/drop-by-and-say-hi-on-zoom-39-2/2028-04-05/
LOCATION:https://us06web.zoom.us/j/98497837218
CATEGORIES:Community
ATTACH;FMTTYPE=image/jpeg:https://ctionline.org/wp-content/uploads/2024/02/Remote-Services-2020-1-extend1.jpg
ORGANIZER;CN="CTI Office":MAILTO:office@ctionline.org
END:VEVENT
BEGIN:VEVENT
DTSTART;TZID=America/New_York:20280406T110000
DTEND;TZID=America/New_York:20280406T120000
DTSTAMP:20260422T185942
CREATED:20250827T213222Z
LAST-MODIFIED:20250910T111650Z
UID:10008783-1838631600-1838635200@ctionline.org
SUMMARY:(2nd) Bereavement Group
DESCRIPTION:Please contact Phyllis S for. more information: phylliss@ctionline.org
URL:https://ctionline.org/event/2nd-bereavement-group/2028-04-06/
LOCATION:Congregation Tifereth Israel\, 40 Hill Street\, Glen Cove\, NY\, 11542\, United States
CATEGORIES:Community,Social Action
END:VEVENT
BEGIN:VEVENT
DTSTART;TZID=America/New_York:20280406T161500
DTEND;TZID=America/New_York:20280406T181500
DTSTAMP:20260422T185942
CREATED:20250827T214406Z
LAST-MODIFIED:20250827T214406Z
UID:10007094-1838650500-1838657700@ctionline.org
SUMMARY:Limud
DESCRIPTION:
URL:https://ctionline.org/event/limud-2/2028-04-06/
LOCATION:Congregation Tifereth Israel\, 40 Hill Street\, Glen Cove\, NY\, 11542\, United States
CATEGORIES:Community
END:VEVENT
BEGIN:VEVENT
DTSTART;TZID=America/New_York:20280410T110000
DTEND;TZID=America/New_York:20280410T120000
DTSTAMP:20260422T185942
CREATED:20250910T110710Z
LAST-MODIFIED:20250910T110710Z
UID:10008258-1838977200-1838980800@ctionline.org
SUMMARY:Bereavement Group
DESCRIPTION:Closed Group
URL:https://ctionline.org/event/bereavement-group/2028-04-10/
LOCATION:Congregation Tifereth Israel\, 40 Hill Street\, Glen Cove\, NY\, 11542\, United States
CATEGORIES:Community,Social Action
END:VEVENT
BEGIN:VEVENT
DTSTART;TZID=America/New_York:20280411T160000
DTEND;TZID=America/New_York:20280411T180000
DTSTAMP:20260422T185942
CREATED:20250403T220815Z
LAST-MODIFIED:20250827T212546Z
UID:10005270-1839081600-1839088800@ctionline.org
SUMMARY:Crochet & Knitting Class
DESCRIPTION:
URL:https://ctionline.org/event/crochet-knitting-class-4/2028-04-11/
LOCATION:Congregation Tifereth Israel\, 40 Hill Street\, Glen Cove\, NY\, 11542\, United States
CATEGORIES:Community,Fun
END:VEVENT
BEGIN:VEVENT
DTSTART;TZID=America/New_York:20280411T190000
DTEND;TZID=America/New_York:20280411T203000
DTSTAMP:20260422T185942
CREATED:20250403T220950Z
LAST-MODIFIED:20250827T212752Z
UID:10005531-1839092400-1839097800@ctionline.org
SUMMARY:Nerali.org Concerned Persons Support Group - Call if attending
DESCRIPTION:CALL IF ATTENDING\nTo reserve your spot\, we request that you call Jane Fox\, CRPA\, 516-945-9856 \nnera-LI will be IN-PERSON at CTI on Tuesdays.\n\n\nPlease check the calendar for holiday schedule. \nContact Jane Fox for more information. jane.fox@nerali.org
URL:https://ctionline.org/event/nerali-org-concerned-persons-support-group-call-if-attending-5/2028-04-11/
LOCATION:Congregation Tifereth Israel\, 40 Hill Street\, Glen Cove\, NY\, 11542\, United States
CATEGORIES:Community,Social Action
END:VEVENT
BEGIN:VEVENT
DTSTART;TZID=America/New_York:20280413T110000
DTEND;TZID=America/New_York:20280413T120000
DTSTAMP:20260422T185942
CREATED:20250827T213222Z
LAST-MODIFIED:20250910T111650Z
UID:10008784-1839236400-1839240000@ctionline.org
SUMMARY:(2nd) Bereavement Group
DESCRIPTION:Please contact Phyllis S for. more information: phylliss@ctionline.org
URL:https://ctionline.org/event/2nd-bereavement-group/2028-04-13/
LOCATION:Congregation Tifereth Israel\, 40 Hill Street\, Glen Cove\, NY\, 11542\, United States
CATEGORIES:Community,Social Action
END:VEVENT
BEGIN:VEVENT
DTSTART;TZID=America/New_York:20280413T161500
DTEND;TZID=America/New_York:20280413T181500
DTSTAMP:20260422T185942
CREATED:20250827T214406Z
LAST-MODIFIED:20250827T214406Z
UID:10007095-1839255300-1839262500@ctionline.org
SUMMARY:Limud
DESCRIPTION:
URL:https://ctionline.org/event/limud-2/2028-04-13/
LOCATION:Congregation Tifereth Israel\, 40 Hill Street\, Glen Cove\, NY\, 11542\, United States
CATEGORIES:Community
END:VEVENT
BEGIN:VEVENT
DTSTART;TZID=America/New_York:20280417T110000
DTEND;TZID=America/New_York:20280417T120000
DTSTAMP:20260422T185942
CREATED:20250910T110710Z
LAST-MODIFIED:20250910T110710Z
UID:10008259-1839582000-1839585600@ctionline.org
SUMMARY:Bereavement Group
DESCRIPTION:Closed Group
URL:https://ctionline.org/event/bereavement-group/2028-04-17/
LOCATION:Congregation Tifereth Israel\, 40 Hill Street\, Glen Cove\, NY\, 11542\, United States
CATEGORIES:Community,Social Action
END:VEVENT
BEGIN:VEVENT
DTSTART;TZID=America/New_York:20280418T160000
DTEND;TZID=America/New_York:20280418T180000
DTSTAMP:20260422T185942
CREATED:20250403T220815Z
LAST-MODIFIED:20250827T212546Z
UID:10005271-1839686400-1839693600@ctionline.org
SUMMARY:Crochet & Knitting Class
DESCRIPTION:
URL:https://ctionline.org/event/crochet-knitting-class-4/2028-04-18/
LOCATION:Congregation Tifereth Israel\, 40 Hill Street\, Glen Cove\, NY\, 11542\, United States
CATEGORIES:Community,Fun
END:VEVENT
BEGIN:VEVENT
DTSTART;TZID=America/New_York:20280418T190000
DTEND;TZID=America/New_York:20280418T203000
DTSTAMP:20260422T185942
CREATED:20250403T220950Z
LAST-MODIFIED:20250827T212752Z
UID:10005532-1839697200-1839702600@ctionline.org
SUMMARY:Nerali.org Concerned Persons Support Group - Call if attending
DESCRIPTION:CALL IF ATTENDING\nTo reserve your spot\, we request that you call Jane Fox\, CRPA\, 516-945-9856 \nnera-LI will be IN-PERSON at CTI on Tuesdays.\n\n\nPlease check the calendar for holiday schedule. \nContact Jane Fox for more information. jane.fox@nerali.org
URL:https://ctionline.org/event/nerali-org-concerned-persons-support-group-call-if-attending-5/2028-04-18/
LOCATION:Congregation Tifereth Israel\, 40 Hill Street\, Glen Cove\, NY\, 11542\, United States
CATEGORIES:Community,Social Action
END:VEVENT
BEGIN:VEVENT
DTSTART;TZID=America/New_York:20280419T160000
DTEND;TZID=America/New_York:20280419T170000
DTSTAMP:20260422T185942
CREATED:20250822T170009Z
LAST-MODIFIED:20250910T104810Z
UID:10004062-1839772800-1839776400@ctionline.org
SUMMARY:Drop By And Say Hi ... on Zoom
DESCRIPTION:Meeting ID: 984 9783 7218\nPassword: schmooz
URL:https://ctionline.org/event/drop-by-and-say-hi-on-zoom-39-2/2028-04-19/
LOCATION:https://us06web.zoom.us/j/98497837218
CATEGORIES:Community
ATTACH;FMTTYPE=image/jpeg:https://ctionline.org/wp-content/uploads/2024/02/Remote-Services-2020-1-extend1.jpg
ORGANIZER;CN="CTI Office":MAILTO:office@ctionline.org
END:VEVENT
BEGIN:VEVENT
DTSTART;TZID=America/New_York:20280420T110000
DTEND;TZID=America/New_York:20280420T120000
DTSTAMP:20260422T185942
CREATED:20250827T213222Z
LAST-MODIFIED:20250910T111650Z
UID:10008785-1839841200-1839844800@ctionline.org
SUMMARY:(2nd) Bereavement Group
DESCRIPTION:Please contact Phyllis S for. more information: phylliss@ctionline.org
URL:https://ctionline.org/event/2nd-bereavement-group/2028-04-20/
LOCATION:Congregation Tifereth Israel\, 40 Hill Street\, Glen Cove\, NY\, 11542\, United States
CATEGORIES:Community,Social Action
END:VEVENT
BEGIN:VEVENT
DTSTART;TZID=America/New_York:20280420T161500
DTEND;TZID=America/New_York:20280420T181500
DTSTAMP:20260422T185942
CREATED:20250827T214406Z
LAST-MODIFIED:20250827T214406Z
UID:10007096-1839860100-1839867300@ctionline.org
SUMMARY:Limud
DESCRIPTION:
URL:https://ctionline.org/event/limud-2/2028-04-20/
LOCATION:Congregation Tifereth Israel\, 40 Hill Street\, Glen Cove\, NY\, 11542\, United States
CATEGORIES:Community
END:VEVENT
BEGIN:VEVENT
DTSTART;TZID=America/New_York:20280424T110000
DTEND;TZID=America/New_York:20280424T120000
DTSTAMP:20260422T185942
CREATED:20250910T110710Z
LAST-MODIFIED:20250910T110710Z
UID:10008260-1840186800-1840190400@ctionline.org
SUMMARY:Bereavement Group
DESCRIPTION:Closed Group
URL:https://ctionline.org/event/bereavement-group/2028-04-24/
LOCATION:Congregation Tifereth Israel\, 40 Hill Street\, Glen Cove\, NY\, 11542\, United States
CATEGORIES:Community,Social Action
END:VEVENT
BEGIN:VEVENT
DTSTART;TZID=America/New_York:20280425T160000
DTEND;TZID=America/New_York:20280425T180000
DTSTAMP:20260422T185942
CREATED:20250403T220815Z
LAST-MODIFIED:20250827T212546Z
UID:10005272-1840291200-1840298400@ctionline.org
SUMMARY:Crochet & Knitting Class
DESCRIPTION:
URL:https://ctionline.org/event/crochet-knitting-class-4/2028-04-25/
LOCATION:Congregation Tifereth Israel\, 40 Hill Street\, Glen Cove\, NY\, 11542\, United States
CATEGORIES:Community,Fun
END:VEVENT
BEGIN:VEVENT
DTSTART;TZID=America/New_York:20280425T190000
DTEND;TZID=America/New_York:20280425T203000
DTSTAMP:20260422T185942
CREATED:20250403T220950Z
LAST-MODIFIED:20250827T212752Z
UID:10005533-1840302000-1840307400@ctionline.org
SUMMARY:Nerali.org Concerned Persons Support Group - Call if attending
DESCRIPTION:CALL IF ATTENDING\nTo reserve your spot\, we request that you call Jane Fox\, CRPA\, 516-945-9856 \nnera-LI will be IN-PERSON at CTI on Tuesdays.\n\n\nPlease check the calendar for holiday schedule. \nContact Jane Fox for more information. jane.fox@nerali.org
URL:https://ctionline.org/event/nerali-org-concerned-persons-support-group-call-if-attending-5/2028-04-25/
LOCATION:Congregation Tifereth Israel\, 40 Hill Street\, Glen Cove\, NY\, 11542\, United States
CATEGORIES:Community,Social Action
END:VEVENT
BEGIN:VEVENT
DTSTART;TZID=America/New_York:20280427T110000
DTEND;TZID=America/New_York:20280427T120000
DTSTAMP:20260422T185942
CREATED:20250827T213222Z
LAST-MODIFIED:20250910T111650Z
UID:10008786-1840446000-1840449600@ctionline.org
SUMMARY:(2nd) Bereavement Group
DESCRIPTION:Please contact Phyllis S for. more information: phylliss@ctionline.org
URL:https://ctionline.org/event/2nd-bereavement-group/2028-04-27/
LOCATION:Congregation Tifereth Israel\, 40 Hill Street\, Glen Cove\, NY\, 11542\, United States
CATEGORIES:Community,Social Action
END:VEVENT
BEGIN:VEVENT
DTSTART;TZID=America/New_York:20280427T161500
DTEND;TZID=America/New_York:20280427T181500
DTSTAMP:20260422T185942
CREATED:20250827T214406Z
LAST-MODIFIED:20250827T214406Z
UID:10007097-1840464900-1840472100@ctionline.org
SUMMARY:Limud
DESCRIPTION:
URL:https://ctionline.org/event/limud-2/2028-04-27/
LOCATION:Congregation Tifereth Israel\, 40 Hill Street\, Glen Cove\, NY\, 11542\, United States
CATEGORIES:Community
END:VEVENT
END:VCALENDAR