BEGIN:VCALENDAR
VERSION:2.0
PRODID:-//Congregation Tifereth Israel - ECPv6.15.17.1//NONSGML v1.0//EN
CALSCALE:GREGORIAN
METHOD:PUBLISH
X-WR-CALNAME:Congregation Tifereth Israel
X-ORIGINAL-URL:https://ctionline.org
X-WR-CALDESC:Events for Congregation Tifereth Israel
REFRESH-INTERVAL;VALUE=DURATION:PT1H
X-Robots-Tag:noindex
X-PUBLISHED-TTL:PT1H
BEGIN:VTIMEZONE
TZID:America/New_York
BEGIN:DAYLIGHT
TZOFFSETFROM:-0500
TZOFFSETTO:-0400
TZNAME:EDT
DTSTART:20260308T070000
END:DAYLIGHT
BEGIN:STANDARD
TZOFFSETFROM:-0400
TZOFFSETTO:-0500
TZNAME:EST
DTSTART:20261101T060000
END:STANDARD
BEGIN:DAYLIGHT
TZOFFSETFROM:-0500
TZOFFSETTO:-0400
TZNAME:EDT
DTSTART:20270314T070000
END:DAYLIGHT
BEGIN:STANDARD
TZOFFSETFROM:-0400
TZOFFSETTO:-0500
TZNAME:EST
DTSTART:20271107T060000
END:STANDARD
BEGIN:DAYLIGHT
TZOFFSETFROM:-0500
TZOFFSETTO:-0400
TZNAME:EDT
DTSTART:20280312T070000
END:DAYLIGHT
BEGIN:STANDARD
TZOFFSETFROM:-0400
TZOFFSETTO:-0500
TZNAME:EST
DTSTART:20281105T060000
END:STANDARD
END:VTIMEZONE
BEGIN:VEVENT
DTSTART;TZID=America/New_York:20270201T110000
DTEND;TZID=America/New_York:20270201T120000
DTSTAMP:20260421T201532
CREATED:20250910T110710Z
LAST-MODIFIED:20250910T110710Z
UID:10008196-1801479600-1801483200@ctionline.org
SUMMARY:Bereavement Group
DESCRIPTION:Closed Group
URL:https://ctionline.org/event/bereavement-group/2027-02-01/
LOCATION:Congregation Tifereth Israel\, 40 Hill Street\, Glen Cove\, NY\, 11542\, United States
CATEGORIES:Community,Social Action
END:VEVENT
BEGIN:VEVENT
DTSTART;TZID=America/New_York:20270202T160000
DTEND;TZID=America/New_York:20270202T180000
DTSTAMP:20260421T201532
CREATED:20250403T220815Z
LAST-MODIFIED:20250827T212546Z
UID:10005208-1801584000-1801591200@ctionline.org
SUMMARY:Crochet & Knitting Class
DESCRIPTION:
URL:https://ctionline.org/event/crochet-knitting-class-4/2027-02-02/
LOCATION:Congregation Tifereth Israel\, 40 Hill Street\, Glen Cove\, NY\, 11542\, United States
CATEGORIES:Community,Fun
END:VEVENT
BEGIN:VEVENT
DTSTART;TZID=America/New_York:20270202T190000
DTEND;TZID=America/New_York:20270202T203000
DTSTAMP:20260421T201532
CREATED:20250403T220950Z
LAST-MODIFIED:20250827T212752Z
UID:10005469-1801594800-1801600200@ctionline.org
SUMMARY:Nerali.org Concerned Persons Support Group - Call if attending
DESCRIPTION:CALL IF ATTENDING\nTo reserve your spot\, we request that you call Jane Fox\, CRPA\, 516-945-9856 \nnera-LI will be IN-PERSON at CTI on Tuesdays.\n\n\nPlease check the calendar for holiday schedule. \nContact Jane Fox for more information. jane.fox@nerali.org
URL:https://ctionline.org/event/nerali-org-concerned-persons-support-group-call-if-attending-5/2027-02-02/
LOCATION:Congregation Tifereth Israel\, 40 Hill Street\, Glen Cove\, NY\, 11542\, United States
CATEGORIES:Community,Social Action
END:VEVENT
BEGIN:VEVENT
DTSTART;TZID=America/New_York:20270204T110000
DTEND;TZID=America/New_York:20270204T120000
DTSTAMP:20260421T201532
CREATED:20250827T213222Z
LAST-MODIFIED:20250910T111650Z
UID:10008722-1801738800-1801742400@ctionline.org
SUMMARY:(2nd) Bereavement Group
DESCRIPTION:Please contact Phyllis S for. more information: phylliss@ctionline.org
URL:https://ctionline.org/event/2nd-bereavement-group/2027-02-04/
LOCATION:Congregation Tifereth Israel\, 40 Hill Street\, Glen Cove\, NY\, 11542\, United States
CATEGORIES:Community,Social Action
END:VEVENT
BEGIN:VEVENT
DTSTART;TZID=America/New_York:20270204T161500
DTEND;TZID=America/New_York:20270204T181500
DTSTAMP:20260421T201532
CREATED:20250827T214406Z
LAST-MODIFIED:20250827T214406Z
UID:10007033-1801757700-1801764900@ctionline.org
SUMMARY:Limud
DESCRIPTION:
URL:https://ctionline.org/event/limud-2/2027-02-04/
LOCATION:Congregation Tifereth Israel\, 40 Hill Street\, Glen Cove\, NY\, 11542\, United States
CATEGORIES:Community
END:VEVENT
BEGIN:VEVENT
DTSTART;TZID=America/New_York:20270208T110000
DTEND;TZID=America/New_York:20270208T120000
DTSTAMP:20260421T201532
CREATED:20250910T110710Z
LAST-MODIFIED:20250910T110710Z
UID:10008197-1802084400-1802088000@ctionline.org
SUMMARY:Bereavement Group
DESCRIPTION:Closed Group
URL:https://ctionline.org/event/bereavement-group/2027-02-08/
LOCATION:Congregation Tifereth Israel\, 40 Hill Street\, Glen Cove\, NY\, 11542\, United States
CATEGORIES:Community,Social Action
END:VEVENT
BEGIN:VEVENT
DTSTART;TZID=America/New_York:20270209T160000
DTEND;TZID=America/New_York:20270209T180000
DTSTAMP:20260421T201532
CREATED:20250403T220815Z
LAST-MODIFIED:20250827T212546Z
UID:10005209-1802188800-1802196000@ctionline.org
SUMMARY:Crochet & Knitting Class
DESCRIPTION:
URL:https://ctionline.org/event/crochet-knitting-class-4/2027-02-09/
LOCATION:Congregation Tifereth Israel\, 40 Hill Street\, Glen Cove\, NY\, 11542\, United States
CATEGORIES:Community,Fun
END:VEVENT
BEGIN:VEVENT
DTSTART;TZID=America/New_York:20270209T190000
DTEND;TZID=America/New_York:20270209T203000
DTSTAMP:20260421T201532
CREATED:20250403T220950Z
LAST-MODIFIED:20250827T212752Z
UID:10005470-1802199600-1802205000@ctionline.org
SUMMARY:Nerali.org Concerned Persons Support Group - Call if attending
DESCRIPTION:CALL IF ATTENDING\nTo reserve your spot\, we request that you call Jane Fox\, CRPA\, 516-945-9856 \nnera-LI will be IN-PERSON at CTI on Tuesdays.\n\n\nPlease check the calendar for holiday schedule. \nContact Jane Fox for more information. jane.fox@nerali.org
URL:https://ctionline.org/event/nerali-org-concerned-persons-support-group-call-if-attending-5/2027-02-09/
LOCATION:Congregation Tifereth Israel\, 40 Hill Street\, Glen Cove\, NY\, 11542\, United States
CATEGORIES:Community,Social Action
END:VEVENT
BEGIN:VEVENT
DTSTART;TZID=America/New_York:20270210T160000
DTEND;TZID=America/New_York:20270210T170000
DTSTAMP:20260421T201532
CREATED:20250822T170009Z
LAST-MODIFIED:20250910T104810Z
UID:10004031-1802275200-1802278800@ctionline.org
SUMMARY:Drop By And Say Hi ... on Zoom
DESCRIPTION:Meeting ID: 984 9783 7218\nPassword: schmooz
URL:https://ctionline.org/event/drop-by-and-say-hi-on-zoom-39-2/2027-02-10/
LOCATION:https://us06web.zoom.us/j/98497837218
CATEGORIES:Community
ATTACH;FMTTYPE=image/jpeg:https://ctionline.org/wp-content/uploads/2024/02/Remote-Services-2020-1-extend1.jpg
ORGANIZER;CN="CTI Office":MAILTO:office@ctionline.org
END:VEVENT
BEGIN:VEVENT
DTSTART;TZID=America/New_York:20270211T110000
DTEND;TZID=America/New_York:20270211T120000
DTSTAMP:20260421T201532
CREATED:20250827T213222Z
LAST-MODIFIED:20250910T111650Z
UID:10008723-1802343600-1802347200@ctionline.org
SUMMARY:(2nd) Bereavement Group
DESCRIPTION:Please contact Phyllis S for. more information: phylliss@ctionline.org
URL:https://ctionline.org/event/2nd-bereavement-group/2027-02-11/
LOCATION:Congregation Tifereth Israel\, 40 Hill Street\, Glen Cove\, NY\, 11542\, United States
CATEGORIES:Community,Social Action
END:VEVENT
BEGIN:VEVENT
DTSTART;TZID=America/New_York:20270211T161500
DTEND;TZID=America/New_York:20270211T181500
DTSTAMP:20260421T201532
CREATED:20250827T214406Z
LAST-MODIFIED:20250827T214406Z
UID:10007034-1802362500-1802369700@ctionline.org
SUMMARY:Limud
DESCRIPTION:
URL:https://ctionline.org/event/limud-2/2027-02-11/
LOCATION:Congregation Tifereth Israel\, 40 Hill Street\, Glen Cove\, NY\, 11542\, United States
CATEGORIES:Community
END:VEVENT
BEGIN:VEVENT
DTSTART;TZID=America/New_York:20270215T110000
DTEND;TZID=America/New_York:20270215T120000
DTSTAMP:20260421T201532
CREATED:20250910T110710Z
LAST-MODIFIED:20250910T110710Z
UID:10008198-1802689200-1802692800@ctionline.org
SUMMARY:Bereavement Group
DESCRIPTION:Closed Group
URL:https://ctionline.org/event/bereavement-group/2027-02-15/
LOCATION:Congregation Tifereth Israel\, 40 Hill Street\, Glen Cove\, NY\, 11542\, United States
CATEGORIES:Community,Social Action
END:VEVENT
BEGIN:VEVENT
DTSTART;TZID=America/New_York:20270216T160000
DTEND;TZID=America/New_York:20270216T180000
DTSTAMP:20260421T201532
CREATED:20250403T220815Z
LAST-MODIFIED:20250827T212546Z
UID:10005210-1802793600-1802800800@ctionline.org
SUMMARY:Crochet & Knitting Class
DESCRIPTION:
URL:https://ctionline.org/event/crochet-knitting-class-4/2027-02-16/
LOCATION:Congregation Tifereth Israel\, 40 Hill Street\, Glen Cove\, NY\, 11542\, United States
CATEGORIES:Community,Fun
END:VEVENT
BEGIN:VEVENT
DTSTART;TZID=America/New_York:20270216T190000
DTEND;TZID=America/New_York:20270216T203000
DTSTAMP:20260421T201532
CREATED:20250403T220950Z
LAST-MODIFIED:20250827T212752Z
UID:10005471-1802804400-1802809800@ctionline.org
SUMMARY:Nerali.org Concerned Persons Support Group - Call if attending
DESCRIPTION:CALL IF ATTENDING\nTo reserve your spot\, we request that you call Jane Fox\, CRPA\, 516-945-9856 \nnera-LI will be IN-PERSON at CTI on Tuesdays.\n\n\nPlease check the calendar for holiday schedule. \nContact Jane Fox for more information. jane.fox@nerali.org
URL:https://ctionline.org/event/nerali-org-concerned-persons-support-group-call-if-attending-5/2027-02-16/
LOCATION:Congregation Tifereth Israel\, 40 Hill Street\, Glen Cove\, NY\, 11542\, United States
CATEGORIES:Community,Social Action
END:VEVENT
BEGIN:VEVENT
DTSTART;TZID=America/New_York:20270218T110000
DTEND;TZID=America/New_York:20270218T120000
DTSTAMP:20260421T201532
CREATED:20250827T213222Z
LAST-MODIFIED:20250910T111650Z
UID:10008724-1802948400-1802952000@ctionline.org
SUMMARY:(2nd) Bereavement Group
DESCRIPTION:Please contact Phyllis S for. more information: phylliss@ctionline.org
URL:https://ctionline.org/event/2nd-bereavement-group/2027-02-18/
LOCATION:Congregation Tifereth Israel\, 40 Hill Street\, Glen Cove\, NY\, 11542\, United States
CATEGORIES:Community,Social Action
END:VEVENT
BEGIN:VEVENT
DTSTART;TZID=America/New_York:20270218T161500
DTEND;TZID=America/New_York:20270218T181500
DTSTAMP:20260421T201532
CREATED:20250827T214406Z
LAST-MODIFIED:20250827T214406Z
UID:10007035-1802967300-1802974500@ctionline.org
SUMMARY:Limud
DESCRIPTION:
URL:https://ctionline.org/event/limud-2/2027-02-18/
LOCATION:Congregation Tifereth Israel\, 40 Hill Street\, Glen Cove\, NY\, 11542\, United States
CATEGORIES:Community
END:VEVENT
BEGIN:VEVENT
DTSTART;TZID=America/New_York:20270222T110000
DTEND;TZID=America/New_York:20270222T120000
DTSTAMP:20260421T201532
CREATED:20250910T110710Z
LAST-MODIFIED:20250910T110710Z
UID:10008199-1803294000-1803297600@ctionline.org
SUMMARY:Bereavement Group
DESCRIPTION:Closed Group
URL:https://ctionline.org/event/bereavement-group/2027-02-22/
LOCATION:Congregation Tifereth Israel\, 40 Hill Street\, Glen Cove\, NY\, 11542\, United States
CATEGORIES:Community,Social Action
END:VEVENT
BEGIN:VEVENT
DTSTART;TZID=America/New_York:20270223T160000
DTEND;TZID=America/New_York:20270223T180000
DTSTAMP:20260421T201532
CREATED:20250403T220815Z
LAST-MODIFIED:20250827T212546Z
UID:10005211-1803398400-1803405600@ctionline.org
SUMMARY:Crochet & Knitting Class
DESCRIPTION:
URL:https://ctionline.org/event/crochet-knitting-class-4/2027-02-23/
LOCATION:Congregation Tifereth Israel\, 40 Hill Street\, Glen Cove\, NY\, 11542\, United States
CATEGORIES:Community,Fun
END:VEVENT
BEGIN:VEVENT
DTSTART;TZID=America/New_York:20270223T190000
DTEND;TZID=America/New_York:20270223T203000
DTSTAMP:20260421T201532
CREATED:20250403T220950Z
LAST-MODIFIED:20250827T212752Z
UID:10005472-1803409200-1803414600@ctionline.org
SUMMARY:Nerali.org Concerned Persons Support Group - Call if attending
DESCRIPTION:CALL IF ATTENDING\nTo reserve your spot\, we request that you call Jane Fox\, CRPA\, 516-945-9856 \nnera-LI will be IN-PERSON at CTI on Tuesdays.\n\n\nPlease check the calendar for holiday schedule. \nContact Jane Fox for more information. jane.fox@nerali.org
URL:https://ctionline.org/event/nerali-org-concerned-persons-support-group-call-if-attending-5/2027-02-23/
LOCATION:Congregation Tifereth Israel\, 40 Hill Street\, Glen Cove\, NY\, 11542\, United States
CATEGORIES:Community,Social Action
END:VEVENT
BEGIN:VEVENT
DTSTART;TZID=America/New_York:20270224T160000
DTEND;TZID=America/New_York:20270224T170000
DTSTAMP:20260421T201532
CREATED:20250822T170009Z
LAST-MODIFIED:20250910T104810Z
UID:10004032-1803484800-1803488400@ctionline.org
SUMMARY:Drop By And Say Hi ... on Zoom
DESCRIPTION:Meeting ID: 984 9783 7218\nPassword: schmooz
URL:https://ctionline.org/event/drop-by-and-say-hi-on-zoom-39-2/2027-02-24/
LOCATION:https://us06web.zoom.us/j/98497837218
CATEGORIES:Community
ATTACH;FMTTYPE=image/jpeg:https://ctionline.org/wp-content/uploads/2024/02/Remote-Services-2020-1-extend1.jpg
ORGANIZER;CN="CTI Office":MAILTO:office@ctionline.org
END:VEVENT
BEGIN:VEVENT
DTSTART;TZID=America/New_York:20270225T110000
DTEND;TZID=America/New_York:20270225T120000
DTSTAMP:20260421T201532
CREATED:20250827T213222Z
LAST-MODIFIED:20250910T111650Z
UID:10008725-1803553200-1803556800@ctionline.org
SUMMARY:(2nd) Bereavement Group
DESCRIPTION:Please contact Phyllis S for. more information: phylliss@ctionline.org
URL:https://ctionline.org/event/2nd-bereavement-group/2027-02-25/
LOCATION:Congregation Tifereth Israel\, 40 Hill Street\, Glen Cove\, NY\, 11542\, United States
CATEGORIES:Community,Social Action
END:VEVENT
BEGIN:VEVENT
DTSTART;TZID=America/New_York:20270225T161500
DTEND;TZID=America/New_York:20270225T181500
DTSTAMP:20260421T201532
CREATED:20250827T214406Z
LAST-MODIFIED:20250827T214406Z
UID:10007036-1803572100-1803579300@ctionline.org
SUMMARY:Limud
DESCRIPTION:
URL:https://ctionline.org/event/limud-2/2027-02-25/
LOCATION:Congregation Tifereth Israel\, 40 Hill Street\, Glen Cove\, NY\, 11542\, United States
CATEGORIES:Community
END:VEVENT
END:VCALENDAR