BEGIN:VCALENDAR
VERSION:2.0
PRODID:-//Congregation Tifereth Israel - ECPv6.15.17.1//NONSGML v1.0//EN
CALSCALE:GREGORIAN
METHOD:PUBLISH
X-WR-CALNAME:Congregation Tifereth Israel
X-ORIGINAL-URL:https://ctionline.org
X-WR-CALDESC:Events for Congregation Tifereth Israel
REFRESH-INTERVAL;VALUE=DURATION:PT1H
X-Robots-Tag:noindex
X-PUBLISHED-TTL:PT1H
BEGIN:VTIMEZONE
TZID:America/New_York
BEGIN:DAYLIGHT
TZOFFSETFROM:-0500
TZOFFSETTO:-0400
TZNAME:EDT
DTSTART:20250309T070000
END:DAYLIGHT
BEGIN:STANDARD
TZOFFSETFROM:-0400
TZOFFSETTO:-0500
TZNAME:EST
DTSTART:20251102T060000
END:STANDARD
BEGIN:DAYLIGHT
TZOFFSETFROM:-0500
TZOFFSETTO:-0400
TZNAME:EDT
DTSTART:20260308T070000
END:DAYLIGHT
BEGIN:STANDARD
TZOFFSETFROM:-0400
TZOFFSETTO:-0500
TZNAME:EST
DTSTART:20261101T060000
END:STANDARD
BEGIN:DAYLIGHT
TZOFFSETFROM:-0500
TZOFFSETTO:-0400
TZNAME:EDT
DTSTART:20270314T070000
END:DAYLIGHT
BEGIN:STANDARD
TZOFFSETFROM:-0400
TZOFFSETTO:-0500
TZNAME:EST
DTSTART:20271107T060000
END:STANDARD
END:VTIMEZONE
BEGIN:VEVENT
DTSTART;TZID=America/New_York:20260601T110000
DTEND;TZID=America/New_York:20260601T120000
DTSTAMP:20260421T074048
CREATED:20250910T110710Z
LAST-MODIFIED:20250910T110710Z
UID:10008161-1780311600-1780315200@ctionline.org
SUMMARY:Bereavement Group
DESCRIPTION:Closed Group
URL:https://ctionline.org/event/bereavement-group/2026-06-01/
LOCATION:Congregation Tifereth Israel\, 40 Hill Street\, Glen Cove\, NY\, 11542\, United States
CATEGORIES:Community,Social Action
END:VEVENT
BEGIN:VEVENT
DTSTART;TZID=America/New_York:20260602T160000
DTEND;TZID=America/New_York:20260602T180000
DTSTAMP:20260421T074048
CREATED:20250403T220815Z
LAST-MODIFIED:20250827T212546Z
UID:10005173-1780416000-1780423200@ctionline.org
SUMMARY:Crochet & Knitting Class
DESCRIPTION:
URL:https://ctionline.org/event/crochet-knitting-class-4/2026-06-02/
LOCATION:Congregation Tifereth Israel\, 40 Hill Street\, Glen Cove\, NY\, 11542\, United States
CATEGORIES:Community,Fun
END:VEVENT
BEGIN:VEVENT
DTSTART;TZID=America/New_York:20260602T190000
DTEND;TZID=America/New_York:20260602T203000
DTSTAMP:20260421T074048
CREATED:20250403T220950Z
LAST-MODIFIED:20250827T212752Z
UID:10005434-1780426800-1780432200@ctionline.org
SUMMARY:Nerali.org Concerned Persons Support Group - Call if attending
DESCRIPTION:CALL IF ATTENDING\nTo reserve your spot\, we request that you call Jane Fox\, CRPA\, 516-945-9856 \nnera-LI will be IN-PERSON at CTI on Tuesdays.\n\n\nPlease check the calendar for holiday schedule. \nContact Jane Fox for more information. jane.fox@nerali.org
URL:https://ctionline.org/event/nerali-org-concerned-persons-support-group-call-if-attending-5/2026-06-02/
LOCATION:Congregation Tifereth Israel\, 40 Hill Street\, Glen Cove\, NY\, 11542\, United States
CATEGORIES:Community,Social Action
END:VEVENT
BEGIN:VEVENT
DTSTART;TZID=America/New_York:20260603T160000
DTEND;TZID=America/New_York:20260603T170000
DTSTAMP:20260421T074048
CREATED:20250822T170009Z
LAST-MODIFIED:20250910T104810Z
UID:10004013-1780502400-1780506000@ctionline.org
SUMMARY:Drop By And Say Hi ... on Zoom
DESCRIPTION:Meeting ID: 984 9783 7218\nPassword: schmooz
URL:https://ctionline.org/event/drop-by-and-say-hi-on-zoom-39-2/2026-06-03/
LOCATION:https://us06web.zoom.us/j/98497837218
CATEGORIES:Community
ATTACH;FMTTYPE=image/jpeg:https://ctionline.org/wp-content/uploads/2024/02/Remote-Services-2020-1-extend1.jpg
ORGANIZER;CN="CTI Office":MAILTO:office@ctionline.org
END:VEVENT
BEGIN:VEVENT
DTSTART;TZID=America/New_York:20260604T110000
DTEND;TZID=America/New_York:20260604T120000
DTSTAMP:20260421T074048
CREATED:20250827T213222Z
LAST-MODIFIED:20250910T111650Z
UID:10008687-1780570800-1780574400@ctionline.org
SUMMARY:(2nd) Bereavement Group
DESCRIPTION:Please contact Phyllis S for. more information: phylliss@ctionline.org
URL:https://ctionline.org/event/2nd-bereavement-group/2026-06-04/
LOCATION:Congregation Tifereth Israel\, 40 Hill Street\, Glen Cove\, NY\, 11542\, United States
CATEGORIES:Community,Social Action
END:VEVENT
BEGIN:VEVENT
DTSTART;TZID=America/New_York:20260604T150000
DTEND;TZID=America/New_York:20260604T160000
DTSTAMP:20260421T074048
CREATED:20260309T204131Z
LAST-MODIFIED:20260309T204250Z
UID:10008949-1780585200-1780588800@ctionline.org
SUMMARY:Talmud Stories & Teachings Series
DESCRIPTION:Join Rabbi Irwin Huberman for a zoom-only lecture series exploring Stories & Teachings from the Talmud. Discover timeless wisdom from the Talmud and how it applies to today. \nEvent Details \n\nSchedule: Thursdays at 3 PM\nFormat: Zoom-only (ongoing series)\nZoom Meeting Link: https://us02web.zoom.us/j/88558231353+cCylwDVV6F34yQv4OPB69O1ATH7uO.1\nMeeting ID: 885 558 231 353\nPhone In: (646) 558-8656\n\nThis series offers insightful discussions perfect for deepening your understanding of Jewish texts in a convenient online format. \nJoin Us: \nClick the Zoom link to participate—no registration required. For questions\, visit the congregation’s site or contact the office.
URL:https://ctionline.org/event/talmud-stories-teachings-series/2026-06-04/
LOCATION:Congregation Tifereth Israel\, 40 Hill Street\, Glen Cove\, NY\, 11542\, United States
CATEGORIES:Community,Services
ORGANIZER;CN="CTI Office":MAILTO:office@ctionline.org
END:VEVENT
BEGIN:VEVENT
DTSTART;TZID=America/New_York:20260604T161500
DTEND;TZID=America/New_York:20260604T181500
DTSTAMP:20260421T074048
CREATED:20250827T214406Z
LAST-MODIFIED:20250827T214406Z
UID:10006998-1780589700-1780596900@ctionline.org
SUMMARY:Limud
DESCRIPTION:
URL:https://ctionline.org/event/limud-2/2026-06-04/
LOCATION:Congregation Tifereth Israel\, 40 Hill Street\, Glen Cove\, NY\, 11542\, United States
CATEGORIES:Community
END:VEVENT
BEGIN:VEVENT
DTSTART;TZID=America/New_York:20260608T110000
DTEND;TZID=America/New_York:20260608T120000
DTSTAMP:20260421T074048
CREATED:20250910T110710Z
LAST-MODIFIED:20250910T110710Z
UID:10008162-1780916400-1780920000@ctionline.org
SUMMARY:Bereavement Group
DESCRIPTION:Closed Group
URL:https://ctionline.org/event/bereavement-group/2026-06-08/
LOCATION:Congregation Tifereth Israel\, 40 Hill Street\, Glen Cove\, NY\, 11542\, United States
CATEGORIES:Community,Social Action
END:VEVENT
BEGIN:VEVENT
DTSTART;TZID=America/New_York:20260609T160000
DTEND;TZID=America/New_York:20260609T180000
DTSTAMP:20260421T074048
CREATED:20250403T220815Z
LAST-MODIFIED:20250827T212546Z
UID:10005174-1781020800-1781028000@ctionline.org
SUMMARY:Crochet & Knitting Class
DESCRIPTION:
URL:https://ctionline.org/event/crochet-knitting-class-4/2026-06-09/
LOCATION:Congregation Tifereth Israel\, 40 Hill Street\, Glen Cove\, NY\, 11542\, United States
CATEGORIES:Community,Fun
END:VEVENT
BEGIN:VEVENT
DTSTART;TZID=America/New_York:20260609T190000
DTEND;TZID=America/New_York:20260609T203000
DTSTAMP:20260421T074048
CREATED:20250403T220950Z
LAST-MODIFIED:20250827T212752Z
UID:10005435-1781031600-1781037000@ctionline.org
SUMMARY:Nerali.org Concerned Persons Support Group - Call if attending
DESCRIPTION:CALL IF ATTENDING\nTo reserve your spot\, we request that you call Jane Fox\, CRPA\, 516-945-9856 \nnera-LI will be IN-PERSON at CTI on Tuesdays.\n\n\nPlease check the calendar for holiday schedule. \nContact Jane Fox for more information. jane.fox@nerali.org
URL:https://ctionline.org/event/nerali-org-concerned-persons-support-group-call-if-attending-5/2026-06-09/
LOCATION:Congregation Tifereth Israel\, 40 Hill Street\, Glen Cove\, NY\, 11542\, United States
CATEGORIES:Community,Social Action
END:VEVENT
BEGIN:VEVENT
DTSTART;TZID=America/New_York:20260611T110000
DTEND;TZID=America/New_York:20260611T120000
DTSTAMP:20260421T074048
CREATED:20250827T213222Z
LAST-MODIFIED:20250910T111650Z
UID:10008688-1781175600-1781179200@ctionline.org
SUMMARY:(2nd) Bereavement Group
DESCRIPTION:Please contact Phyllis S for. more information: phylliss@ctionline.org
URL:https://ctionline.org/event/2nd-bereavement-group/2026-06-11/
LOCATION:Congregation Tifereth Israel\, 40 Hill Street\, Glen Cove\, NY\, 11542\, United States
CATEGORIES:Community,Social Action
END:VEVENT
BEGIN:VEVENT
DTSTART;TZID=America/New_York:20260611T150000
DTEND;TZID=America/New_York:20260611T160000
DTSTAMP:20260421T074048
CREATED:20260309T204131Z
LAST-MODIFIED:20260309T204250Z
UID:10008950-1781190000-1781193600@ctionline.org
SUMMARY:Talmud Stories & Teachings Series
DESCRIPTION:Join Rabbi Irwin Huberman for a zoom-only lecture series exploring Stories & Teachings from the Talmud. Discover timeless wisdom from the Talmud and how it applies to today. \nEvent Details \n\nSchedule: Thursdays at 3 PM\nFormat: Zoom-only (ongoing series)\nZoom Meeting Link: https://us02web.zoom.us/j/88558231353+cCylwDVV6F34yQv4OPB69O1ATH7uO.1\nMeeting ID: 885 558 231 353\nPhone In: (646) 558-8656\n\nThis series offers insightful discussions perfect for deepening your understanding of Jewish texts in a convenient online format. \nJoin Us: \nClick the Zoom link to participate—no registration required. For questions\, visit the congregation’s site or contact the office.
URL:https://ctionline.org/event/talmud-stories-teachings-series/2026-06-11/
LOCATION:Congregation Tifereth Israel\, 40 Hill Street\, Glen Cove\, NY\, 11542\, United States
CATEGORIES:Community,Services
ORGANIZER;CN="CTI Office":MAILTO:office@ctionline.org
END:VEVENT
BEGIN:VEVENT
DTSTART;TZID=America/New_York:20260611T161500
DTEND;TZID=America/New_York:20260611T181500
DTSTAMP:20260421T074048
CREATED:20250827T214406Z
LAST-MODIFIED:20250827T214406Z
UID:10006999-1781194500-1781201700@ctionline.org
SUMMARY:Limud
DESCRIPTION:
URL:https://ctionline.org/event/limud-2/2026-06-11/
LOCATION:Congregation Tifereth Israel\, 40 Hill Street\, Glen Cove\, NY\, 11542\, United States
CATEGORIES:Community
END:VEVENT
BEGIN:VEVENT
DTSTART;TZID=America/New_York:20260615T110000
DTEND;TZID=America/New_York:20260615T120000
DTSTAMP:20260421T074048
CREATED:20250910T110710Z
LAST-MODIFIED:20250910T110710Z
UID:10008163-1781521200-1781524800@ctionline.org
SUMMARY:Bereavement Group
DESCRIPTION:Closed Group
URL:https://ctionline.org/event/bereavement-group/2026-06-15/
LOCATION:Congregation Tifereth Israel\, 40 Hill Street\, Glen Cove\, NY\, 11542\, United States
CATEGORIES:Community,Social Action
END:VEVENT
BEGIN:VEVENT
DTSTART;TZID=America/New_York:20260616T160000
DTEND;TZID=America/New_York:20260616T180000
DTSTAMP:20260421T074048
CREATED:20250403T220815Z
LAST-MODIFIED:20250827T212546Z
UID:10005175-1781625600-1781632800@ctionline.org
SUMMARY:Crochet & Knitting Class
DESCRIPTION:
URL:https://ctionline.org/event/crochet-knitting-class-4/2026-06-16/
LOCATION:Congregation Tifereth Israel\, 40 Hill Street\, Glen Cove\, NY\, 11542\, United States
CATEGORIES:Community,Fun
END:VEVENT
BEGIN:VEVENT
DTSTART;TZID=America/New_York:20260616T190000
DTEND;TZID=America/New_York:20260616T203000
DTSTAMP:20260421T074048
CREATED:20250403T220950Z
LAST-MODIFIED:20250827T212752Z
UID:10005436-1781636400-1781641800@ctionline.org
SUMMARY:Nerali.org Concerned Persons Support Group - Call if attending
DESCRIPTION:CALL IF ATTENDING\nTo reserve your spot\, we request that you call Jane Fox\, CRPA\, 516-945-9856 \nnera-LI will be IN-PERSON at CTI on Tuesdays.\n\n\nPlease check the calendar for holiday schedule. \nContact Jane Fox for more information. jane.fox@nerali.org
URL:https://ctionline.org/event/nerali-org-concerned-persons-support-group-call-if-attending-5/2026-06-16/
LOCATION:Congregation Tifereth Israel\, 40 Hill Street\, Glen Cove\, NY\, 11542\, United States
CATEGORIES:Community,Social Action
END:VEVENT
BEGIN:VEVENT
DTSTART;TZID=America/New_York:20260617T160000
DTEND;TZID=America/New_York:20260617T170000
DTSTAMP:20260421T074048
CREATED:20250822T170009Z
LAST-MODIFIED:20250910T104810Z
UID:10004014-1781712000-1781715600@ctionline.org
SUMMARY:Drop By And Say Hi ... on Zoom
DESCRIPTION:Meeting ID: 984 9783 7218\nPassword: schmooz
URL:https://ctionline.org/event/drop-by-and-say-hi-on-zoom-39-2/2026-06-17/
LOCATION:https://us06web.zoom.us/j/98497837218
CATEGORIES:Community
ATTACH;FMTTYPE=image/jpeg:https://ctionline.org/wp-content/uploads/2024/02/Remote-Services-2020-1-extend1.jpg
ORGANIZER;CN="CTI Office":MAILTO:office@ctionline.org
END:VEVENT
BEGIN:VEVENT
DTSTART;TZID=America/New_York:20260618T110000
DTEND;TZID=America/New_York:20260618T120000
DTSTAMP:20260421T074048
CREATED:20250827T213222Z
LAST-MODIFIED:20250910T111650Z
UID:10008689-1781780400-1781784000@ctionline.org
SUMMARY:(2nd) Bereavement Group
DESCRIPTION:Please contact Phyllis S for. more information: phylliss@ctionline.org
URL:https://ctionline.org/event/2nd-bereavement-group/2026-06-18/
LOCATION:Congregation Tifereth Israel\, 40 Hill Street\, Glen Cove\, NY\, 11542\, United States
CATEGORIES:Community,Social Action
END:VEVENT
BEGIN:VEVENT
DTSTART;TZID=America/New_York:20260618T150000
DTEND;TZID=America/New_York:20260618T160000
DTSTAMP:20260421T074048
CREATED:20260309T204131Z
LAST-MODIFIED:20260309T204250Z
UID:10008951-1781794800-1781798400@ctionline.org
SUMMARY:Talmud Stories & Teachings Series
DESCRIPTION:Join Rabbi Irwin Huberman for a zoom-only lecture series exploring Stories & Teachings from the Talmud. Discover timeless wisdom from the Talmud and how it applies to today. \nEvent Details \n\nSchedule: Thursdays at 3 PM\nFormat: Zoom-only (ongoing series)\nZoom Meeting Link: https://us02web.zoom.us/j/88558231353+cCylwDVV6F34yQv4OPB69O1ATH7uO.1\nMeeting ID: 885 558 231 353\nPhone In: (646) 558-8656\n\nThis series offers insightful discussions perfect for deepening your understanding of Jewish texts in a convenient online format. \nJoin Us: \nClick the Zoom link to participate—no registration required. For questions\, visit the congregation’s site or contact the office.
URL:https://ctionline.org/event/talmud-stories-teachings-series/2026-06-18/
LOCATION:Congregation Tifereth Israel\, 40 Hill Street\, Glen Cove\, NY\, 11542\, United States
CATEGORIES:Community,Services
ORGANIZER;CN="CTI Office":MAILTO:office@ctionline.org
END:VEVENT
BEGIN:VEVENT
DTSTART;TZID=America/New_York:20260618T161500
DTEND;TZID=America/New_York:20260618T181500
DTSTAMP:20260421T074048
CREATED:20250827T214406Z
LAST-MODIFIED:20250827T214406Z
UID:10007000-1781799300-1781806500@ctionline.org
SUMMARY:Limud
DESCRIPTION:
URL:https://ctionline.org/event/limud-2/2026-06-18/
LOCATION:Congregation Tifereth Israel\, 40 Hill Street\, Glen Cove\, NY\, 11542\, United States
CATEGORIES:Community
END:VEVENT
BEGIN:VEVENT
DTSTART;TZID=America/New_York:20260622T110000
DTEND;TZID=America/New_York:20260622T120000
DTSTAMP:20260421T074048
CREATED:20250910T110710Z
LAST-MODIFIED:20250910T110710Z
UID:10008164-1782126000-1782129600@ctionline.org
SUMMARY:Bereavement Group
DESCRIPTION:Closed Group
URL:https://ctionline.org/event/bereavement-group/2026-06-22/
LOCATION:Congregation Tifereth Israel\, 40 Hill Street\, Glen Cove\, NY\, 11542\, United States
CATEGORIES:Community,Social Action
END:VEVENT
BEGIN:VEVENT
DTSTART;TZID=America/New_York:20260623T160000
DTEND;TZID=America/New_York:20260623T180000
DTSTAMP:20260421T074048
CREATED:20250403T220815Z
LAST-MODIFIED:20250827T212546Z
UID:10005176-1782230400-1782237600@ctionline.org
SUMMARY:Crochet & Knitting Class
DESCRIPTION:
URL:https://ctionline.org/event/crochet-knitting-class-4/2026-06-23/
LOCATION:Congregation Tifereth Israel\, 40 Hill Street\, Glen Cove\, NY\, 11542\, United States
CATEGORIES:Community,Fun
END:VEVENT
BEGIN:VEVENT
DTSTART;TZID=America/New_York:20260623T190000
DTEND;TZID=America/New_York:20260623T203000
DTSTAMP:20260421T074048
CREATED:20250403T220950Z
LAST-MODIFIED:20250827T212752Z
UID:10005437-1782241200-1782246600@ctionline.org
SUMMARY:Nerali.org Concerned Persons Support Group - Call if attending
DESCRIPTION:CALL IF ATTENDING\nTo reserve your spot\, we request that you call Jane Fox\, CRPA\, 516-945-9856 \nnera-LI will be IN-PERSON at CTI on Tuesdays.\n\n\nPlease check the calendar for holiday schedule. \nContact Jane Fox for more information. jane.fox@nerali.org
URL:https://ctionline.org/event/nerali-org-concerned-persons-support-group-call-if-attending-5/2026-06-23/
LOCATION:Congregation Tifereth Israel\, 40 Hill Street\, Glen Cove\, NY\, 11542\, United States
CATEGORIES:Community,Social Action
END:VEVENT
BEGIN:VEVENT
DTSTART;TZID=America/New_York:20260625T110000
DTEND;TZID=America/New_York:20260625T120000
DTSTAMP:20260421T074048
CREATED:20250827T213222Z
LAST-MODIFIED:20250910T111650Z
UID:10008690-1782385200-1782388800@ctionline.org
SUMMARY:(2nd) Bereavement Group
DESCRIPTION:Please contact Phyllis S for. more information: phylliss@ctionline.org
URL:https://ctionline.org/event/2nd-bereavement-group/2026-06-25/
LOCATION:Congregation Tifereth Israel\, 40 Hill Street\, Glen Cove\, NY\, 11542\, United States
CATEGORIES:Community,Social Action
END:VEVENT
BEGIN:VEVENT
DTSTART;TZID=America/New_York:20260625T161500
DTEND;TZID=America/New_York:20260625T181500
DTSTAMP:20260421T074048
CREATED:20250827T214406Z
LAST-MODIFIED:20250827T214406Z
UID:10007001-1782404100-1782411300@ctionline.org
SUMMARY:Limud
DESCRIPTION:
URL:https://ctionline.org/event/limud-2/2026-06-25/
LOCATION:Congregation Tifereth Israel\, 40 Hill Street\, Glen Cove\, NY\, 11542\, United States
CATEGORIES:Community
END:VEVENT
BEGIN:VEVENT
DTSTART;TZID=America/New_York:20260629T110000
DTEND;TZID=America/New_York:20260629T120000
DTSTAMP:20260421T074048
CREATED:20250910T110710Z
LAST-MODIFIED:20250910T110710Z
UID:10008165-1782730800-1782734400@ctionline.org
SUMMARY:Bereavement Group
DESCRIPTION:Closed Group
URL:https://ctionline.org/event/bereavement-group/2026-06-29/
LOCATION:Congregation Tifereth Israel\, 40 Hill Street\, Glen Cove\, NY\, 11542\, United States
CATEGORIES:Community,Social Action
END:VEVENT
BEGIN:VEVENT
DTSTART;TZID=America/New_York:20260630T160000
DTEND;TZID=America/New_York:20260630T180000
DTSTAMP:20260421T074048
CREATED:20250403T220815Z
LAST-MODIFIED:20250827T212546Z
UID:10005177-1782835200-1782842400@ctionline.org
SUMMARY:Crochet & Knitting Class
DESCRIPTION:
URL:https://ctionline.org/event/crochet-knitting-class-4/2026-06-30/
LOCATION:Congregation Tifereth Israel\, 40 Hill Street\, Glen Cove\, NY\, 11542\, United States
CATEGORIES:Community,Fun
END:VEVENT
BEGIN:VEVENT
DTSTART;TZID=America/New_York:20260630T190000
DTEND;TZID=America/New_York:20260630T203000
DTSTAMP:20260421T074048
CREATED:20250403T220950Z
LAST-MODIFIED:20250827T212752Z
UID:10005438-1782846000-1782851400@ctionline.org
SUMMARY:Nerali.org Concerned Persons Support Group - Call if attending
DESCRIPTION:CALL IF ATTENDING\nTo reserve your spot\, we request that you call Jane Fox\, CRPA\, 516-945-9856 \nnera-LI will be IN-PERSON at CTI on Tuesdays.\n\n\nPlease check the calendar for holiday schedule. \nContact Jane Fox for more information. jane.fox@nerali.org
URL:https://ctionline.org/event/nerali-org-concerned-persons-support-group-call-if-attending-5/2026-06-30/
LOCATION:Congregation Tifereth Israel\, 40 Hill Street\, Glen Cove\, NY\, 11542\, United States
CATEGORIES:Community,Social Action
END:VEVENT
END:VCALENDAR