BEGIN:VCALENDAR
VERSION:2.0
PRODID:-//Congregation Tifereth Israel - ECPv6.15.17.1//NONSGML v1.0//EN
CALSCALE:GREGORIAN
METHOD:PUBLISH
X-ORIGINAL-URL:https://ctionline.org
X-WR-CALDESC:Events for Congregation Tifereth Israel
REFRESH-INTERVAL;VALUE=DURATION:PT1H
X-Robots-Tag:noindex
X-PUBLISHED-TTL:PT1H
BEGIN:VTIMEZONE
TZID:America/New_York
BEGIN:DAYLIGHT
TZOFFSETFROM:-0500
TZOFFSETTO:-0400
TZNAME:EDT
DTSTART:20250309T070000
END:DAYLIGHT
BEGIN:STANDARD
TZOFFSETFROM:-0400
TZOFFSETTO:-0500
TZNAME:EST
DTSTART:20251102T060000
END:STANDARD
BEGIN:DAYLIGHT
TZOFFSETFROM:-0500
TZOFFSETTO:-0400
TZNAME:EDT
DTSTART:20260308T070000
END:DAYLIGHT
BEGIN:STANDARD
TZOFFSETFROM:-0400
TZOFFSETTO:-0500
TZNAME:EST
DTSTART:20261101T060000
END:STANDARD
BEGIN:DAYLIGHT
TZOFFSETFROM:-0500
TZOFFSETTO:-0400
TZNAME:EDT
DTSTART:20270314T070000
END:DAYLIGHT
BEGIN:STANDARD
TZOFFSETFROM:-0400
TZOFFSETTO:-0500
TZNAME:EST
DTSTART:20271107T060000
END:STANDARD
END:VTIMEZONE
BEGIN:VEVENT
DTSTART;TZID=America/New_York:20260501T190000
DTEND;TZID=America/New_York:20260501T203000
DTSTAMP:20260421T061528
CREATED:20260327T181833Z
LAST-MODIFIED:20260327T181833Z
UID:10009281-1777662000-1777667400@ctionline.org
SUMMARY:Kabbalat Musical Shabbat
DESCRIPTION:Join Zoom Meeting\nhttps://zoom.us/j/97188243757\n\nAbridged Romemu siddur:\nhttps://bit.ly/2JjvlL3 \nZoom CTI is inviting you to a scheduled Zoom meeting. \nTopic: Virtual Shabbat Services\nTime: Jan 1\, 2021 07:00 PM Eastern Time (US and Canada)\nEvery week on Fri\, until Dec 10\, 2021\, 50 occurrence(s)\nJan 1\, 2021 07:00 PM\nDec 10\, 2021 07:00 PM\nPlease download and import the following iCalendar (.ics) files to your calendar system.\nWeekly: https://zoom.us/meeting/tJMsf-GqqjgtH9M-6rzu51ChQw-1nhucmeNS/ics?icsToken=98tyKuCvrzMiGNCWtxyARowEBYqgWerwiHZagvpw0Un3GTUGMyD-B_UPY7x3Bdvd \nJoin Zoom Meeting\nhttps://zoom.us/j/97188243757 \nMeeting ID: 971 8824 3757\nOne tap mobile\n+16468769923\,\,97188243757# US (New York)\n+13126266799\,\,97188243757# US (Chicago) \nDial by your location\n+1 646 876 9923 US (New York)\n+1 312 626 6799 US (Chicago)\n+1 301 715 8592 US (Washington D.C)\n+1 669 900 6833 US (San Jose)\n+1 253 215 8782 US (Tacoma)\n+1 346 248 7799 US (Houston)\n+1 408 638 0968 US (San Jose)\nMeeting ID: 971 8824 3757\nFind your local number: https://zoom.us/u/adPkXfg2VY
URL:https://ctionline.org/event/kabbalat-musical-shabbat-8/2026-05-01/
LOCATION:Congregation Tifereth Israel\, 40 Hill Street\, Glen Cove\, NY\, 11542\, United States
CATEGORIES:Community,Services,Shabbat
END:VEVENT
BEGIN:VEVENT
DTSTART;TZID=America/New_York:20260504T110000
DTEND;TZID=America/New_York:20260504T120000
DTSTAMP:20260421T061528
CREATED:20250910T110710Z
LAST-MODIFIED:20250910T110710Z
UID:10008157-1777892400-1777896000@ctionline.org
SUMMARY:Bereavement Group
DESCRIPTION:Closed Group
URL:https://ctionline.org/event/bereavement-group/2026-05-04/
LOCATION:Congregation Tifereth Israel\, 40 Hill Street\, Glen Cove\, NY\, 11542\, United States
CATEGORIES:Community,Social Action
END:VEVENT
BEGIN:VEVENT
DTSTART;TZID=America/New_York:20260505T160000
DTEND;TZID=America/New_York:20260505T180000
DTSTAMP:20260421T061528
CREATED:20250403T220815Z
LAST-MODIFIED:20250827T212546Z
UID:10005169-1777996800-1778004000@ctionline.org
SUMMARY:Crochet & Knitting Class
DESCRIPTION:
URL:https://ctionline.org/event/crochet-knitting-class-4/2026-05-05/
LOCATION:Congregation Tifereth Israel\, 40 Hill Street\, Glen Cove\, NY\, 11542\, United States
CATEGORIES:Community,Fun
END:VEVENT
BEGIN:VEVENT
DTSTART;TZID=America/New_York:20260505T190000
DTEND;TZID=America/New_York:20260505T203000
DTSTAMP:20260421T061528
CREATED:20250403T220950Z
LAST-MODIFIED:20250827T212752Z
UID:10005430-1778007600-1778013000@ctionline.org
SUMMARY:Nerali.org Concerned Persons Support Group - Call if attending
DESCRIPTION:CALL IF ATTENDING\nTo reserve your spot\, we request that you call Jane Fox\, CRPA\, 516-945-9856 \nnera-LI will be IN-PERSON at CTI on Tuesdays.\n\n\nPlease check the calendar for holiday schedule. \nContact Jane Fox for more information. jane.fox@nerali.org
URL:https://ctionline.org/event/nerali-org-concerned-persons-support-group-call-if-attending-5/2026-05-05/
LOCATION:Congregation Tifereth Israel\, 40 Hill Street\, Glen Cove\, NY\, 11542\, United States
CATEGORIES:Community,Social Action
END:VEVENT
BEGIN:VEVENT
DTSTART;TZID=America/New_York:20260506T160000
DTEND;TZID=America/New_York:20260506T170000
DTSTAMP:20260421T061528
CREATED:20250822T170009Z
LAST-MODIFIED:20250910T104810Z
UID:10004011-1778083200-1778086800@ctionline.org
SUMMARY:Drop By And Say Hi ... on Zoom
DESCRIPTION:Meeting ID: 984 9783 7218\nPassword: schmooz
URL:https://ctionline.org/event/drop-by-and-say-hi-on-zoom-39-2/2026-05-06/
LOCATION:https://us06web.zoom.us/j/98497837218
CATEGORIES:Community
ATTACH;FMTTYPE=image/jpeg:https://ctionline.org/wp-content/uploads/2024/02/Remote-Services-2020-1-extend1.jpg
ORGANIZER;CN="CTI Office":MAILTO:office@ctionline.org
END:VEVENT
BEGIN:VEVENT
DTSTART;TZID=America/New_York:20260507T110000
DTEND;TZID=America/New_York:20260507T120000
DTSTAMP:20260421T061528
CREATED:20250827T213222Z
LAST-MODIFIED:20250910T111650Z
UID:10008683-1778151600-1778155200@ctionline.org
SUMMARY:(2nd) Bereavement Group
DESCRIPTION:Please contact Phyllis S for. more information: phylliss@ctionline.org
URL:https://ctionline.org/event/2nd-bereavement-group/2026-05-07/
LOCATION:Congregation Tifereth Israel\, 40 Hill Street\, Glen Cove\, NY\, 11542\, United States
CATEGORIES:Community,Social Action
END:VEVENT
BEGIN:VEVENT
DTSTART;TZID=America/New_York:20260507T150000
DTEND;TZID=America/New_York:20260507T160000
DTSTAMP:20260421T061528
CREATED:20260309T204131Z
LAST-MODIFIED:20260309T204250Z
UID:10008945-1778166000-1778169600@ctionline.org
SUMMARY:Talmud Stories & Teachings Series
DESCRIPTION:Join Rabbi Irwin Huberman for a zoom-only lecture series exploring Stories & Teachings from the Talmud. Discover timeless wisdom from the Talmud and how it applies to today. \nEvent Details \n\nSchedule: Thursdays at 3 PM\nFormat: Zoom-only (ongoing series)\nZoom Meeting Link: https://us02web.zoom.us/j/88558231353+cCylwDVV6F34yQv4OPB69O1ATH7uO.1\nMeeting ID: 885 558 231 353\nPhone In: (646) 558-8656\n\nThis series offers insightful discussions perfect for deepening your understanding of Jewish texts in a convenient online format. \nJoin Us: \nClick the Zoom link to participate—no registration required. For questions\, visit the congregation’s site or contact the office.
URL:https://ctionline.org/event/talmud-stories-teachings-series/2026-05-07/
LOCATION:Congregation Tifereth Israel\, 40 Hill Street\, Glen Cove\, NY\, 11542\, United States
CATEGORIES:Community,Services
ORGANIZER;CN="CTI Office":MAILTO:office@ctionline.org
END:VEVENT
BEGIN:VEVENT
DTSTART;TZID=America/New_York:20260507T161500
DTEND;TZID=America/New_York:20260507T181500
DTSTAMP:20260421T061528
CREATED:20250827T214406Z
LAST-MODIFIED:20250827T214406Z
UID:10006994-1778170500-1778177700@ctionline.org
SUMMARY:Limud
DESCRIPTION:
URL:https://ctionline.org/event/limud-2/2026-05-07/
LOCATION:Congregation Tifereth Israel\, 40 Hill Street\, Glen Cove\, NY\, 11542\, United States
CATEGORIES:Community
END:VEVENT
BEGIN:VEVENT
DTSTART;TZID=America/New_York:20260508T190000
DTEND;TZID=America/New_York:20260508T203000
DTSTAMP:20260421T061528
CREATED:20260327T181833Z
LAST-MODIFIED:20260327T181833Z
UID:10009282-1778266800-1778272200@ctionline.org
SUMMARY:Kabbalat Musical Shabbat
DESCRIPTION:Join Zoom Meeting\nhttps://zoom.us/j/97188243757\n\nAbridged Romemu siddur:\nhttps://bit.ly/2JjvlL3 \nZoom CTI is inviting you to a scheduled Zoom meeting. \nTopic: Virtual Shabbat Services\nTime: Jan 1\, 2021 07:00 PM Eastern Time (US and Canada)\nEvery week on Fri\, until Dec 10\, 2021\, 50 occurrence(s)\nJan 1\, 2021 07:00 PM\nDec 10\, 2021 07:00 PM\nPlease download and import the following iCalendar (.ics) files to your calendar system.\nWeekly: https://zoom.us/meeting/tJMsf-GqqjgtH9M-6rzu51ChQw-1nhucmeNS/ics?icsToken=98tyKuCvrzMiGNCWtxyARowEBYqgWerwiHZagvpw0Un3GTUGMyD-B_UPY7x3Bdvd \nJoin Zoom Meeting\nhttps://zoom.us/j/97188243757 \nMeeting ID: 971 8824 3757\nOne tap mobile\n+16468769923\,\,97188243757# US (New York)\n+13126266799\,\,97188243757# US (Chicago) \nDial by your location\n+1 646 876 9923 US (New York)\n+1 312 626 6799 US (Chicago)\n+1 301 715 8592 US (Washington D.C)\n+1 669 900 6833 US (San Jose)\n+1 253 215 8782 US (Tacoma)\n+1 346 248 7799 US (Houston)\n+1 408 638 0968 US (San Jose)\nMeeting ID: 971 8824 3757\nFind your local number: https://zoom.us/u/adPkXfg2VY
URL:https://ctionline.org/event/kabbalat-musical-shabbat-8/2026-05-08/
LOCATION:Congregation Tifereth Israel\, 40 Hill Street\, Glen Cove\, NY\, 11542\, United States
CATEGORIES:Community,Services,Shabbat
END:VEVENT
BEGIN:VEVENT
DTSTART;TZID=America/New_York:20260511T110000
DTEND;TZID=America/New_York:20260511T120000
DTSTAMP:20260421T061528
CREATED:20250910T110710Z
LAST-MODIFIED:20250910T110710Z
UID:10008158-1778497200-1778500800@ctionline.org
SUMMARY:Bereavement Group
DESCRIPTION:Closed Group
URL:https://ctionline.org/event/bereavement-group/2026-05-11/
LOCATION:Congregation Tifereth Israel\, 40 Hill Street\, Glen Cove\, NY\, 11542\, United States
CATEGORIES:Community,Social Action
END:VEVENT
BEGIN:VEVENT
DTSTART;TZID=America/New_York:20260512T160000
DTEND;TZID=America/New_York:20260512T180000
DTSTAMP:20260421T061528
CREATED:20250403T220815Z
LAST-MODIFIED:20250827T212546Z
UID:10005170-1778601600-1778608800@ctionline.org
SUMMARY:Crochet & Knitting Class
DESCRIPTION:
URL:https://ctionline.org/event/crochet-knitting-class-4/2026-05-12/
LOCATION:Congregation Tifereth Israel\, 40 Hill Street\, Glen Cove\, NY\, 11542\, United States
CATEGORIES:Community,Fun
END:VEVENT
BEGIN:VEVENT
DTSTART;TZID=America/New_York:20260512T190000
DTEND;TZID=America/New_York:20260512T203000
DTSTAMP:20260421T061528
CREATED:20250403T220950Z
LAST-MODIFIED:20250827T212752Z
UID:10005431-1778612400-1778617800@ctionline.org
SUMMARY:Nerali.org Concerned Persons Support Group - Call if attending
DESCRIPTION:CALL IF ATTENDING\nTo reserve your spot\, we request that you call Jane Fox\, CRPA\, 516-945-9856 \nnera-LI will be IN-PERSON at CTI on Tuesdays.\n\n\nPlease check the calendar for holiday schedule. \nContact Jane Fox for more information. jane.fox@nerali.org
URL:https://ctionline.org/event/nerali-org-concerned-persons-support-group-call-if-attending-5/2026-05-12/
LOCATION:Congregation Tifereth Israel\, 40 Hill Street\, Glen Cove\, NY\, 11542\, United States
CATEGORIES:Community,Social Action
END:VEVENT
BEGIN:VEVENT
DTSTART;TZID=America/New_York:20260514T110000
DTEND;TZID=America/New_York:20260514T120000
DTSTAMP:20260421T061528
CREATED:20250827T213222Z
LAST-MODIFIED:20250910T111650Z
UID:10008684-1778756400-1778760000@ctionline.org
SUMMARY:(2nd) Bereavement Group
DESCRIPTION:Please contact Phyllis S for. more information: phylliss@ctionline.org
URL:https://ctionline.org/event/2nd-bereavement-group/2026-05-14/
LOCATION:Congregation Tifereth Israel\, 40 Hill Street\, Glen Cove\, NY\, 11542\, United States
CATEGORIES:Community,Social Action
END:VEVENT
BEGIN:VEVENT
DTSTART;TZID=America/New_York:20260514T150000
DTEND;TZID=America/New_York:20260514T160000
DTSTAMP:20260421T061528
CREATED:20260309T204131Z
LAST-MODIFIED:20260309T204250Z
UID:10008946-1778770800-1778774400@ctionline.org
SUMMARY:Talmud Stories & Teachings Series
DESCRIPTION:Join Rabbi Irwin Huberman for a zoom-only lecture series exploring Stories & Teachings from the Talmud. Discover timeless wisdom from the Talmud and how it applies to today. \nEvent Details \n\nSchedule: Thursdays at 3 PM\nFormat: Zoom-only (ongoing series)\nZoom Meeting Link: https://us02web.zoom.us/j/88558231353+cCylwDVV6F34yQv4OPB69O1ATH7uO.1\nMeeting ID: 885 558 231 353\nPhone In: (646) 558-8656\n\nThis series offers insightful discussions perfect for deepening your understanding of Jewish texts in a convenient online format. \nJoin Us: \nClick the Zoom link to participate—no registration required. For questions\, visit the congregation’s site or contact the office.
URL:https://ctionline.org/event/talmud-stories-teachings-series/2026-05-14/
LOCATION:Congregation Tifereth Israel\, 40 Hill Street\, Glen Cove\, NY\, 11542\, United States
CATEGORIES:Community,Services
ORGANIZER;CN="CTI Office":MAILTO:office@ctionline.org
END:VEVENT
BEGIN:VEVENT
DTSTART;TZID=America/New_York:20260514T161500
DTEND;TZID=America/New_York:20260514T181500
DTSTAMP:20260421T061528
CREATED:20250827T214406Z
LAST-MODIFIED:20250827T214406Z
UID:10006995-1778775300-1778782500@ctionline.org
SUMMARY:Limud
DESCRIPTION:
URL:https://ctionline.org/event/limud-2/2026-05-14/
LOCATION:Congregation Tifereth Israel\, 40 Hill Street\, Glen Cove\, NY\, 11542\, United States
CATEGORIES:Community
END:VEVENT
BEGIN:VEVENT
DTSTART;TZID=America/New_York:20260515T190000
DTEND;TZID=America/New_York:20260515T203000
DTSTAMP:20260421T061528
CREATED:20260327T181833Z
LAST-MODIFIED:20260327T181833Z
UID:10009283-1778871600-1778877000@ctionline.org
SUMMARY:Kabbalat Musical Shabbat
DESCRIPTION:Join Zoom Meeting\nhttps://zoom.us/j/97188243757\n\nAbridged Romemu siddur:\nhttps://bit.ly/2JjvlL3 \nZoom CTI is inviting you to a scheduled Zoom meeting. \nTopic: Virtual Shabbat Services\nTime: Jan 1\, 2021 07:00 PM Eastern Time (US and Canada)\nEvery week on Fri\, until Dec 10\, 2021\, 50 occurrence(s)\nJan 1\, 2021 07:00 PM\nDec 10\, 2021 07:00 PM\nPlease download and import the following iCalendar (.ics) files to your calendar system.\nWeekly: https://zoom.us/meeting/tJMsf-GqqjgtH9M-6rzu51ChQw-1nhucmeNS/ics?icsToken=98tyKuCvrzMiGNCWtxyARowEBYqgWerwiHZagvpw0Un3GTUGMyD-B_UPY7x3Bdvd \nJoin Zoom Meeting\nhttps://zoom.us/j/97188243757 \nMeeting ID: 971 8824 3757\nOne tap mobile\n+16468769923\,\,97188243757# US (New York)\n+13126266799\,\,97188243757# US (Chicago) \nDial by your location\n+1 646 876 9923 US (New York)\n+1 312 626 6799 US (Chicago)\n+1 301 715 8592 US (Washington D.C)\n+1 669 900 6833 US (San Jose)\n+1 253 215 8782 US (Tacoma)\n+1 346 248 7799 US (Houston)\n+1 408 638 0968 US (San Jose)\nMeeting ID: 971 8824 3757\nFind your local number: https://zoom.us/u/adPkXfg2VY
URL:https://ctionline.org/event/kabbalat-musical-shabbat-8/2026-05-15/
LOCATION:Congregation Tifereth Israel\, 40 Hill Street\, Glen Cove\, NY\, 11542\, United States
CATEGORIES:Community,Services,Shabbat
END:VEVENT
BEGIN:VEVENT
DTSTART;TZID=America/New_York:20260518T110000
DTEND;TZID=America/New_York:20260518T120000
DTSTAMP:20260421T061528
CREATED:20250910T110710Z
LAST-MODIFIED:20250910T110710Z
UID:10008159-1779102000-1779105600@ctionline.org
SUMMARY:Bereavement Group
DESCRIPTION:Closed Group
URL:https://ctionline.org/event/bereavement-group/2026-05-18/
LOCATION:Congregation Tifereth Israel\, 40 Hill Street\, Glen Cove\, NY\, 11542\, United States
CATEGORIES:Community,Social Action
END:VEVENT
BEGIN:VEVENT
DTSTART;TZID=America/New_York:20260519T160000
DTEND;TZID=America/New_York:20260519T180000
DTSTAMP:20260421T061528
CREATED:20250403T220815Z
LAST-MODIFIED:20250827T212546Z
UID:10005171-1779206400-1779213600@ctionline.org
SUMMARY:Crochet & Knitting Class
DESCRIPTION:
URL:https://ctionline.org/event/crochet-knitting-class-4/2026-05-19/
LOCATION:Congregation Tifereth Israel\, 40 Hill Street\, Glen Cove\, NY\, 11542\, United States
CATEGORIES:Community,Fun
END:VEVENT
BEGIN:VEVENT
DTSTART;TZID=America/New_York:20260519T190000
DTEND;TZID=America/New_York:20260519T203000
DTSTAMP:20260421T061528
CREATED:20250403T220950Z
LAST-MODIFIED:20250827T212752Z
UID:10005432-1779217200-1779222600@ctionline.org
SUMMARY:Nerali.org Concerned Persons Support Group - Call if attending
DESCRIPTION:CALL IF ATTENDING\nTo reserve your spot\, we request that you call Jane Fox\, CRPA\, 516-945-9856 \nnera-LI will be IN-PERSON at CTI on Tuesdays.\n\n\nPlease check the calendar for holiday schedule. \nContact Jane Fox for more information. jane.fox@nerali.org
URL:https://ctionline.org/event/nerali-org-concerned-persons-support-group-call-if-attending-5/2026-05-19/
LOCATION:Congregation Tifereth Israel\, 40 Hill Street\, Glen Cove\, NY\, 11542\, United States
CATEGORIES:Community,Social Action
END:VEVENT
BEGIN:VEVENT
DTSTART;TZID=America/New_York:20260520T160000
DTEND;TZID=America/New_York:20260520T170000
DTSTAMP:20260421T061528
CREATED:20250822T170009Z
LAST-MODIFIED:20250910T104810Z
UID:10004012-1779292800-1779296400@ctionline.org
SUMMARY:Drop By And Say Hi ... on Zoom
DESCRIPTION:Meeting ID: 984 9783 7218\nPassword: schmooz
URL:https://ctionline.org/event/drop-by-and-say-hi-on-zoom-39-2/2026-05-20/
LOCATION:https://us06web.zoom.us/j/98497837218
CATEGORIES:Community
ATTACH;FMTTYPE=image/jpeg:https://ctionline.org/wp-content/uploads/2024/02/Remote-Services-2020-1-extend1.jpg
ORGANIZER;CN="CTI Office":MAILTO:office@ctionline.org
END:VEVENT
BEGIN:VEVENT
DTSTART;TZID=America/New_York:20260521T110000
DTEND;TZID=America/New_York:20260521T120000
DTSTAMP:20260421T061528
CREATED:20250827T213222Z
LAST-MODIFIED:20250910T111650Z
UID:10008685-1779361200-1779364800@ctionline.org
SUMMARY:(2nd) Bereavement Group
DESCRIPTION:Please contact Phyllis S for. more information: phylliss@ctionline.org
URL:https://ctionline.org/event/2nd-bereavement-group/2026-05-21/
LOCATION:Congregation Tifereth Israel\, 40 Hill Street\, Glen Cove\, NY\, 11542\, United States
CATEGORIES:Community,Social Action
END:VEVENT
BEGIN:VEVENT
DTSTART;TZID=America/New_York:20260521T150000
DTEND;TZID=America/New_York:20260521T160000
DTSTAMP:20260421T061528
CREATED:20260309T204131Z
LAST-MODIFIED:20260309T204250Z
UID:10008947-1779375600-1779379200@ctionline.org
SUMMARY:Talmud Stories & Teachings Series
DESCRIPTION:Join Rabbi Irwin Huberman for a zoom-only lecture series exploring Stories & Teachings from the Talmud. Discover timeless wisdom from the Talmud and how it applies to today. \nEvent Details \n\nSchedule: Thursdays at 3 PM\nFormat: Zoom-only (ongoing series)\nZoom Meeting Link: https://us02web.zoom.us/j/88558231353+cCylwDVV6F34yQv4OPB69O1ATH7uO.1\nMeeting ID: 885 558 231 353\nPhone In: (646) 558-8656\n\nThis series offers insightful discussions perfect for deepening your understanding of Jewish texts in a convenient online format. \nJoin Us: \nClick the Zoom link to participate—no registration required. For questions\, visit the congregation’s site or contact the office.
URL:https://ctionline.org/event/talmud-stories-teachings-series/2026-05-21/
LOCATION:Congregation Tifereth Israel\, 40 Hill Street\, Glen Cove\, NY\, 11542\, United States
CATEGORIES:Community,Services
ORGANIZER;CN="CTI Office":MAILTO:office@ctionline.org
END:VEVENT
BEGIN:VEVENT
DTSTART;TZID=America/New_York:20260521T161500
DTEND;TZID=America/New_York:20260521T181500
DTSTAMP:20260421T061528
CREATED:20250827T214406Z
LAST-MODIFIED:20250827T214406Z
UID:10006996-1779380100-1779387300@ctionline.org
SUMMARY:Limud
DESCRIPTION:
URL:https://ctionline.org/event/limud-2/2026-05-21/
LOCATION:Congregation Tifereth Israel\, 40 Hill Street\, Glen Cove\, NY\, 11542\, United States
CATEGORIES:Community
END:VEVENT
BEGIN:VEVENT
DTSTART;TZID=America/New_York:20260522T190000
DTEND;TZID=America/New_York:20260522T203000
DTSTAMP:20260421T061528
CREATED:20260327T181833Z
LAST-MODIFIED:20260327T181833Z
UID:10009284-1779476400-1779481800@ctionline.org
SUMMARY:Kabbalat Musical Shabbat
DESCRIPTION:Join Zoom Meeting\nhttps://zoom.us/j/97188243757\n\nAbridged Romemu siddur:\nhttps://bit.ly/2JjvlL3 \nZoom CTI is inviting you to a scheduled Zoom meeting. \nTopic: Virtual Shabbat Services\nTime: Jan 1\, 2021 07:00 PM Eastern Time (US and Canada)\nEvery week on Fri\, until Dec 10\, 2021\, 50 occurrence(s)\nJan 1\, 2021 07:00 PM\nDec 10\, 2021 07:00 PM\nPlease download and import the following iCalendar (.ics) files to your calendar system.\nWeekly: https://zoom.us/meeting/tJMsf-GqqjgtH9M-6rzu51ChQw-1nhucmeNS/ics?icsToken=98tyKuCvrzMiGNCWtxyARowEBYqgWerwiHZagvpw0Un3GTUGMyD-B_UPY7x3Bdvd \nJoin Zoom Meeting\nhttps://zoom.us/j/97188243757 \nMeeting ID: 971 8824 3757\nOne tap mobile\n+16468769923\,\,97188243757# US (New York)\n+13126266799\,\,97188243757# US (Chicago) \nDial by your location\n+1 646 876 9923 US (New York)\n+1 312 626 6799 US (Chicago)\n+1 301 715 8592 US (Washington D.C)\n+1 669 900 6833 US (San Jose)\n+1 253 215 8782 US (Tacoma)\n+1 346 248 7799 US (Houston)\n+1 408 638 0968 US (San Jose)\nMeeting ID: 971 8824 3757\nFind your local number: https://zoom.us/u/adPkXfg2VY
URL:https://ctionline.org/event/kabbalat-musical-shabbat-8/2026-05-22/
LOCATION:Congregation Tifereth Israel\, 40 Hill Street\, Glen Cove\, NY\, 11542\, United States
CATEGORIES:Community,Services,Shabbat
END:VEVENT
BEGIN:VEVENT
DTSTART;TZID=America/New_York:20260525T110000
DTEND;TZID=America/New_York:20260525T120000
DTSTAMP:20260421T061528
CREATED:20250910T110710Z
LAST-MODIFIED:20250910T110710Z
UID:10008160-1779706800-1779710400@ctionline.org
SUMMARY:Bereavement Group
DESCRIPTION:Closed Group
URL:https://ctionline.org/event/bereavement-group/2026-05-25/
LOCATION:Congregation Tifereth Israel\, 40 Hill Street\, Glen Cove\, NY\, 11542\, United States
CATEGORIES:Community,Social Action
END:VEVENT
BEGIN:VEVENT
DTSTART;TZID=America/New_York:20260526T160000
DTEND;TZID=America/New_York:20260526T180000
DTSTAMP:20260421T061528
CREATED:20250403T220815Z
LAST-MODIFIED:20250827T212546Z
UID:10005172-1779811200-1779818400@ctionline.org
SUMMARY:Crochet & Knitting Class
DESCRIPTION:
URL:https://ctionline.org/event/crochet-knitting-class-4/2026-05-26/
LOCATION:Congregation Tifereth Israel\, 40 Hill Street\, Glen Cove\, NY\, 11542\, United States
CATEGORIES:Community,Fun
END:VEVENT
BEGIN:VEVENT
DTSTART;TZID=America/New_York:20260526T190000
DTEND;TZID=America/New_York:20260526T203000
DTSTAMP:20260421T061528
CREATED:20250403T220950Z
LAST-MODIFIED:20250827T212752Z
UID:10005433-1779822000-1779827400@ctionline.org
SUMMARY:Nerali.org Concerned Persons Support Group - Call if attending
DESCRIPTION:CALL IF ATTENDING\nTo reserve your spot\, we request that you call Jane Fox\, CRPA\, 516-945-9856 \nnera-LI will be IN-PERSON at CTI on Tuesdays.\n\n\nPlease check the calendar for holiday schedule. \nContact Jane Fox for more information. jane.fox@nerali.org
URL:https://ctionline.org/event/nerali-org-concerned-persons-support-group-call-if-attending-5/2026-05-26/
LOCATION:Congregation Tifereth Israel\, 40 Hill Street\, Glen Cove\, NY\, 11542\, United States
CATEGORIES:Community,Social Action
END:VEVENT
BEGIN:VEVENT
DTSTART;TZID=America/New_York:20260528T110000
DTEND;TZID=America/New_York:20260528T120000
DTSTAMP:20260421T061528
CREATED:20250827T213222Z
LAST-MODIFIED:20250910T111650Z
UID:10008686-1779966000-1779969600@ctionline.org
SUMMARY:(2nd) Bereavement Group
DESCRIPTION:Please contact Phyllis S for. more information: phylliss@ctionline.org
URL:https://ctionline.org/event/2nd-bereavement-group/2026-05-28/
LOCATION:Congregation Tifereth Israel\, 40 Hill Street\, Glen Cove\, NY\, 11542\, United States
CATEGORIES:Community,Social Action
END:VEVENT
BEGIN:VEVENT
DTSTART;TZID=America/New_York:20260528T150000
DTEND;TZID=America/New_York:20260528T160000
DTSTAMP:20260421T061528
CREATED:20260309T204131Z
LAST-MODIFIED:20260309T204250Z
UID:10008948-1779980400-1779984000@ctionline.org
SUMMARY:Talmud Stories & Teachings Series
DESCRIPTION:Join Rabbi Irwin Huberman for a zoom-only lecture series exploring Stories & Teachings from the Talmud. Discover timeless wisdom from the Talmud and how it applies to today. \nEvent Details \n\nSchedule: Thursdays at 3 PM\nFormat: Zoom-only (ongoing series)\nZoom Meeting Link: https://us02web.zoom.us/j/88558231353+cCylwDVV6F34yQv4OPB69O1ATH7uO.1\nMeeting ID: 885 558 231 353\nPhone In: (646) 558-8656\n\nThis series offers insightful discussions perfect for deepening your understanding of Jewish texts in a convenient online format. \nJoin Us: \nClick the Zoom link to participate—no registration required. For questions\, visit the congregation’s site or contact the office.
URL:https://ctionline.org/event/talmud-stories-teachings-series/2026-05-28/
LOCATION:Congregation Tifereth Israel\, 40 Hill Street\, Glen Cove\, NY\, 11542\, United States
CATEGORIES:Community,Services
ORGANIZER;CN="CTI Office":MAILTO:office@ctionline.org
END:VEVENT
BEGIN:VEVENT
DTSTART;TZID=America/New_York:20260528T161500
DTEND;TZID=America/New_York:20260528T181500
DTSTAMP:20260421T061528
CREATED:20250827T214406Z
LAST-MODIFIED:20250827T214406Z
UID:10006997-1779984900-1779992100@ctionline.org
SUMMARY:Limud
DESCRIPTION:
URL:https://ctionline.org/event/limud-2/2026-05-28/
LOCATION:Congregation Tifereth Israel\, 40 Hill Street\, Glen Cove\, NY\, 11542\, United States
CATEGORIES:Community
END:VEVENT
END:VCALENDAR