BEGIN:VCALENDAR
VERSION:2.0
PRODID:-//Congregation Tifereth Israel - ECPv6.15.17.1//NONSGML v1.0//EN
CALSCALE:GREGORIAN
METHOD:PUBLISH
X-WR-CALNAME:Congregation Tifereth Israel
X-ORIGINAL-URL:https://ctionline.org
X-WR-CALDESC:Events for Congregation Tifereth Israel
REFRESH-INTERVAL;VALUE=DURATION:PT1H
X-Robots-Tag:noindex
X-PUBLISHED-TTL:PT1H
BEGIN:VTIMEZONE
TZID:America/New_York
BEGIN:DAYLIGHT
TZOFFSETFROM:-0500
TZOFFSETTO:-0400
TZNAME:EDT
DTSTART:20240310T070000
END:DAYLIGHT
BEGIN:STANDARD
TZOFFSETFROM:-0400
TZOFFSETTO:-0500
TZNAME:EST
DTSTART:20241103T060000
END:STANDARD
BEGIN:DAYLIGHT
TZOFFSETFROM:-0500
TZOFFSETTO:-0400
TZNAME:EDT
DTSTART:20250309T070000
END:DAYLIGHT
BEGIN:STANDARD
TZOFFSETFROM:-0400
TZOFFSETTO:-0500
TZNAME:EST
DTSTART:20251102T060000
END:STANDARD
BEGIN:DAYLIGHT
TZOFFSETFROM:-0500
TZOFFSETTO:-0400
TZNAME:EDT
DTSTART:20260308T070000
END:DAYLIGHT
BEGIN:STANDARD
TZOFFSETFROM:-0400
TZOFFSETTO:-0500
TZNAME:EST
DTSTART:20261101T060000
END:STANDARD
END:VTIMEZONE
BEGIN:VEVENT
DTSTART;TZID=America/New_York:20251103T110000
DTEND;TZID=America/New_York:20251103T120000
DTSTAMP:20260419T132917
CREATED:20250910T110710Z
LAST-MODIFIED:20250910T110710Z
UID:10008131-1762167600-1762171200@ctionline.org
SUMMARY:Bereavement Group
DESCRIPTION:Closed Group
URL:https://ctionline.org/event/bereavement-group/2025-11-03/
LOCATION:Congregation Tifereth Israel\, 40 Hill Street\, Glen Cove\, NY\, 11542\, United States
CATEGORIES:Community,Social Action
END:VEVENT
BEGIN:VEVENT
DTSTART;TZID=America/New_York:20251104T160000
DTEND;TZID=America/New_York:20251104T180000
DTSTAMP:20260419T132917
CREATED:20250403T220815Z
LAST-MODIFIED:20250827T212546Z
UID:10005143-1762272000-1762279200@ctionline.org
SUMMARY:Crochet & Knitting Class
DESCRIPTION:
URL:https://ctionline.org/event/crochet-knitting-class-4/2025-11-04/
LOCATION:Congregation Tifereth Israel\, 40 Hill Street\, Glen Cove\, NY\, 11542\, United States
CATEGORIES:Community,Fun
END:VEVENT
BEGIN:VEVENT
DTSTART;TZID=America/New_York:20251104T190000
DTEND;TZID=America/New_York:20251104T203000
DTSTAMP:20260419T132917
CREATED:20250403T220950Z
LAST-MODIFIED:20250827T212752Z
UID:10005404-1762282800-1762288200@ctionline.org
SUMMARY:Nerali.org Concerned Persons Support Group - Call if attending
DESCRIPTION:CALL IF ATTENDING\nTo reserve your spot\, we request that you call Jane Fox\, CRPA\, 516-945-9856 \nnera-LI will be IN-PERSON at CTI on Tuesdays.\n\n\nPlease check the calendar for holiday schedule. \nContact Jane Fox for more information. jane.fox@nerali.org
URL:https://ctionline.org/event/nerali-org-concerned-persons-support-group-call-if-attending-5/2025-11-04/
LOCATION:Congregation Tifereth Israel\, 40 Hill Street\, Glen Cove\, NY\, 11542\, United States
CATEGORIES:Community,Social Action
END:VEVENT
BEGIN:VEVENT
DTSTART;TZID=America/New_York:20251105T160000
DTEND;TZID=America/New_York:20251105T170000
DTSTAMP:20260419T132917
CREATED:20250822T170009Z
LAST-MODIFIED:20250910T104810Z
UID:10003998-1762358400-1762362000@ctionline.org
SUMMARY:Drop By And Say Hi ... on Zoom
DESCRIPTION:Meeting ID: 984 9783 7218\nPassword: schmooz
URL:https://ctionline.org/event/drop-by-and-say-hi-on-zoom-39-2/2025-11-05/
LOCATION:https://us06web.zoom.us/j/98497837218
CATEGORIES:Community
ATTACH;FMTTYPE=image/jpeg:https://ctionline.org/wp-content/uploads/2024/02/Remote-Services-2020-1-extend1.jpg
ORGANIZER;CN="CTI Office":MAILTO:office@ctionline.org
END:VEVENT
BEGIN:VEVENT
DTSTART;TZID=America/New_York:20251106T110000
DTEND;TZID=America/New_York:20251106T120000
DTSTAMP:20260419T132917
CREATED:20250827T213222Z
LAST-MODIFIED:20250910T111650Z
UID:10008657-1762426800-1762430400@ctionline.org
SUMMARY:(2nd) Bereavement Group
DESCRIPTION:Please contact Phyllis S for. more information: phylliss@ctionline.org
URL:https://ctionline.org/event/2nd-bereavement-group/2025-11-06/
LOCATION:Congregation Tifereth Israel\, 40 Hill Street\, Glen Cove\, NY\, 11542\, United States
CATEGORIES:Community,Social Action
END:VEVENT
BEGIN:VEVENT
DTSTART;TZID=America/New_York:20251106T161500
DTEND;TZID=America/New_York:20251106T181500
DTSTAMP:20260419T132917
CREATED:20250827T214406Z
LAST-MODIFIED:20250827T214406Z
UID:10006968-1762445700-1762452900@ctionline.org
SUMMARY:Limud
DESCRIPTION:
URL:https://ctionline.org/event/limud-2/2025-11-06/
LOCATION:Congregation Tifereth Israel\, 40 Hill Street\, Glen Cove\, NY\, 11542\, United States
CATEGORIES:Community
END:VEVENT
BEGIN:VEVENT
DTSTART;TZID=America/New_York:20251107T173000
DTEND;TZID=America/New_York:20251107T183000
DTSTAMP:20260419T132917
CREATED:20251102T010701Z
LAST-MODIFIED:20251102T010701Z
UID:10008926-1762536600-1762540200@ctionline.org
SUMMARY:Join Us for Family II Shabbat at Congregation Tifereth Israel!
DESCRIPTION:You’re Invited to Family II Shabbat!\nDate: Tuesday\, November 7\nTime: 5:30 PM – 6:30 PM\nLocation: Congregation Tifereth Israel – 40 Hill Street & Landing Road\, Glen Cove\, NY 11542 \nCelebrate Shabbat with Joy and Togetherness!\nJoin us for a heartwarming evening filled with music\, dancing\, and delicious food. Whether you’re a long-time member of our community or new to Congregation Tifereth Israel\, this is the perfect opportunity to connect\, celebrate\, and create lasting memories with your loved ones. \nWhat’s in Store? \n\nKabbalat Music: Let the beautiful melodies of Shabbat uplift your spirit.\nShabbat Dancing: Get ready to move and groove as we celebrate together!\nFamily Dinner: Share a delightful meal with friends and family in a warm\, welcoming atmosphere.\n\nThis event is designed for everyone—kids and adults alike! Bring your family\, your friends\, and your love for Shabbat. \nWe Can’t Wait to See You!\nFor more information or to RSVP\, please contact: \n\nEmail: naomij@ctionline.org\nPhone: (516) 676-5080\nGeneral Inquiries: office@ctionline.org\n\nLet’s make this Shabbat celebration one to remember. See you there!
URL:https://ctionline.org/event/join-us-for-family-ii-shabbat-at-congregation-tifereth-israel/
LOCATION:Congregation Tifereth Israel\, 40 Hill Street\, Glen Cove\, NY\, 11542\, United States
CATEGORIES:Community,Family
END:VEVENT
BEGIN:VEVENT
DTSTART;TZID=America/New_York:20251110T110000
DTEND;TZID=America/New_York:20251110T120000
DTSTAMP:20260419T132917
CREATED:20250910T110710Z
LAST-MODIFIED:20250910T110710Z
UID:10008132-1762772400-1762776000@ctionline.org
SUMMARY:Bereavement Group
DESCRIPTION:Closed Group
URL:https://ctionline.org/event/bereavement-group/2025-11-10/
LOCATION:Congregation Tifereth Israel\, 40 Hill Street\, Glen Cove\, NY\, 11542\, United States
CATEGORIES:Community,Social Action
END:VEVENT
BEGIN:VEVENT
DTSTART;TZID=America/New_York:20251111T160000
DTEND;TZID=America/New_York:20251111T180000
DTSTAMP:20260419T132917
CREATED:20250403T220815Z
LAST-MODIFIED:20250827T212546Z
UID:10005144-1762876800-1762884000@ctionline.org
SUMMARY:Crochet & Knitting Class
DESCRIPTION:
URL:https://ctionline.org/event/crochet-knitting-class-4/2025-11-11/
LOCATION:Congregation Tifereth Israel\, 40 Hill Street\, Glen Cove\, NY\, 11542\, United States
CATEGORIES:Community,Fun
END:VEVENT
BEGIN:VEVENT
DTSTART;TZID=America/New_York:20251111T190000
DTEND;TZID=America/New_York:20251111T203000
DTSTAMP:20260419T132917
CREATED:20250403T220950Z
LAST-MODIFIED:20250827T212752Z
UID:10005405-1762887600-1762893000@ctionline.org
SUMMARY:Nerali.org Concerned Persons Support Group - Call if attending
DESCRIPTION:CALL IF ATTENDING\nTo reserve your spot\, we request that you call Jane Fox\, CRPA\, 516-945-9856 \nnera-LI will be IN-PERSON at CTI on Tuesdays.\n\n\nPlease check the calendar for holiday schedule. \nContact Jane Fox for more information. jane.fox@nerali.org
URL:https://ctionline.org/event/nerali-org-concerned-persons-support-group-call-if-attending-5/2025-11-11/
LOCATION:Congregation Tifereth Israel\, 40 Hill Street\, Glen Cove\, NY\, 11542\, United States
CATEGORIES:Community,Social Action
END:VEVENT
BEGIN:VEVENT
DTSTART;TZID=America/New_York:20251113T110000
DTEND;TZID=America/New_York:20251113T120000
DTSTAMP:20260419T132917
CREATED:20250827T213222Z
LAST-MODIFIED:20250910T111650Z
UID:10008658-1763031600-1763035200@ctionline.org
SUMMARY:(2nd) Bereavement Group
DESCRIPTION:Please contact Phyllis S for. more information: phylliss@ctionline.org
URL:https://ctionline.org/event/2nd-bereavement-group/2025-11-13/
LOCATION:Congregation Tifereth Israel\, 40 Hill Street\, Glen Cove\, NY\, 11542\, United States
CATEGORIES:Community,Social Action
END:VEVENT
BEGIN:VEVENT
DTSTART;TZID=America/New_York:20251113T161500
DTEND;TZID=America/New_York:20251113T181500
DTSTAMP:20260419T132917
CREATED:20250827T214406Z
LAST-MODIFIED:20250827T214406Z
UID:10006969-1763050500-1763057700@ctionline.org
SUMMARY:Limud
DESCRIPTION:
URL:https://ctionline.org/event/limud-2/2025-11-13/
LOCATION:Congregation Tifereth Israel\, 40 Hill Street\, Glen Cove\, NY\, 11542\, United States
CATEGORIES:Community
END:VEVENT
BEGIN:VEVENT
DTSTART;TZID=America/New_York:20251117T110000
DTEND;TZID=America/New_York:20251117T120000
DTSTAMP:20260419T132917
CREATED:20250910T110710Z
LAST-MODIFIED:20250910T110710Z
UID:10008133-1763377200-1763380800@ctionline.org
SUMMARY:Bereavement Group
DESCRIPTION:Closed Group
URL:https://ctionline.org/event/bereavement-group/2025-11-17/
LOCATION:Congregation Tifereth Israel\, 40 Hill Street\, Glen Cove\, NY\, 11542\, United States
CATEGORIES:Community,Social Action
END:VEVENT
BEGIN:VEVENT
DTSTART;TZID=America/New_York:20251118T160000
DTEND;TZID=America/New_York:20251118T180000
DTSTAMP:20260419T132917
CREATED:20250403T220815Z
LAST-MODIFIED:20250827T212546Z
UID:10005145-1763481600-1763488800@ctionline.org
SUMMARY:Crochet & Knitting Class
DESCRIPTION:
URL:https://ctionline.org/event/crochet-knitting-class-4/2025-11-18/
LOCATION:Congregation Tifereth Israel\, 40 Hill Street\, Glen Cove\, NY\, 11542\, United States
CATEGORIES:Community,Fun
END:VEVENT
BEGIN:VEVENT
DTSTART;TZID=America/New_York:20251118T190000
DTEND;TZID=America/New_York:20251118T203000
DTSTAMP:20260419T132917
CREATED:20250403T220950Z
LAST-MODIFIED:20250827T212752Z
UID:10005406-1763492400-1763497800@ctionline.org
SUMMARY:Nerali.org Concerned Persons Support Group - Call if attending
DESCRIPTION:CALL IF ATTENDING\nTo reserve your spot\, we request that you call Jane Fox\, CRPA\, 516-945-9856 \nnera-LI will be IN-PERSON at CTI on Tuesdays.\n\n\nPlease check the calendar for holiday schedule. \nContact Jane Fox for more information. jane.fox@nerali.org
URL:https://ctionline.org/event/nerali-org-concerned-persons-support-group-call-if-attending-5/2025-11-18/
LOCATION:Congregation Tifereth Israel\, 40 Hill Street\, Glen Cove\, NY\, 11542\, United States
CATEGORIES:Community,Social Action
END:VEVENT
BEGIN:VEVENT
DTSTART;TZID=America/New_York:20251119T160000
DTEND;TZID=America/New_York:20251119T170000
DTSTAMP:20260419T132917
CREATED:20250822T170009Z
LAST-MODIFIED:20250910T104810Z
UID:10003999-1763568000-1763571600@ctionline.org
SUMMARY:Drop By And Say Hi ... on Zoom
DESCRIPTION:Meeting ID: 984 9783 7218\nPassword: schmooz
URL:https://ctionline.org/event/drop-by-and-say-hi-on-zoom-39-2/2025-11-19/
LOCATION:https://us06web.zoom.us/j/98497837218
CATEGORIES:Community
ATTACH;FMTTYPE=image/jpeg:https://ctionline.org/wp-content/uploads/2024/02/Remote-Services-2020-1-extend1.jpg
ORGANIZER;CN="CTI Office":MAILTO:office@ctionline.org
END:VEVENT
BEGIN:VEVENT
DTSTART;TZID=America/New_York:20251120T110000
DTEND;TZID=America/New_York:20251120T120000
DTSTAMP:20260419T132917
CREATED:20250827T213222Z
LAST-MODIFIED:20250910T111650Z
UID:10008659-1763636400-1763640000@ctionline.org
SUMMARY:(2nd) Bereavement Group
DESCRIPTION:Please contact Phyllis S for. more information: phylliss@ctionline.org
URL:https://ctionline.org/event/2nd-bereavement-group/2025-11-20/
LOCATION:Congregation Tifereth Israel\, 40 Hill Street\, Glen Cove\, NY\, 11542\, United States
CATEGORIES:Community,Social Action
END:VEVENT
BEGIN:VEVENT
DTSTART;TZID=America/New_York:20251120T161500
DTEND;TZID=America/New_York:20251120T181500
DTSTAMP:20260419T132917
CREATED:20250827T214406Z
LAST-MODIFIED:20250827T214406Z
UID:10006970-1763655300-1763662500@ctionline.org
SUMMARY:Limud
DESCRIPTION:
URL:https://ctionline.org/event/limud-2/2025-11-20/
LOCATION:Congregation Tifereth Israel\, 40 Hill Street\, Glen Cove\, NY\, 11542\, United States
CATEGORIES:Community
END:VEVENT
BEGIN:VEVENT
DTSTART;TZID=America/New_York:20251124T110000
DTEND;TZID=America/New_York:20251124T120000
DTSTAMP:20260419T132917
CREATED:20250910T110710Z
LAST-MODIFIED:20250910T110710Z
UID:10008134-1763982000-1763985600@ctionline.org
SUMMARY:Bereavement Group
DESCRIPTION:Closed Group
URL:https://ctionline.org/event/bereavement-group/2025-11-24/
LOCATION:Congregation Tifereth Israel\, 40 Hill Street\, Glen Cove\, NY\, 11542\, United States
CATEGORIES:Community,Social Action
END:VEVENT
BEGIN:VEVENT
DTSTART;TZID=America/New_York:20251125T160000
DTEND;TZID=America/New_York:20251125T180000
DTSTAMP:20260419T132917
CREATED:20250403T220815Z
LAST-MODIFIED:20250827T212546Z
UID:10005146-1764086400-1764093600@ctionline.org
SUMMARY:Crochet & Knitting Class
DESCRIPTION:
URL:https://ctionline.org/event/crochet-knitting-class-4/2025-11-25/
LOCATION:Congregation Tifereth Israel\, 40 Hill Street\, Glen Cove\, NY\, 11542\, United States
CATEGORIES:Community,Fun
END:VEVENT
BEGIN:VEVENT
DTSTART;TZID=America/New_York:20251125T190000
DTEND;TZID=America/New_York:20251125T203000
DTSTAMP:20260419T132917
CREATED:20250403T220950Z
LAST-MODIFIED:20250827T212752Z
UID:10005407-1764097200-1764102600@ctionline.org
SUMMARY:Nerali.org Concerned Persons Support Group - Call if attending
DESCRIPTION:CALL IF ATTENDING\nTo reserve your spot\, we request that you call Jane Fox\, CRPA\, 516-945-9856 \nnera-LI will be IN-PERSON at CTI on Tuesdays.\n\n\nPlease check the calendar for holiday schedule. \nContact Jane Fox for more information. jane.fox@nerali.org
URL:https://ctionline.org/event/nerali-org-concerned-persons-support-group-call-if-attending-5/2025-11-25/
LOCATION:Congregation Tifereth Israel\, 40 Hill Street\, Glen Cove\, NY\, 11542\, United States
CATEGORIES:Community,Social Action
END:VEVENT
BEGIN:VEVENT
DTSTART;TZID=America/New_York:20251127T110000
DTEND;TZID=America/New_York:20251127T120000
DTSTAMP:20260419T132917
CREATED:20250827T213222Z
LAST-MODIFIED:20250910T111650Z
UID:10008660-1764241200-1764244800@ctionline.org
SUMMARY:(2nd) Bereavement Group
DESCRIPTION:Please contact Phyllis S for. more information: phylliss@ctionline.org
URL:https://ctionline.org/event/2nd-bereavement-group/2025-11-27/
LOCATION:Congregation Tifereth Israel\, 40 Hill Street\, Glen Cove\, NY\, 11542\, United States
CATEGORIES:Community,Social Action
END:VEVENT
BEGIN:VEVENT
DTSTART;TZID=America/New_York:20251127T161500
DTEND;TZID=America/New_York:20251127T181500
DTSTAMP:20260419T132917
CREATED:20250827T214406Z
LAST-MODIFIED:20250827T214406Z
UID:10006971-1764260100-1764267300@ctionline.org
SUMMARY:Limud
DESCRIPTION:
URL:https://ctionline.org/event/limud-2/2025-11-27/
LOCATION:Congregation Tifereth Israel\, 40 Hill Street\, Glen Cove\, NY\, 11542\, United States
CATEGORIES:Community
END:VEVENT
END:VCALENDAR