BEGIN:VCALENDAR
VERSION:2.0
PRODID:-//Congregation Tifereth Israel - ECPv6.15.17.1//NONSGML v1.0//EN
CALSCALE:GREGORIAN
METHOD:PUBLISH
X-WR-CALNAME:Congregation Tifereth Israel
X-ORIGINAL-URL:https://ctionline.org
X-WR-CALDESC:Events for Congregation Tifereth Israel
REFRESH-INTERVAL;VALUE=DURATION:PT1H
X-Robots-Tag:noindex
X-PUBLISHED-TTL:PT1H
BEGIN:VTIMEZONE
TZID:America/New_York
BEGIN:DAYLIGHT
TZOFFSETFROM:-0500
TZOFFSETTO:-0400
TZNAME:EDT
DTSTART:20240310T070000
END:DAYLIGHT
BEGIN:STANDARD
TZOFFSETFROM:-0400
TZOFFSETTO:-0500
TZNAME:EST
DTSTART:20241103T060000
END:STANDARD
BEGIN:DAYLIGHT
TZOFFSETFROM:-0500
TZOFFSETTO:-0400
TZNAME:EDT
DTSTART:20250309T070000
END:DAYLIGHT
BEGIN:STANDARD
TZOFFSETFROM:-0400
TZOFFSETTO:-0500
TZNAME:EST
DTSTART:20251102T060000
END:STANDARD
BEGIN:DAYLIGHT
TZOFFSETFROM:-0500
TZOFFSETTO:-0400
TZNAME:EDT
DTSTART:20260308T070000
END:DAYLIGHT
BEGIN:STANDARD
TZOFFSETFROM:-0400
TZOFFSETTO:-0500
TZNAME:EST
DTSTART:20261101T060000
END:STANDARD
END:VTIMEZONE
BEGIN:VEVENT
DTSTART;TZID=America/New_York:20250826T160000
DTEND;TZID=America/New_York:20250826T180000
DTSTAMP:20260419T182512
CREATED:20250325T211753Z
LAST-MODIFIED:20250822T171308Z
UID:10003936-1756224000-1756231200@ctionline.org
SUMMARY:Knit and Crochet with Kate
DESCRIPTION:Both beginner and experienced crafters are welcome. \nFree instruction and ongoing project support. \nLet’s start something new\, continue an existing\nproject\, make something to donate\, and be social. \nMaterials will be available for purchase day of event (cash please).\n$7* includes: (1) 7oz skein Red Heart acrylic yarn &\n(1) pair 10″ straight knitting needles size 8 OR\n(1) 5.00mm crochet hook \nSpace is limited to 12\nRSVP to Barbara at Baronworld@aol.com \n*Price subject to change in the future
URL:https://ctionline.org/event/knit-and-crochet-with-kate/
LOCATION:Congregation Tifereth Israel\, 40 Hill Street\, Glen Cove\, NY\, 11542\, United States
CATEGORIES:Community,Fun
END:VEVENT
BEGIN:VEVENT
DTSTART;TZID=America/New_York:20250827T081500
DTEND;TZID=America/New_York:20250827T091500
DTSTAMP:20260419T182512
CREATED:20250822T171501Z
LAST-MODIFIED:20250822T173743Z
UID:10004272-1756282500-1756286100@ctionline.org
SUMMARY:Wed Morning Shacharit Minyan
DESCRIPTION:Zoom CTI is inviting you to a scheduled Zoom meeting. \nTopic: CTI Shacharit Services\nTime: This is a recurring meeting Meet anytime \nJoin Zoom Meeting\nhttps://zoom.us/j/99149363611\nPasscode: Minyan\n\nSim Shalom Siddur:\nhttps://bit.ly/39NPjZe\n\n\nMeeting ID: 991 4936 3611\nPasscode: Minyan\n\nOne tap mobile\n+16468769923\,\,99149363611# US (New York)\n+13126266799\,\,99149363611# US (Chicago) \nDial by your location\n+1 646 876 9923 US (New York)\n+1 312 626 6799 US (Chicago)\n+1 301 715 8592 US (Germantown)\n+1 346 248 7799 US (Houston)\n+1 408 638 0968 US (San Jose)\n+1 669 900 6833 US (San Jose)\n+1 253 215 8782 US (Tacoma)\nMeeting ID: 991 4936 3611\nFind your local number: https://zoom.us/u/abRKGUQm30
URL:https://ctionline.org/event/morning-shacharit-minyan-13/
LOCATION:Congregation Tifereth Israel\, 40 Hill Street\, Glen Cove\, NY\, 11542\, United States
CATEGORIES:Community,Fun
END:VEVENT
BEGIN:VEVENT
DTSTART;TZID=America/New_York:20250827T160000
DTEND;TZID=America/New_York:20250827T170000
DTSTAMP:20260419T182512
CREATED:20250822T170009Z
LAST-MODIFIED:20250910T104810Z
UID:10003993-1756310400-1756314000@ctionline.org
SUMMARY:Drop By And Say Hi ... on Zoom
DESCRIPTION:Meeting ID: 984 9783 7218\nPassword: schmooz
URL:https://ctionline.org/event/drop-by-and-say-hi-on-zoom-39-2/2025-08-27/
LOCATION:https://us06web.zoom.us/j/98497837218
CATEGORIES:Community
ATTACH;FMTTYPE=image/jpeg:https://ctionline.org/wp-content/uploads/2024/02/Remote-Services-2020-1-extend1.jpg
ORGANIZER;CN="CTI Office":MAILTO:office@ctionline.org
END:VEVENT
END:VCALENDAR