BEGIN:VCALENDAR
VERSION:2.0
PRODID:-//Congregation Tifereth Israel - ECPv6.15.17.1//NONSGML v1.0//EN
CALSCALE:GREGORIAN
METHOD:PUBLISH
X-WR-CALNAME:Congregation Tifereth Israel
X-ORIGINAL-URL:https://ctionline.org
X-WR-CALDESC:Events for Congregation Tifereth Israel
REFRESH-INTERVAL;VALUE=DURATION:PT1H
X-Robots-Tag:noindex
X-PUBLISHED-TTL:PT1H
BEGIN:VTIMEZONE
TZID:America/New_York
BEGIN:DAYLIGHT
TZOFFSETFROM:-0500
TZOFFSETTO:-0400
TZNAME:EDT
DTSTART:20240310T070000
END:DAYLIGHT
BEGIN:STANDARD
TZOFFSETFROM:-0400
TZOFFSETTO:-0500
TZNAME:EST
DTSTART:20241103T060000
END:STANDARD
BEGIN:DAYLIGHT
TZOFFSETFROM:-0500
TZOFFSETTO:-0400
TZNAME:EDT
DTSTART:20250309T070000
END:DAYLIGHT
BEGIN:STANDARD
TZOFFSETFROM:-0400
TZOFFSETTO:-0500
TZNAME:EST
DTSTART:20251102T060000
END:STANDARD
BEGIN:DAYLIGHT
TZOFFSETFROM:-0500
TZOFFSETTO:-0400
TZNAME:EDT
DTSTART:20260308T070000
END:DAYLIGHT
BEGIN:STANDARD
TZOFFSETFROM:-0400
TZOFFSETTO:-0500
TZNAME:EST
DTSTART:20261101T060000
END:STANDARD
END:VTIMEZONE
BEGIN:VEVENT
DTSTART;TZID=America/New_York:20250503T200000
DTEND;TZID=America/New_York:20250503T220000
DTSTAMP:20260419T231025
CREATED:20250501T120023Z
LAST-MODIFIED:20250501T120023Z
UID:10004246-1746302400-1746309600@ctionline.org
SUMMARY:Open Mike Night -
DESCRIPTION:Can you… \nSing\, Dance\, Play an instrument\, Tell jokes? Read a poem? Do a magic trick? \nThere is a place for\nyou on stage (or in the\naudience). Don’t be shy!\nWine and Cheese and\nEntertainment all for a\nSuggested Donation of $10\npayable at the door.
URL:https://ctionline.org/event/open-mike-night/
LOCATION:Congregation Tifereth Israel\, 40 Hill Street\, Glen Cove\, NY\, 11542\, United States
CATEGORIES:Community,Fun
END:VEVENT
BEGIN:VEVENT
DTSTART;TZID=America/New_York:20250506T160000
DTEND;TZID=America/New_York:20250506T180000
DTSTAMP:20260419T231025
CREATED:20250501T121214Z
LAST-MODIFIED:20250501T121214Z
UID:10004248-1746547200-1746554400@ctionline.org
SUMMARY:Knit and Crochet with Kate
DESCRIPTION:Both beginner and experienced stitchers are welcome.\nFree instruction and ongoing project support.\nLet’s start something new\, continue an existing\nproject\, make something to donate\, and be social. \nMaterials will be available for purchase day of event (cash please).\n$7* includes: (1) 7oz skein Red Heart acrylic yarn & \n(1) pair 10” straight knitting needles size 8 OR\n(1) 5.00mm crochet hook \n*Price subject to change in the future \nSpace is limited to 12 \nRSVP to Barbara at Baronworld@aol.com
URL:https://ctionline.org/event/knit-and-crochet-with-kate-2/2025-05-06/
LOCATION:Congregation Tifereth Israel\, 40 Hill Street\, Glen Cove\, NY\, 11542\, United States
CATEGORIES:Community,Fun,Learning
END:VEVENT
BEGIN:VEVENT
DTSTART;TZID=America/New_York:20250506T190000
DTEND;TZID=America/New_York:20250506T203000
DTSTAMP:20260419T231025
CREATED:20240912T135405Z
LAST-MODIFIED:20250310T005326Z
UID:10003511-1746558000-1746563400@ctionline.org
SUMMARY:Our Concerned Persons
DESCRIPTION:Call If Attending \nTo reserve your spot\, we request that you call \nJane Fox\n516-589-9171
URL:https://ctionline.org/event/our-concerned-persons-2/2025-05-06/
LOCATION:Congregation Tifereth Israel\, 40 Hill Street\, Glen Cove\, NY\, 11542\, United States
CATEGORIES:Social Action
ATTACH;FMTTYPE=image/jpeg:https://ctionline.org/wp-content/uploads/2024/02/Nera-LI.jpg
ORGANIZER;CN="Northeast Recovery Alliance Long Island":MAILTO:jane.fox@nerali.org
END:VEVENT
BEGIN:VEVENT
DTSTART;TZID=America/New_York:20250513T160000
DTEND;TZID=America/New_York:20250513T180000
DTSTAMP:20260419T231025
CREATED:20250501T121214Z
LAST-MODIFIED:20250501T121214Z
UID:10004249-1747152000-1747159200@ctionline.org
SUMMARY:Knit and Crochet with Kate
DESCRIPTION:Both beginner and experienced stitchers are welcome.\nFree instruction and ongoing project support.\nLet’s start something new\, continue an existing\nproject\, make something to donate\, and be social. \nMaterials will be available for purchase day of event (cash please).\n$7* includes: (1) 7oz skein Red Heart acrylic yarn & \n(1) pair 10” straight knitting needles size 8 OR\n(1) 5.00mm crochet hook \n*Price subject to change in the future \nSpace is limited to 12 \nRSVP to Barbara at Baronworld@aol.com
URL:https://ctionline.org/event/knit-and-crochet-with-kate-2/2025-05-13/
LOCATION:Congregation Tifereth Israel\, 40 Hill Street\, Glen Cove\, NY\, 11542\, United States
CATEGORIES:Community,Fun,Learning
END:VEVENT
BEGIN:VEVENT
DTSTART;TZID=America/New_York:20250513T190000
DTEND;TZID=America/New_York:20250513T203000
DTSTAMP:20260419T231025
CREATED:20240912T135405Z
LAST-MODIFIED:20250310T005326Z
UID:10003512-1747162800-1747168200@ctionline.org
SUMMARY:Our Concerned Persons
DESCRIPTION:Call If Attending \nTo reserve your spot\, we request that you call \nJane Fox\n516-589-9171
URL:https://ctionline.org/event/our-concerned-persons-2/2025-05-13/
LOCATION:Congregation Tifereth Israel\, 40 Hill Street\, Glen Cove\, NY\, 11542\, United States
CATEGORIES:Social Action
ATTACH;FMTTYPE=image/jpeg:https://ctionline.org/wp-content/uploads/2024/02/Nera-LI.jpg
ORGANIZER;CN="Northeast Recovery Alliance Long Island":MAILTO:jane.fox@nerali.org
END:VEVENT
BEGIN:VEVENT
DTSTART;TZID=America/New_York:20250514T190000
DTEND;TZID=America/New_York:20250514T200000
DTSTAMP:20260419T231025
CREATED:20250501T115231Z
LAST-MODIFIED:20250501T115231Z
UID:10004126-1747249200-1747252800@ctionline.org
SUMMARY:MEET AUTHOR Joan Leegant
DESCRIPTION:Joan Leegant\, will discuss her book\nDisplaced Persons: Stories. This new\nstory collection shines a light on\nIsrael and American Jewish life\,\nespecially relevant in these times. \nIn addition\, Joan will discuss anti-semitism in the publishing industry.\nThere will be a question and answer period and a book signing following her discussion. \nTHIS EVENT IS FREE OF CHARGE
URL:https://ctionline.org/event/meet-author-joan-leegant/
LOCATION:Congregation Tifereth Israel\, 40 Hill Street\, Glen Cove\, NY\, 11542\, United States
CATEGORIES:Community
END:VEVENT
BEGIN:VEVENT
DTSTART;TZID=America/New_York:20250520T160000
DTEND;TZID=America/New_York:20250520T180000
DTSTAMP:20260419T231025
CREATED:20250501T121214Z
LAST-MODIFIED:20250501T121214Z
UID:10004250-1747756800-1747764000@ctionline.org
SUMMARY:Knit and Crochet with Kate
DESCRIPTION:Both beginner and experienced stitchers are welcome.\nFree instruction and ongoing project support.\nLet’s start something new\, continue an existing\nproject\, make something to donate\, and be social. \nMaterials will be available for purchase day of event (cash please).\n$7* includes: (1) 7oz skein Red Heart acrylic yarn & \n(1) pair 10” straight knitting needles size 8 OR\n(1) 5.00mm crochet hook \n*Price subject to change in the future \nSpace is limited to 12 \nRSVP to Barbara at Baronworld@aol.com
URL:https://ctionline.org/event/knit-and-crochet-with-kate-2/2025-05-20/
LOCATION:Congregation Tifereth Israel\, 40 Hill Street\, Glen Cove\, NY\, 11542\, United States
CATEGORIES:Community,Fun,Learning
END:VEVENT
BEGIN:VEVENT
DTSTART;TZID=America/New_York:20250520T190000
DTEND;TZID=America/New_York:20250520T203000
DTSTAMP:20260419T231025
CREATED:20240912T135405Z
LAST-MODIFIED:20250310T005326Z
UID:10003513-1747767600-1747773000@ctionline.org
SUMMARY:Our Concerned Persons
DESCRIPTION:Call If Attending \nTo reserve your spot\, we request that you call \nJane Fox\n516-589-9171
URL:https://ctionline.org/event/our-concerned-persons-2/2025-05-20/
LOCATION:Congregation Tifereth Israel\, 40 Hill Street\, Glen Cove\, NY\, 11542\, United States
CATEGORIES:Social Action
ATTACH;FMTTYPE=image/jpeg:https://ctionline.org/wp-content/uploads/2024/02/Nera-LI.jpg
ORGANIZER;CN="Northeast Recovery Alliance Long Island":MAILTO:jane.fox@nerali.org
END:VEVENT
BEGIN:VEVENT
DTSTART;TZID=America/New_York:20250527T160000
DTEND;TZID=America/New_York:20250527T180000
DTSTAMP:20260419T231025
CREATED:20250501T121214Z
LAST-MODIFIED:20250501T121214Z
UID:10004251-1748361600-1748368800@ctionline.org
SUMMARY:Knit and Crochet with Kate
DESCRIPTION:Both beginner and experienced stitchers are welcome.\nFree instruction and ongoing project support.\nLet’s start something new\, continue an existing\nproject\, make something to donate\, and be social. \nMaterials will be available for purchase day of event (cash please).\n$7* includes: (1) 7oz skein Red Heart acrylic yarn & \n(1) pair 10” straight knitting needles size 8 OR\n(1) 5.00mm crochet hook \n*Price subject to change in the future \nSpace is limited to 12 \nRSVP to Barbara at Baronworld@aol.com
URL:https://ctionline.org/event/knit-and-crochet-with-kate-2/2025-05-27/
LOCATION:Congregation Tifereth Israel\, 40 Hill Street\, Glen Cove\, NY\, 11542\, United States
CATEGORIES:Community,Fun,Learning
END:VEVENT
BEGIN:VEVENT
DTSTART;TZID=America/New_York:20250527T190000
DTEND;TZID=America/New_York:20250527T203000
DTSTAMP:20260419T231025
CREATED:20240912T135405Z
LAST-MODIFIED:20250310T005326Z
UID:10003514-1748372400-1748377800@ctionline.org
SUMMARY:Our Concerned Persons
DESCRIPTION:Call If Attending \nTo reserve your spot\, we request that you call \nJane Fox\n516-589-9171
URL:https://ctionline.org/event/our-concerned-persons-2/2025-05-27/
LOCATION:Congregation Tifereth Israel\, 40 Hill Street\, Glen Cove\, NY\, 11542\, United States
CATEGORIES:Social Action
ATTACH;FMTTYPE=image/jpeg:https://ctionline.org/wp-content/uploads/2024/02/Nera-LI.jpg
ORGANIZER;CN="Northeast Recovery Alliance Long Island":MAILTO:jane.fox@nerali.org
END:VEVENT
END:VCALENDAR