BEGIN:VCALENDAR
VERSION:2.0
PRODID:-//Congregation Tifereth Israel - ECPv6.15.17.1//NONSGML v1.0//EN
CALSCALE:GREGORIAN
METHOD:PUBLISH
X-ORIGINAL-URL:https://ctionline.org
X-WR-CALDESC:Events for Congregation Tifereth Israel
REFRESH-INTERVAL;VALUE=DURATION:PT1H
X-Robots-Tag:noindex
X-PUBLISHED-TTL:PT1H
BEGIN:VTIMEZONE
TZID:America/New_York
BEGIN:DAYLIGHT
TZOFFSETFROM:-0500
TZOFFSETTO:-0400
TZNAME:EDT
DTSTART:20230312T070000
END:DAYLIGHT
BEGIN:STANDARD
TZOFFSETFROM:-0400
TZOFFSETTO:-0500
TZNAME:EST
DTSTART:20231105T060000
END:STANDARD
BEGIN:DAYLIGHT
TZOFFSETFROM:-0500
TZOFFSETTO:-0400
TZNAME:EDT
DTSTART:20240310T070000
END:DAYLIGHT
BEGIN:STANDARD
TZOFFSETFROM:-0400
TZOFFSETTO:-0500
TZNAME:EST
DTSTART:20241103T060000
END:STANDARD
BEGIN:DAYLIGHT
TZOFFSETFROM:-0500
TZOFFSETTO:-0400
TZNAME:EDT
DTSTART:20250309T070000
END:DAYLIGHT
BEGIN:STANDARD
TZOFFSETFROM:-0400
TZOFFSETTO:-0500
TZNAME:EST
DTSTART:20251102T060000
END:STANDARD
END:VTIMEZONE
BEGIN:VEVENT
DTSTART;TZID=America/New_York:20241203T190000
DTEND;TZID=America/New_York:20241203T203000
DTSTAMP:20260420T064911
CREATED:20240912T135405Z
LAST-MODIFIED:20250310T005326Z
UID:10003489-1733252400-1733257800@ctionline.org
SUMMARY:Our Concerned Persons
DESCRIPTION:Call If Attending \nTo reserve your spot\, we request that you call \nJane Fox\n516-589-9171
URL:https://ctionline.org/event/our-concerned-persons-2/2024-12-03/
LOCATION:Congregation Tifereth Israel\, 40 Hill Street\, Glen Cove\, NY\, 11542\, United States
CATEGORIES:Social Action
ATTACH;FMTTYPE=image/jpeg:https://ctionline.org/wp-content/uploads/2024/02/Nera-LI.jpg
ORGANIZER;CN="Northeast Recovery Alliance Long Island":MAILTO:jane.fox@nerali.org
END:VEVENT
BEGIN:VEVENT
DTSTART;TZID=America/New_York:20241210T190000
DTEND;TZID=America/New_York:20241210T203000
DTSTAMP:20260420T064911
CREATED:20240912T135405Z
LAST-MODIFIED:20250310T005326Z
UID:10003490-1733857200-1733862600@ctionline.org
SUMMARY:Our Concerned Persons
DESCRIPTION:Call If Attending \nTo reserve your spot\, we request that you call \nJane Fox\n516-589-9171
URL:https://ctionline.org/event/our-concerned-persons-2/2024-12-10/
LOCATION:Congregation Tifereth Israel\, 40 Hill Street\, Glen Cove\, NY\, 11542\, United States
CATEGORIES:Social Action
ATTACH;FMTTYPE=image/jpeg:https://ctionline.org/wp-content/uploads/2024/02/Nera-LI.jpg
ORGANIZER;CN="Northeast Recovery Alliance Long Island":MAILTO:jane.fox@nerali.org
END:VEVENT
BEGIN:VEVENT
DTSTART;TZID=America/New_York:20241217T190000
DTEND;TZID=America/New_York:20241217T203000
DTSTAMP:20260420T064911
CREATED:20240912T135405Z
LAST-MODIFIED:20250310T005326Z
UID:10003491-1734462000-1734467400@ctionline.org
SUMMARY:Our Concerned Persons
DESCRIPTION:Call If Attending \nTo reserve your spot\, we request that you call \nJane Fox\n516-589-9171
URL:https://ctionline.org/event/our-concerned-persons-2/2024-12-17/
LOCATION:Congregation Tifereth Israel\, 40 Hill Street\, Glen Cove\, NY\, 11542\, United States
CATEGORIES:Social Action
ATTACH;FMTTYPE=image/jpeg:https://ctionline.org/wp-content/uploads/2024/02/Nera-LI.jpg
ORGANIZER;CN="Northeast Recovery Alliance Long Island":MAILTO:jane.fox@nerali.org
END:VEVENT
BEGIN:VEVENT
DTSTART;TZID=America/New_York:20241224T190000
DTEND;TZID=America/New_York:20241224T203000
DTSTAMP:20260420T064911
CREATED:20240912T135405Z
LAST-MODIFIED:20250310T005326Z
UID:10003492-1735066800-1735072200@ctionline.org
SUMMARY:Our Concerned Persons
DESCRIPTION:Call If Attending \nTo reserve your spot\, we request that you call \nJane Fox\n516-589-9171
URL:https://ctionline.org/event/our-concerned-persons-2/2024-12-24/
LOCATION:Congregation Tifereth Israel\, 40 Hill Street\, Glen Cove\, NY\, 11542\, United States
CATEGORIES:Social Action
ATTACH;FMTTYPE=image/jpeg:https://ctionline.org/wp-content/uploads/2024/02/Nera-LI.jpg
ORGANIZER;CN="Northeast Recovery Alliance Long Island":MAILTO:jane.fox@nerali.org
END:VEVENT
BEGIN:VEVENT
DTSTART;TZID=America/New_York:20241231T190000
DTEND;TZID=America/New_York:20241231T203000
DTSTAMP:20260420T064911
CREATED:20240912T135405Z
LAST-MODIFIED:20250310T005326Z
UID:10003493-1735671600-1735677000@ctionline.org
SUMMARY:Our Concerned Persons
DESCRIPTION:Call If Attending \nTo reserve your spot\, we request that you call \nJane Fox\n516-589-9171
URL:https://ctionline.org/event/our-concerned-persons-2/2024-12-31/
LOCATION:Congregation Tifereth Israel\, 40 Hill Street\, Glen Cove\, NY\, 11542\, United States
CATEGORIES:Social Action
ATTACH;FMTTYPE=image/jpeg:https://ctionline.org/wp-content/uploads/2024/02/Nera-LI.jpg
ORGANIZER;CN="Northeast Recovery Alliance Long Island":MAILTO:jane.fox@nerali.org
END:VEVENT
END:VCALENDAR