BEGIN:VCALENDAR
VERSION:2.0
PRODID:-//Congregation Tifereth Israel - ECPv6.15.17.1//NONSGML v1.0//EN
CALSCALE:GREGORIAN
METHOD:PUBLISH
X-ORIGINAL-URL:https://ctionline.org
X-WR-CALDESC:Events for Congregation Tifereth Israel
REFRESH-INTERVAL;VALUE=DURATION:PT1H
X-Robots-Tag:noindex
X-PUBLISHED-TTL:PT1H
BEGIN:VTIMEZONE
TZID:America/New_York
BEGIN:DAYLIGHT
TZOFFSETFROM:-0500
TZOFFSETTO:-0400
TZNAME:EDT
DTSTART:20230312T070000
END:DAYLIGHT
BEGIN:STANDARD
TZOFFSETFROM:-0400
TZOFFSETTO:-0500
TZNAME:EST
DTSTART:20231105T060000
END:STANDARD
BEGIN:DAYLIGHT
TZOFFSETFROM:-0500
TZOFFSETTO:-0400
TZNAME:EDT
DTSTART:20240310T070000
END:DAYLIGHT
BEGIN:STANDARD
TZOFFSETFROM:-0400
TZOFFSETTO:-0500
TZNAME:EST
DTSTART:20241103T060000
END:STANDARD
BEGIN:DAYLIGHT
TZOFFSETFROM:-0500
TZOFFSETTO:-0400
TZNAME:EDT
DTSTART:20250309T070000
END:DAYLIGHT
BEGIN:STANDARD
TZOFFSETFROM:-0400
TZOFFSETTO:-0500
TZNAME:EST
DTSTART:20251102T060000
END:STANDARD
END:VTIMEZONE
BEGIN:VEVENT
DTSTART;TZID=America/New_York:20241001T190000
DTEND;TZID=America/New_York:20241001T203000
DTSTAMP:20260422T062303
CREATED:20240912T135405Z
LAST-MODIFIED:20250310T005326Z
UID:10003480-1727809200-1727814600@ctionline.org
SUMMARY:Our Concerned Persons
DESCRIPTION:Call If Attending \nTo reserve your spot\, we request that you call \nJane Fox\n516-589-9171
URL:https://ctionline.org/event/our-concerned-persons-2/2024-10-01/
LOCATION:Congregation Tifereth Israel\, 40 Hill Street\, Glen Cove\, NY\, 11542\, United States
CATEGORIES:Social Action
ATTACH;FMTTYPE=image/jpeg:https://ctionline.org/wp-content/uploads/2024/02/Nera-LI.jpg
ORGANIZER;CN="Northeast Recovery Alliance Long Island":MAILTO:jane.fox@nerali.org
END:VEVENT
BEGIN:VEVENT
DTSTART;TZID=America/New_York:20241008T190000
DTEND;TZID=America/New_York:20241008T203000
DTSTAMP:20260422T062303
CREATED:20240912T135405Z
LAST-MODIFIED:20250310T005326Z
UID:10003481-1728414000-1728419400@ctionline.org
SUMMARY:Our Concerned Persons
DESCRIPTION:Call If Attending \nTo reserve your spot\, we request that you call \nJane Fox\n516-589-9171
URL:https://ctionline.org/event/our-concerned-persons-2/2024-10-08/
LOCATION:Congregation Tifereth Israel\, 40 Hill Street\, Glen Cove\, NY\, 11542\, United States
CATEGORIES:Social Action
ATTACH;FMTTYPE=image/jpeg:https://ctionline.org/wp-content/uploads/2024/02/Nera-LI.jpg
ORGANIZER;CN="Northeast Recovery Alliance Long Island":MAILTO:jane.fox@nerali.org
END:VEVENT
BEGIN:VEVENT
DTSTART;TZID=America/New_York:20241015T190000
DTEND;TZID=America/New_York:20241015T203000
DTSTAMP:20260422T062303
CREATED:20240912T135405Z
LAST-MODIFIED:20250310T005326Z
UID:10003482-1729018800-1729024200@ctionline.org
SUMMARY:Our Concerned Persons
DESCRIPTION:Call If Attending \nTo reserve your spot\, we request that you call \nJane Fox\n516-589-9171
URL:https://ctionline.org/event/our-concerned-persons-2/2024-10-15/
LOCATION:Congregation Tifereth Israel\, 40 Hill Street\, Glen Cove\, NY\, 11542\, United States
CATEGORIES:Social Action
ATTACH;FMTTYPE=image/jpeg:https://ctionline.org/wp-content/uploads/2024/02/Nera-LI.jpg
ORGANIZER;CN="Northeast Recovery Alliance Long Island":MAILTO:jane.fox@nerali.org
END:VEVENT
BEGIN:VEVENT
DTSTART;TZID=America/New_York:20241022T190000
DTEND;TZID=America/New_York:20241022T203000
DTSTAMP:20260422T062303
CREATED:20240912T135405Z
LAST-MODIFIED:20250310T005326Z
UID:10003483-1729623600-1729629000@ctionline.org
SUMMARY:Our Concerned Persons
DESCRIPTION:Call If Attending \nTo reserve your spot\, we request that you call \nJane Fox\n516-589-9171
URL:https://ctionline.org/event/our-concerned-persons-2/2024-10-22/
LOCATION:Congregation Tifereth Israel\, 40 Hill Street\, Glen Cove\, NY\, 11542\, United States
CATEGORIES:Social Action
ATTACH;FMTTYPE=image/jpeg:https://ctionline.org/wp-content/uploads/2024/02/Nera-LI.jpg
ORGANIZER;CN="Northeast Recovery Alliance Long Island":MAILTO:jane.fox@nerali.org
END:VEVENT
BEGIN:VEVENT
DTSTART;TZID=America/New_York:20241029T190000
DTEND;TZID=America/New_York:20241029T203000
DTSTAMP:20260422T062303
CREATED:20240912T135405Z
LAST-MODIFIED:20250310T005326Z
UID:10003484-1730228400-1730233800@ctionline.org
SUMMARY:Our Concerned Persons
DESCRIPTION:Call If Attending \nTo reserve your spot\, we request that you call \nJane Fox\n516-589-9171
URL:https://ctionline.org/event/our-concerned-persons-2/2024-10-29/
LOCATION:Congregation Tifereth Israel\, 40 Hill Street\, Glen Cove\, NY\, 11542\, United States
CATEGORIES:Social Action
ATTACH;FMTTYPE=image/jpeg:https://ctionline.org/wp-content/uploads/2024/02/Nera-LI.jpg
ORGANIZER;CN="Northeast Recovery Alliance Long Island":MAILTO:jane.fox@nerali.org
END:VEVENT
END:VCALENDAR