BEGIN:VCALENDAR
VERSION:2.0
PRODID:-//Congregation Tifereth Israel - ECPv6.15.17.1//NONSGML v1.0//EN
CALSCALE:GREGORIAN
METHOD:PUBLISH
X-WR-CALNAME:Congregation Tifereth Israel
X-ORIGINAL-URL:https://ctionline.org
X-WR-CALDESC:Events for Congregation Tifereth Israel
REFRESH-INTERVAL;VALUE=DURATION:PT1H
X-Robots-Tag:noindex
X-PUBLISHED-TTL:PT1H
BEGIN:VTIMEZONE
TZID:America/New_York
BEGIN:DAYLIGHT
TZOFFSETFROM:-0500
TZOFFSETTO:-0400
TZNAME:EDT
DTSTART:20230312T070000
END:DAYLIGHT
BEGIN:STANDARD
TZOFFSETFROM:-0400
TZOFFSETTO:-0500
TZNAME:EST
DTSTART:20231105T060000
END:STANDARD
BEGIN:DAYLIGHT
TZOFFSETFROM:-0500
TZOFFSETTO:-0400
TZNAME:EDT
DTSTART:20240310T070000
END:DAYLIGHT
BEGIN:STANDARD
TZOFFSETFROM:-0400
TZOFFSETTO:-0500
TZNAME:EST
DTSTART:20241103T060000
END:STANDARD
BEGIN:DAYLIGHT
TZOFFSETFROM:-0500
TZOFFSETTO:-0400
TZNAME:EDT
DTSTART:20250309T070000
END:DAYLIGHT
BEGIN:STANDARD
TZOFFSETFROM:-0400
TZOFFSETTO:-0500
TZNAME:EST
DTSTART:20251102T060000
END:STANDARD
END:VTIMEZONE
BEGIN:VEVENT
DTSTART;TZID=America/New_York:20240401T190000
DTEND;TZID=America/New_York:20240401T203000
DTSTAMP:20260422T155742
CREATED:20240228T232238Z
LAST-MODIFIED:20240318T164022Z
UID:10001674-1711998000-1712003400@ctionline.org
SUMMARY:Our Concerned Persons
DESCRIPTION:Call If Attending \nTo reserve your spot\, we request that you call \nJane Fox\n516-589-9171
URL:https://ctionline.org/event/our-concerned-persons/2024-04-01/
LOCATION:Congregation Tifereth Israel\, 40 Hill Street\, Glen Cove\, NY\, 11542\, United States
CATEGORIES:Social Action
ATTACH;FMTTYPE=image/jpeg:https://ctionline.org/wp-content/uploads/2024/02/Nera-LI.jpg
ORGANIZER;CN="Northeast Recovery Alliance Long Island":MAILTO:jane.fox@nerali.org
END:VEVENT
BEGIN:VEVENT
DTSTART;TZID=America/New_York:20240408T190000
DTEND;TZID=America/New_York:20240408T203000
DTSTAMP:20260422T155742
CREATED:20240228T232238Z
LAST-MODIFIED:20240318T164022Z
UID:10001675-1712602800-1712608200@ctionline.org
SUMMARY:Our Concerned Persons
DESCRIPTION:Call If Attending \nTo reserve your spot\, we request that you call \nJane Fox\n516-589-9171
URL:https://ctionline.org/event/our-concerned-persons/2024-04-08/
LOCATION:Congregation Tifereth Israel\, 40 Hill Street\, Glen Cove\, NY\, 11542\, United States
CATEGORIES:Social Action
ATTACH;FMTTYPE=image/jpeg:https://ctionline.org/wp-content/uploads/2024/02/Nera-LI.jpg
ORGANIZER;CN="Northeast Recovery Alliance Long Island":MAILTO:jane.fox@nerali.org
END:VEVENT
BEGIN:VEVENT
DTSTART;TZID=America/New_York:20240415T190000
DTEND;TZID=America/New_York:20240415T203000
DTSTAMP:20260422T155742
CREATED:20240228T232238Z
LAST-MODIFIED:20240318T164022Z
UID:10001676-1713207600-1713213000@ctionline.org
SUMMARY:Our Concerned Persons
DESCRIPTION:Call If Attending \nTo reserve your spot\, we request that you call \nJane Fox\n516-589-9171
URL:https://ctionline.org/event/our-concerned-persons/2024-04-15/
LOCATION:Congregation Tifereth Israel\, 40 Hill Street\, Glen Cove\, NY\, 11542\, United States
CATEGORIES:Social Action
ATTACH;FMTTYPE=image/jpeg:https://ctionline.org/wp-content/uploads/2024/02/Nera-LI.jpg
ORGANIZER;CN="Northeast Recovery Alliance Long Island":MAILTO:jane.fox@nerali.org
END:VEVENT
BEGIN:VEVENT
DTSTART;TZID=America/New_York:20240422T190000
DTEND;TZID=America/New_York:20240422T203000
DTSTAMP:20260422T155742
CREATED:20240228T232238Z
LAST-MODIFIED:20240318T164022Z
UID:10001677-1713812400-1713817800@ctionline.org
SUMMARY:Our Concerned Persons
DESCRIPTION:Call If Attending \nTo reserve your spot\, we request that you call \nJane Fox\n516-589-9171
URL:https://ctionline.org/event/our-concerned-persons/2024-04-22/
LOCATION:Congregation Tifereth Israel\, 40 Hill Street\, Glen Cove\, NY\, 11542\, United States
CATEGORIES:Social Action
ATTACH;FMTTYPE=image/jpeg:https://ctionline.org/wp-content/uploads/2024/02/Nera-LI.jpg
ORGANIZER;CN="Northeast Recovery Alliance Long Island":MAILTO:jane.fox@nerali.org
END:VEVENT
BEGIN:VEVENT
DTSTART;TZID=America/New_York:20240429T190000
DTEND;TZID=America/New_York:20240429T203000
DTSTAMP:20260422T155742
CREATED:20240228T232238Z
LAST-MODIFIED:20240318T164022Z
UID:10001678-1714417200-1714422600@ctionline.org
SUMMARY:Our Concerned Persons
DESCRIPTION:Call If Attending \nTo reserve your spot\, we request that you call \nJane Fox\n516-589-9171
URL:https://ctionline.org/event/our-concerned-persons/2024-04-29/
LOCATION:Congregation Tifereth Israel\, 40 Hill Street\, Glen Cove\, NY\, 11542\, United States
CATEGORIES:Social Action
ATTACH;FMTTYPE=image/jpeg:https://ctionline.org/wp-content/uploads/2024/02/Nera-LI.jpg
ORGANIZER;CN="Northeast Recovery Alliance Long Island":MAILTO:jane.fox@nerali.org
END:VEVENT
END:VCALENDAR