BEGIN:VCALENDAR
VERSION:2.0
PRODID:-//Congregation Tifereth Israel - ECPv6.15.17.1//NONSGML v1.0//EN
CALSCALE:GREGORIAN
METHOD:PUBLISH
X-WR-CALNAME:Congregation Tifereth Israel
X-ORIGINAL-URL:https://ctionline.org
X-WR-CALDESC:Events for Congregation Tifereth Israel
REFRESH-INTERVAL;VALUE=DURATION:PT1H
X-Robots-Tag:noindex
X-PUBLISHED-TTL:PT1H
BEGIN:VTIMEZONE
TZID:America/New_York
BEGIN:DAYLIGHT
TZOFFSETFROM:-0500
TZOFFSETTO:-0400
TZNAME:EDT
DTSTART:20250309T070000
END:DAYLIGHT
BEGIN:STANDARD
TZOFFSETFROM:-0400
TZOFFSETTO:-0500
TZNAME:EST
DTSTART:20251102T060000
END:STANDARD
BEGIN:DAYLIGHT
TZOFFSETFROM:-0500
TZOFFSETTO:-0400
TZNAME:EDT
DTSTART:20260308T070000
END:DAYLIGHT
BEGIN:STANDARD
TZOFFSETFROM:-0400
TZOFFSETTO:-0500
TZNAME:EST
DTSTART:20261101T060000
END:STANDARD
BEGIN:DAYLIGHT
TZOFFSETFROM:-0500
TZOFFSETTO:-0400
TZNAME:EDT
DTSTART:20270314T070000
END:DAYLIGHT
BEGIN:STANDARD
TZOFFSETFROM:-0400
TZOFFSETTO:-0500
TZNAME:EST
DTSTART:20271107T060000
END:STANDARD
END:VTIMEZONE
BEGIN:VEVENT
DTSTART;TZID=America/New_York:20260423T081500
DTEND;TZID=America/New_York:20260423T091500
DTSTAMP:20260423T030338
CREATED:20240228T214600Z
LAST-MODIFIED:20250910T111836Z
UID:10000215-1776932100-1776935700@ctionline.org
SUMMARY:Virtual Morning Shacharit Service
DESCRIPTION:Sim Shalom Siddur
URL:https://ctionline.org/event/virtual-morning-shacharit-service/2026-04-23/
LOCATION:https://ctionline.org/event/virtual-morning-shacharit-service/2026-04-23/
CATEGORIES:Worship
ATTACH;FMTTYPE=image/jpeg:https://ctionline.org/wp-content/uploads/2024/02/Morning-Shacharit-Minyan-2.jpg
ORGANIZER;CN="Rabbi Irwin Huberman":MAILTO:rabbiirwin@ctionline.org
END:VEVENT
BEGIN:VEVENT
DTSTART;TZID=America/New_York:20260423T110000
DTEND;TZID=America/New_York:20260423T120000
DTSTAMP:20260423T030338
CREATED:20250827T213222Z
LAST-MODIFIED:20250910T111650Z
UID:10008681-1776942000-1776945600@ctionline.org
SUMMARY:(2nd) Bereavement Group
DESCRIPTION:Please contact Phyllis S for. more information: phylliss@ctionline.org
URL:https://ctionline.org/event/2nd-bereavement-group/2026-04-23/
LOCATION:Congregation Tifereth Israel\, 40 Hill Street\, Glen Cove\, NY\, 11542\, United States
CATEGORIES:Community,Social Action
END:VEVENT
BEGIN:VEVENT
DTSTART;TZID=America/New_York:20260423T150000
DTEND;TZID=America/New_York:20260423T160000
DTSTAMP:20260423T030338
CREATED:20260309T204131Z
LAST-MODIFIED:20260309T204250Z
UID:10008943-1776956400-1776960000@ctionline.org
SUMMARY:Talmud Stories & Teachings Series
DESCRIPTION:Join Rabbi Irwin Huberman for a zoom-only lecture series exploring Stories & Teachings from the Talmud. Discover timeless wisdom from the Talmud and how it applies to today. \nEvent Details \n\nSchedule: Thursdays at 3 PM\nFormat: Zoom-only (ongoing series)\nZoom Meeting Link: https://us02web.zoom.us/j/88558231353+cCylwDVV6F34yQv4OPB69O1ATH7uO.1\nMeeting ID: 885 558 231 353\nPhone In: (646) 558-8656\n\nThis series offers insightful discussions perfect for deepening your understanding of Jewish texts in a convenient online format. \nJoin Us: \nClick the Zoom link to participate—no registration required. For questions\, visit the congregation’s site or contact the office.
URL:https://ctionline.org/event/talmud-stories-teachings-series/2026-04-23/
LOCATION:Congregation Tifereth Israel\, 40 Hill Street\, Glen Cove\, NY\, 11542\, United States
CATEGORIES:Community,Services
ORGANIZER;CN="CTI Office":MAILTO:office@ctionline.org
END:VEVENT
BEGIN:VEVENT
DTSTART;TZID=America/New_York:20260423T161500
DTEND;TZID=America/New_York:20260423T181500
DTSTAMP:20260423T030338
CREATED:20250827T214406Z
LAST-MODIFIED:20250827T214406Z
UID:10006992-1776960900-1776968100@ctionline.org
SUMMARY:Limud
DESCRIPTION:
URL:https://ctionline.org/event/limud-2/2026-04-23/
LOCATION:Congregation Tifereth Israel\, 40 Hill Street\, Glen Cove\, NY\, 11542\, United States
CATEGORIES:Community
END:VEVENT
END:VCALENDAR