BEGIN:VCALENDAR
VERSION:2.0
PRODID:-//Congregation Tifereth Israel - ECPv6.15.17.1//NONSGML v1.0//EN
CALSCALE:GREGORIAN
METHOD:PUBLISH
X-WR-CALNAME:Congregation Tifereth Israel
X-ORIGINAL-URL:https://ctionline.org
X-WR-CALDESC:Events for Congregation Tifereth Israel
REFRESH-INTERVAL;VALUE=DURATION:PT1H
X-Robots-Tag:noindex
X-PUBLISHED-TTL:PT1H
BEGIN:VTIMEZONE
TZID:America/New_York
BEGIN:DAYLIGHT
TZOFFSETFROM:-0500
TZOFFSETTO:-0400
TZNAME:EDT
DTSTART:20250309T070000
END:DAYLIGHT
BEGIN:STANDARD
TZOFFSETFROM:-0400
TZOFFSETTO:-0500
TZNAME:EST
DTSTART:20251102T060000
END:STANDARD
BEGIN:DAYLIGHT
TZOFFSETFROM:-0500
TZOFFSETTO:-0400
TZNAME:EDT
DTSTART:20260308T070000
END:DAYLIGHT
BEGIN:STANDARD
TZOFFSETFROM:-0400
TZOFFSETTO:-0500
TZNAME:EST
DTSTART:20261101T060000
END:STANDARD
BEGIN:DAYLIGHT
TZOFFSETFROM:-0500
TZOFFSETTO:-0400
TZNAME:EDT
DTSTART:20270314T070000
END:DAYLIGHT
BEGIN:STANDARD
TZOFFSETFROM:-0400
TZOFFSETTO:-0500
TZNAME:EST
DTSTART:20271107T060000
END:STANDARD
END:VTIMEZONE
BEGIN:VEVENT
DTSTART;TZID=America/New_York:20260422T081500
DTEND;TZID=America/New_York:20260422T091500
DTSTAMP:20260422T030544
CREATED:20250827T213017Z
LAST-MODIFIED:20250910T104609Z
UID:10005690-1776845700-1776849300@ctionline.org
SUMMARY:Morning Shacharit Minyan
DESCRIPTION:Sim Shalom Siddur:\nhttps://bit.ly/39NPjZe \nMeeting ID: 991 4936 3611\nPasscode: Minyan
URL:https://ctionline.org/event/morning-shacharit-minyan-14/2026-04-22/
LOCATION:Congregation Tifereth Israel\, 40 Hill Street\, Glen Cove\, NY\, 11542\, United States
CATEGORIES:Services
END:VEVENT
BEGIN:VEVENT
DTSTART;TZID=America/New_York:20260422T160000
DTEND;TZID=America/New_York:20260422T170000
DTSTAMP:20260422T030544
CREATED:20250822T170009Z
LAST-MODIFIED:20250910T104810Z
UID:10004010-1776873600-1776877200@ctionline.org
SUMMARY:Drop By And Say Hi ... on Zoom
DESCRIPTION:Meeting ID: 984 9783 7218\nPassword: schmooz
URL:https://ctionline.org/event/drop-by-and-say-hi-on-zoom-39-2/2026-04-22/
LOCATION:https://us06web.zoom.us/j/98497837218
CATEGORIES:Community
ATTACH;FMTTYPE=image/jpeg:https://ctionline.org/wp-content/uploads/2024/02/Remote-Services-2020-1-extend1.jpg
ORGANIZER;CN="CTI Office":MAILTO:office@ctionline.org
END:VEVENT
END:VCALENDAR